BEGIN:VCALENDAR
VERSION:2.0
PRODID:-//Downtown Commons - ECPv6.15.11//NONSGML v1.0//EN
CALSCALE:GREGORIAN
METHOD:PUBLISH
X-ORIGINAL-URL:https://downtowncommons.org
X-WR-CALDESC:Events for Downtown Commons
REFRESH-INTERVAL;VALUE=DURATION:PT1H
X-Robots-Tag:noindex
X-PUBLISHED-TTL:PT1H
BEGIN:VTIMEZONE
TZID:America/Chicago
BEGIN:DAYLIGHT
TZOFFSETFROM:-0600
TZOFFSETTO:-0500
TZNAME:CDT
DTSTART:20180311T080000
END:DAYLIGHT
BEGIN:STANDARD
TZOFFSETFROM:-0500
TZOFFSETTO:-0600
TZNAME:CST
DTSTART:20181104T070000
END:STANDARD
BEGIN:DAYLIGHT
TZOFFSETFROM:-0600
TZOFFSETTO:-0500
TZNAME:CDT
DTSTART:20190310T080000
END:DAYLIGHT
BEGIN:STANDARD
TZOFFSETFROM:-0500
TZOFFSETTO:-0600
TZNAME:CST
DTSTART:20191103T070000
END:STANDARD
BEGIN:DAYLIGHT
TZOFFSETFROM:-0600
TZOFFSETTO:-0500
TZNAME:CDT
DTSTART:20200308T080000
END:DAYLIGHT
BEGIN:STANDARD
TZOFFSETFROM:-0500
TZOFFSETTO:-0600
TZNAME:CST
DTSTART:20201101T070000
END:STANDARD
END:VTIMEZONE
BEGIN:VEVENT
DTSTART;TZID=America/Chicago:20191009T060000
DTEND;TZID=America/Chicago:20191009T184500
DTSTAMP:20260424T112222
CREATED:20190927T194724Z
LAST-MODIFIED:20190927T194724Z
UID:10000631-1570600800-1570646700@downtowncommons.org
SUMMARY:Morning Yoga Class
DESCRIPTION:Join us at Downtown Commons for a morning yoga class from 6-6:45 AM to connect with yourself\, with your community\, and with nature. This is a FREE CLASS! Please bring a yoga mat\, water\, and a friend! \nMorning Yoga Series\nApril 10 & 24\nMay 8 & 22\nJune 12 & 26\nJuly 10 & 24\nAugust 14 & 28\nSeptember 11 & 25\nOctober 9 & 23 \nhttp://downtowncommons.org/yoga/ \nSponsored by NBalance | Hot Yoga & Fitness and Two Rivers Company
URL:https://downtowncommons.org/event/morning-yoga-class/
LOCATION:Downtown Commons\, 215 Legion Street\, Clarksville\, TN\, 37040\, United States
ATTACH;FMTTYPE=image/png:https://downtowncommons.org/wp-content/uploads/2019/07/Copy-of-Yoga-FB-Event.png
END:VEVENT
BEGIN:VEVENT
DTSTART;TZID=America/Chicago:20190828T010000
DTEND;TZID=America/Chicago:20190828T014500
DTSTAMP:20260424T112222
CREATED:20190202T051906Z
LAST-MODIFIED:20190701T212101Z
UID:10000450-1566954000-1566956700@downtowncommons.org
SUMMARY:Morning Yoga Series
DESCRIPTION:Join us at Downtown Commons for a morning yoga class from 6-6:45 AM to connect with yourself\, with your community\, and with nature. This is a FREE CLASS! Please bring a yoga mat\, water\, and a friend! \nMorning Yoga Series\nApril 10 & 24\nMay 8 & 22\nJune 12 & 26\nJuly 10 & 24\nAugust 14 & 28\nSeptember 11 & 25\nOctober 9 & 23 \nhttp://downtowncommons.org/yoga/ \nSponsored by NBalance | Hot Yoga & Fitness and Two Rivers Company
URL:https://downtowncommons.org/event/morning-yoga-series-9/
LOCATION:Downtown Commons\, 215 Legion Street\, Clarksville\, TN\, 37040\, United States
ATTACH;FMTTYPE=image/png:https://downtowncommons.org/wp-content/uploads/2019/07/Copy-of-Yoga-FB-Event.png
END:VEVENT
BEGIN:VEVENT
DTSTART;TZID=America/Chicago:20190522T010000
DTEND;TZID=America/Chicago:20190522T014500
DTSTAMP:20260424T112222
CREATED:20190202T050441Z
LAST-MODIFIED:20190203T004709Z
UID:10000563-1558486800-1558489500@downtowncommons.org
SUMMARY:Morning Yoga Series
DESCRIPTION:Join us at Downtown Commons for a morning yoga class from 6-6:45 AM to connect with yourself\, with your community\, and with nature. This is a FREE CLASS! Please bring a yoga mat\, water\, and a friend! \nMorning Yoga Series \nApril 10 & 24 \nMay 8 & 22 \nJune 12 & 26 \nJuly 10 & 24 \nAugust 14 & 28 \nSeptember 11 & 25 \nOctober 9 & 23
URL:https://downtowncommons.org/event/morning-yoga-series-3/
LOCATION:Downtown Commons\, 215 Legion Street\, Clarksville\, TN\, 37040\, United States
ATTACH;FMTTYPE=image/png:https://downtowncommons.org/wp-content/uploads/2019/02/Yoga-FB-Event.png
END:VEVENT
BEGIN:VEVENT
DTSTART;TZID=America/Chicago:20190424T010000
DTEND;TZID=America/Chicago:20190424T014500
DTSTAMP:20260424T112222
CREATED:20190202T050246Z
LAST-MODIFIED:20190203T004725Z
UID:10000561-1556067600-1556070300@downtowncommons.org
SUMMARY:Morning Yoga Series
DESCRIPTION:Join us at Downtown Commons for a morning yoga class from 6-6:45 AM to connect with yourself\, with your community\, and with nature. This is a FREE CLASS! Please bring a yoga mat\, water\, and a friend! \nMorning Yoga Series \nApril 10 & 24 \nMay 8 & 22 \nJune 12 & 26 \nJuly 10 & 24 \nAugust 14 & 28 \nSeptember 11 & 25 \nOctober 9 & 23
URL:https://downtowncommons.org/event/morning-yoga-series/
LOCATION:Downtown Commons\, 215 Legion Street\, Clarksville\, TN\, 37040\, United States
ATTACH;FMTTYPE=image/png:https://downtowncommons.org/wp-content/uploads/2019/02/Yoga-FB-Event.png
END:VEVENT
BEGIN:VEVENT
DTSTART;TZID=America/Chicago:20190410T010000
DTEND;TZID=America/Chicago:20190410T014500
DTSTAMP:20260424T112222
CREATED:20190202T050045Z
LAST-MODIFIED:20190203T005923Z
UID:10000560-1554858000-1554860700@downtowncommons.org
SUMMARY:Morning Yoga Series
DESCRIPTION:Join us at Downtown Commons for a morning yoga class from 6-6:45 AM to connect with yourself\, with your community\, and with nature. This is a FREE CLASS! Please bring a yoga mat\, water\, and a friend! \nMorning Yoga Series \nApril 10 & 24 \nMay 8 & 22 \nJune 12 & 26 \nJuly 10 & 24 \nAugust 14 & 28 \nSeptember 11 & 25 \nOctober 9 & 23
URL:https://downtowncommons.org/event/morningyoga/
LOCATION:Downtown Commons\, 215 Legion Street\, Clarksville\, TN\, 37040\, United States
ATTACH;FMTTYPE=image/png:https://downtowncommons.org/wp-content/uploads/2019/02/Yoga-FB-Event.png
END:VEVENT
END:VCALENDAR