BEGIN:VCALENDAR
VERSION:2.0
PRODID:-//Downtown Commons - ECPv6.15.11//NONSGML v1.0//EN
CALSCALE:GREGORIAN
METHOD:PUBLISH
X-WR-CALNAME:Downtown Commons
X-ORIGINAL-URL:https://downtowncommons.org
X-WR-CALDESC:Events for Downtown Commons
REFRESH-INTERVAL;VALUE=DURATION:PT1H
X-Robots-Tag:noindex
X-PUBLISHED-TTL:PT1H
BEGIN:VTIMEZONE
TZID:America/Chicago
BEGIN:DAYLIGHT
TZOFFSETFROM:-0600
TZOFFSETTO:-0500
TZNAME:CDT
DTSTART:20180311T080000
END:DAYLIGHT
BEGIN:STANDARD
TZOFFSETFROM:-0500
TZOFFSETTO:-0600
TZNAME:CST
DTSTART:20181104T070000
END:STANDARD
BEGIN:DAYLIGHT
TZOFFSETFROM:-0600
TZOFFSETTO:-0500
TZNAME:CDT
DTSTART:20190310T080000
END:DAYLIGHT
BEGIN:STANDARD
TZOFFSETFROM:-0500
TZOFFSETTO:-0600
TZNAME:CST
DTSTART:20191103T070000
END:STANDARD
BEGIN:DAYLIGHT
TZOFFSETFROM:-0600
TZOFFSETTO:-0500
TZNAME:CDT
DTSTART:20200308T080000
END:DAYLIGHT
BEGIN:STANDARD
TZOFFSETFROM:-0500
TZOFFSETTO:-0600
TZNAME:CST
DTSTART:20201101T070000
END:STANDARD
END:VTIMEZONE
BEGIN:VEVENT
DTSTART;TZID=America/Chicago:20190823T043000
DTEND;TZID=America/Chicago:20190823T060000
DTSTAMP:20260424T144945
CREATED:20190319T023146Z
LAST-MODIFIED:20190319T023146Z
UID:10000579-1566534600-1566540000@downtowncommons.org
SUMMARY:Stroller Workout & Playdate
DESCRIPTION:Join iStroll and Macaroni Kid for the ultimate stroller workout and playdate. \niStroll workout will start at 9:30 and is a 60-minute full body workout including a variety of body weight movements. If this is your first iStroll class\, please arrive 10-15 minutes early to sign a waiver. Bring a workout/yoga mat\, water/snacks\, stroller\, and kiddos. \nJoin us after for playtime: water play\, imaginative building\, an area to run around and play games\, and occasional crafts/sensory activities. \nThese workouts are free and open to our community families – our hope to connect our community families with family-friendly workouts\, connections with our community and downtown vendors and partners\, and a place to connect with other parents and children. \n*We do ask that stroller aged children stay in their stroller for the duration of the workout for safety. A jogging stroller is not necessary . Older children may sit in designated area\, but we ask that they do not run into workout plane for safety. **There will be opportunities for children to join parents in certain safe movements/sets and they will of course get to play after iStroll!
URL:https://downtowncommons.org/event/stroller-workout-playdate-10/
LOCATION:Downtown Commons\, 215 Legion Street\, Clarksville\, TN\, 37040\, United States
ATTACH;FMTTYPE=image/jpeg:https://downtowncommons.org/wp-content/uploads/2019/03/iStroll.jpg
END:VEVENT
BEGIN:VEVENT
DTSTART;TZID=America/Chicago:20190628T043000
DTEND;TZID=America/Chicago:20190628T060000
DTSTAMP:20260424T144945
CREATED:20190319T021858Z
LAST-MODIFIED:20190319T021858Z
UID:10000575-1561696200-1561701600@downtowncommons.org
SUMMARY:Stroller Workout & Playdate
DESCRIPTION:Join iStroll and Macaroni Kid for the ultimate stroller workout and playdate. \niStroll workout will start at 9:30 and is a 60-minute full body workout including a variety of body weight movements. If this is your first iStroll class\, please arrive 10-15 minutes early to sign a waiver. Bring a workout/yoga mat\, water/snacks\, stroller\, and kiddos. \nJoin us after for playtime: water play\, imaginative building\, an area to run around and play games\, and occasional crafts/sensory activities. \nThese workouts are free and open to our community families – our hope to connect our community families with family-friendly workouts\, connections with our community and downtown vendors and partners\, and a place to connect with other parents and children. \n*We do ask that stroller aged children stay in their stroller for the duration of the workout for safety. A jogging stroller is not necessary . Older children may sit in designated area\, but we ask that they do not run into workout plane for safety. **There will be opportunities for children to join parents in certain safe movements/sets and they will of course get to play after iStroll!
URL:https://downtowncommons.org/event/stroller-workout-playdate-6/
LOCATION:Downtown Commons\, 215 Legion Street\, Clarksville\, TN\, 37040\, United States
ATTACH;FMTTYPE=image/jpeg:https://downtowncommons.org/wp-content/uploads/2019/03/iStroll.jpg
END:VEVENT
BEGIN:VEVENT
DTSTART;TZID=America/Chicago:20190614T043000
DTEND;TZID=America/Chicago:20190614T060000
DTSTAMP:20260424T144945
CREATED:20190319T021602Z
LAST-MODIFIED:20190319T021602Z
UID:10000574-1560486600-1560492000@downtowncommons.org
SUMMARY:Stroller Workout & Playdate
DESCRIPTION:Join iStroll and Macaroni Kid for the ultimate stroller workout and playdate. \niStroll workout will start at 9:30 and is a 60-minute full body workout including a variety of body weight movements. If this is your first iStroll class\, please arrive 10-15 minutes early to sign a waiver. Bring a workout/yoga mat\, water/snacks\, stroller\, and kiddos. \nJoin us after for playtime: water play\, imaginative building\, an area to run around and play games\, and occasional crafts/sensory activities. \nThese workouts are free and open to our community families – our hope to connect our community families with family-friendly workouts\, connections with our community and downtown vendors and partners\, and a place to connect with other parents and children. \n*We do ask that stroller aged children stay in their stroller for the duration of the workout for safety. A jogging stroller is not necessary . Older children may sit in designated area\, but we ask that they do not run into workout plane for safety. **There will be opportunities for children to join parents in certain safe movements/sets and they will of course get to play after iStroll!
URL:https://downtowncommons.org/event/stroller-workout-playdate-5/
LOCATION:Downtown Commons\, 215 Legion Street\, Clarksville\, TN\, 37040\, United States
ATTACH;FMTTYPE=image/jpeg:https://downtowncommons.org/wp-content/uploads/2019/03/iStroll.jpg
END:VEVENT
BEGIN:VEVENT
DTSTART;TZID=America/Chicago:20190524T043000
DTEND;TZID=America/Chicago:20190524T060000
DTSTAMP:20260424T144945
CREATED:20190319T021315Z
LAST-MODIFIED:20190319T021315Z
UID:10000469-1558672200-1558677600@downtowncommons.org
SUMMARY:Stroller Workout & Playdate
DESCRIPTION:Join iStroll and Macaroni Kid for the ultimate stroller workout and playdate. \niStroll workout will start at 9:30 and is a 60-minute full body workout including a variety of body weight movements. If this is your first iStroll class\, please arrive 10-15 minutes early to sign a waiver. Bring a workout/yoga mat\, water/snacks\, stroller\, and kiddos. \nJoin us after for playtime: water play\, imaginative building\, an area to run around and play games\, and occasional crafts/sensory activities. \nThese workouts are free and open to our community families – our hope to connect our community families with family-friendly workouts\, connections with our community and downtown vendors and partners\, and a place to connect with other parents and children. \n*We do ask that stroller aged children stay in their stroller for the duration of the workout for safety. A jogging stroller is not necessary . Older children may sit in designated area\, but we ask that they do not run into workout plane for safety. **There will be opportunities for children to join parents in certain safe movements/sets and they will of course get to play after iStroll!
URL:https://downtowncommons.org/event/stroller-workout-playdate-4/
LOCATION:Downtown Commons\, 215 Legion Street\, Clarksville\, TN\, 37040\, United States
ATTACH;FMTTYPE=image/jpeg:https://downtowncommons.org/wp-content/uploads/2019/03/iStroll.jpg
END:VEVENT
BEGIN:VEVENT
DTSTART;TZID=America/Chicago:20190510T043000
DTEND;TZID=America/Chicago:20190510T060000
DTSTAMP:20260424T144945
CREATED:20190319T021042Z
LAST-MODIFIED:20190319T021042Z
UID:10000468-1557462600-1557468000@downtowncommons.org
SUMMARY:Stroller Workout & Playdate
DESCRIPTION:Join iStroll and Macaroni Kid for the ultimate stroller workout and playdate. \niStroll workout will start at 9:30 and is a 60-minute full body workout including a variety of body weight movements. If this is your first iStroll class\, please arrive 10-15 minutes early to sign a waiver. Bring a workout/yoga mat\, water/snacks\, stroller\, and kiddos. \nJoin us after for playtime: water play\, imaginative building\, an area to run around and play games\, and occasional crafts/sensory activities. \nThese workouts are free and open to our community families – our hope to connect our community families with family-friendly workouts\, connections with our community and downtown vendors and partners\, and a place to connect with other parents and children. \n*We do ask that stroller aged children stay in their stroller for the duration of the workout for safety. A jogging stroller is not necessary . Older children may sit in designated area\, but we ask that they do not run into workout plane for safety. **There will be opportunities for children to join parents in certain safe movements/sets and they will of course get to play after iStroll!
URL:https://downtowncommons.org/event/stroller-workout-playdate-3/
LOCATION:Downtown Commons\, 215 Legion Street\, Clarksville\, TN\, 37040\, United States
ATTACH;FMTTYPE=image/jpeg:https://downtowncommons.org/wp-content/uploads/2019/03/iStroll.jpg
END:VEVENT
BEGIN:VEVENT
DTSTART;TZID=America/Chicago:20190426T043000
DTEND;TZID=America/Chicago:20190426T060000
DTSTAMP:20260424T144945
CREATED:20190319T020451Z
LAST-MODIFIED:20190319T020451Z
UID:10000465-1556253000-1556258400@downtowncommons.org
SUMMARY:Stroller Workout & Playdate
DESCRIPTION:Join iStroll and Macaroni Kid for the ultimate stroller workout and playdate. \niStroll workout will start at 9:30 and is a 60-minute full body workout including a variety of body weight movements. If this is your first iStroll class\, please arrive 10-15 minutes early to sign a waiver. Bring a workout/yoga mat\, water/snacks\, stroller\, and kiddos. \nJoin us after for playtime: water play\, imaginative building\, an area to run around and play games\, and occasional crafts/sensory activities. \nThese workouts are free and open to our community families – our hope to connect our community families with family-friendly workouts\, connections with our community and downtown vendors and partners\, and a place to connect with other parents and children. \n*We do ask that stroller aged children stay in their stroller for the duration of the workout for safety. A jogging stroller is not necessary . Older children may sit in designated area\, but we ask that they do not run into workout plane for safety. **There will be opportunities for children to join parents in certain safe movements/sets and they will of course get to play after iStroll!
URL:https://downtowncommons.org/event/stroller-workout-playdate-2/
LOCATION:Downtown Commons\, 215 Legion Street\, Clarksville\, TN\, 37040\, United States
ATTACH;FMTTYPE=image/jpeg:https://downtowncommons.org/wp-content/uploads/2019/03/iStroll.jpg
END:VEVENT
END:VCALENDAR