BEGIN:VCALENDAR
VERSION:2.0
PRODID:-//Downtown Commons - ECPv6.15.11//NONSGML v1.0//EN
CALSCALE:GREGORIAN
METHOD:PUBLISH
X-WR-CALNAME:Downtown Commons
X-ORIGINAL-URL:https://downtowncommons.org
X-WR-CALDESC:Events for Downtown Commons
REFRESH-INTERVAL;VALUE=DURATION:PT1H
X-Robots-Tag:noindex
X-PUBLISHED-TTL:PT1H
BEGIN:VTIMEZONE
TZID:America/Chicago
BEGIN:DAYLIGHT
TZOFFSETFROM:-0600
TZOFFSETTO:-0500
TZNAME:CDT
DTSTART:20180311T080000
END:DAYLIGHT
BEGIN:STANDARD
TZOFFSETFROM:-0500
TZOFFSETTO:-0600
TZNAME:CST
DTSTART:20181104T070000
END:STANDARD
BEGIN:DAYLIGHT
TZOFFSETFROM:-0600
TZOFFSETTO:-0500
TZNAME:CDT
DTSTART:20190310T080000
END:DAYLIGHT
BEGIN:STANDARD
TZOFFSETFROM:-0500
TZOFFSETTO:-0600
TZNAME:CST
DTSTART:20191103T070000
END:STANDARD
BEGIN:DAYLIGHT
TZOFFSETFROM:-0600
TZOFFSETTO:-0500
TZNAME:CDT
DTSTART:20200308T080000
END:DAYLIGHT
BEGIN:STANDARD
TZOFFSETFROM:-0500
TZOFFSETTO:-0600
TZNAME:CST
DTSTART:20201101T070000
END:STANDARD
END:VTIMEZONE
BEGIN:VEVENT
DTSTART;TZID=America/Chicago:20190413T040000
DTEND;TZID=America/Chicago:20190413T090000
DTSTAMP:20260424T163006
CREATED:20190122T085802Z
LAST-MODIFIED:20190122T085802Z
UID:10000559-1555128000-1555146000@downtowncommons.org
SUMMARY:Clarksville Princess Festival
DESCRIPTION:Clarksville Princess Festival is a free event made especially for your Clarksville Princess loving kids. There is festivals for everything but it’s due time for the most magical one of them all. We promote family play and togetherness and aim to feed the imagination of children while developing that same imagination in parents too. \nThe highlight to the event will be a parade of every princess there is\, princess shows\, singing\, dancing\, and all sorts of royal free fun. Dress in your favorite princess dresses. \nA limited number of children will be able to join the parade with the princesses and registration is open. \nThe sweetest part is our royal cupcake competition and cupcake decorating where your child could be crowned queen of sweets and take home the title. These are all free events so first come first serve and registration is recommended. \nThis is a Vendor event so there will be kid friendly vendors there so bring cash. \nVendor and sponsors application is open. \nOur huge Kid zone for princess meets\, bounce houses\, face paint\, balloons\, crafts\, games\, and more will have wrist bands available. Wristbands and tickets will be sold inside of the kid zone.
URL:https://downtowncommons.org/event/clarksville-princess-festival/
LOCATION:Downtown Commons\, 215 Legion Street\, Clarksville\, TN\, 37040\, United States
ATTACH;FMTTYPE=image/jpeg:https://downtowncommons.org/wp-content/uploads/2019/01/Princess-Festival-2019.jpg
END:VEVENT
END:VCALENDAR