BEGIN:VCALENDAR
VERSION:2.0
PRODID:-//Downtown Commons - ECPv6.15.11//NONSGML v1.0//EN
CALSCALE:GREGORIAN
METHOD:PUBLISH
X-ORIGINAL-URL:https://downtowncommons.org
X-WR-CALDESC:Events for Downtown Commons
REFRESH-INTERVAL;VALUE=DURATION:PT1H
X-Robots-Tag:noindex
X-PUBLISHED-TTL:PT1H
BEGIN:VTIMEZONE
TZID:America/Chicago
BEGIN:DAYLIGHT
TZOFFSETFROM:-0600
TZOFFSETTO:-0500
TZNAME:CDT
DTSTART:20170312T080000
END:DAYLIGHT
BEGIN:STANDARD
TZOFFSETFROM:-0500
TZOFFSETTO:-0600
TZNAME:CST
DTSTART:20171105T070000
END:STANDARD
BEGIN:DAYLIGHT
TZOFFSETFROM:-0600
TZOFFSETTO:-0500
TZNAME:CDT
DTSTART:20180311T080000
END:DAYLIGHT
BEGIN:STANDARD
TZOFFSETFROM:-0500
TZOFFSETTO:-0600
TZNAME:CST
DTSTART:20181104T070000
END:STANDARD
BEGIN:DAYLIGHT
TZOFFSETFROM:-0600
TZOFFSETTO:-0500
TZNAME:CDT
DTSTART:20190310T080000
END:DAYLIGHT
BEGIN:STANDARD
TZOFFSETFROM:-0500
TZOFFSETTO:-0600
TZNAME:CST
DTSTART:20191103T070000
END:STANDARD
BEGIN:DAYLIGHT
TZOFFSETFROM:-0600
TZOFFSETTO:-0500
TZNAME:CDT
DTSTART:20200308T080000
END:DAYLIGHT
BEGIN:STANDARD
TZOFFSETFROM:-0500
TZOFFSETTO:-0600
TZNAME:CST
DTSTART:20201101T070000
END:STANDARD
END:VTIMEZONE
BEGIN:VEVENT
DTSTART;TZID=America/Chicago:20190601T160000
DTEND;TZID=America/Chicago:20190601T230000
DTSTAMP:20260424T192019
CREATED:20190426T193449Z
LAST-MODIFIED:20190530T193757Z
UID:10000597-1559404800-1559430000@downtowncommons.org
SUMMARY:TN Red White & Brewfest
DESCRIPTION:Join us on Saturday\, June 1st for the 8th Annual TN Red\, White & Brewfest at the Downtown Commons in Clarksville!\n  \n– Over 80 Microbrews & Craft Beers from our LOCAL CRAFT BREWERIES! \n\nAssitude Ciders\nThe Black Abbey Brewing Company\nBlackhorse Pub & Brewery\nClarksville Carboys\nEvill Nash Brewing Co.\nFlytes Brewhouse\nGladiator Brewing Co.\nKingsbluffbrewery\nTennessee Valley Brewing Company\nThe Fallen Brewery\n\n– LIVE Music by Fever \n– Food Vendors \n  \nAll proceeds to benefit Bikers Who Care children’s charities.\n  \nMust be 21+ to attend! No pets!\nTickets:\n$25 in Advance Before 5/31\n$35 on Day of Event 6/1\n\nGet Your Tickets Before They Sell Out & Save $10.\nTicket on sale now.
URL:https://downtowncommons.org/event/tn-red-white-brewfest/
LOCATION:Downtown Commons\, 215 Legion Street\, Clarksville\, TN\, 37040\, United States
ATTACH;FMTTYPE=image/jpeg:https://downtowncommons.org/wp-content/uploads/2019/04/Brew.jpg
END:VEVENT
BEGIN:VEVENT
DTSTART;TZID=America/Chicago:20180609T130000
DTEND;TZID=America/Chicago:20180609T180000
DTSTAMP:20260424T192019
CREATED:20180417T073044Z
LAST-MODIFIED:20180524T182819Z
UID:10000518-1528549200-1528567200@downtowncommons.org
SUMMARY:7th Annual - Red\, White & Brew Fest
DESCRIPTION:Saturday\, June 9th\, 2018\n6:00 PM – 11:00 PM.\n\nCome enjoy micro & craft brews\, live music\, food vendors\, a corn hole tournament\, cigar tent and more! \nALL proceeds to benefit Bikers Who Care children’s charity! \n21 & Up. Please drink responsibly. \n  \nTickets Available- Here
URL:https://downtowncommons.org/event/7th-annual-red-white-and-brew-fest/
LOCATION:Downtown Commons\, 215 Legion Street\, Clarksville\, TN\, 37040\, United States
ATTACH;FMTTYPE=image/png:https://downtowncommons.org/wp-content/uploads/2018/04/HorizontalLogo_2018TNRedWhiteBrewFest_BWC-1-e1527166610571.png
END:VEVENT
END:VCALENDAR