BEGIN:VCALENDAR
VERSION:2.0
PRODID:-//Downtown Commons - ECPv6.15.11//NONSGML v1.0//EN
CALSCALE:GREGORIAN
METHOD:PUBLISH
X-ORIGINAL-URL:https://downtowncommons.org
X-WR-CALDESC:Events for Downtown Commons
REFRESH-INTERVAL;VALUE=DURATION:PT1H
X-Robots-Tag:noindex
X-PUBLISHED-TTL:PT1H
BEGIN:VTIMEZONE
TZID:America/Chicago
BEGIN:DAYLIGHT
TZOFFSETFROM:-0600
TZOFFSETTO:-0500
TZNAME:CDT
DTSTART:20250309T080000
END:DAYLIGHT
BEGIN:STANDARD
TZOFFSETFROM:-0500
TZOFFSETTO:-0600
TZNAME:CST
DTSTART:20251102T070000
END:STANDARD
BEGIN:DAYLIGHT
TZOFFSETFROM:-0600
TZOFFSETTO:-0500
TZNAME:CDT
DTSTART:20260308T080000
END:DAYLIGHT
BEGIN:STANDARD
TZOFFSETFROM:-0500
TZOFFSETTO:-0600
TZNAME:CST
DTSTART:20261101T070000
END:STANDARD
BEGIN:DAYLIGHT
TZOFFSETFROM:-0600
TZOFFSETTO:-0500
TZNAME:CDT
DTSTART:20270314T080000
END:DAYLIGHT
BEGIN:STANDARD
TZOFFSETFROM:-0500
TZOFFSETTO:-0600
TZNAME:CST
DTSTART:20271107T070000
END:STANDARD
END:VTIMEZONE
BEGIN:VEVENT
DTSTART;TZID=America/Chicago:20260421T190000
DTEND;TZID=America/Chicago:20260421T200000
DTSTAMP:20260421T053351
CREATED:20260203T194928Z
LAST-MODIFIED:20260310T135608Z
UID:10001062-1776798000-1776801600@downtowncommons.org
SUMMARY:Sunset Yoga
DESCRIPTION:Unwind with Sunset Yoga at the Downtown Commons! Bring your yoga mat\, a water bottle\, and a friend as we relax and rejuvenate together. We can’t wait to wrap up the day with you in the heart of our city!\n\nA big thank you to NBalance | Hot Yoga & Fitness for guiding this session. This event is free and open to the public. \nFor the latest updates\, including weather-related announcements\, please visit us on Facebook! 
URL:https://downtowncommons.org/event/sunset-yoga-26-2/
LOCATION:Downtown Commons\, 215 Legion Street\, Clarksville\, TN\, 37040\, United States
END:VEVENT
BEGIN:VEVENT
DTSTART;TZID=America/Chicago:20260425T110000
DTEND;TZID=America/Chicago:20260425T150000
DTSTAMP:20260421T053351
CREATED:20260203T195024Z
LAST-MODIFIED:20260206T173958Z
UID:10001063-1777114800-1777129200@downtowncommons.org
SUMMARY:Kid Palooza
DESCRIPTION:This annual free and open-to-the public event invites families to the Downtown Commons to bounce around on interactive inflatables\, visit with balloon artists and face painters and challenge your friends to lawn games! \nFood trucks will also be on-site with food for purchase. 
URL:https://downtowncommons.org/event/kid-palooza-3/
LOCATION:Downtown Commons\, 215 Legion Street\, Clarksville\, TN\, 37040\, United States
END:VEVENT
END:VCALENDAR