BEGIN:VCALENDAR
VERSION:2.0
PRODID:-//Downtown Commons - ECPv6.15.11//NONSGML v1.0//EN
CALSCALE:GREGORIAN
METHOD:PUBLISH
X-ORIGINAL-URL:https://downtowncommons.org
X-WR-CALDESC:Events for Downtown Commons
REFRESH-INTERVAL;VALUE=DURATION:PT1H
X-Robots-Tag:noindex
X-PUBLISHED-TTL:PT1H
BEGIN:VTIMEZONE
TZID:America/Chicago
BEGIN:DAYLIGHT
TZOFFSETFROM:-0600
TZOFFSETTO:-0500
TZNAME:CDT
DTSTART:20250309T080000
END:DAYLIGHT
BEGIN:STANDARD
TZOFFSETFROM:-0500
TZOFFSETTO:-0600
TZNAME:CST
DTSTART:20251102T070000
END:STANDARD
BEGIN:DAYLIGHT
TZOFFSETFROM:-0600
TZOFFSETTO:-0500
TZNAME:CDT
DTSTART:20260308T080000
END:DAYLIGHT
BEGIN:STANDARD
TZOFFSETFROM:-0500
TZOFFSETTO:-0600
TZNAME:CST
DTSTART:20261101T070000
END:STANDARD
BEGIN:DAYLIGHT
TZOFFSETFROM:-0600
TZOFFSETTO:-0500
TZNAME:CDT
DTSTART:20270314T080000
END:DAYLIGHT
BEGIN:STANDARD
TZOFFSETFROM:-0500
TZOFFSETTO:-0600
TZNAME:CST
DTSTART:20271107T070000
END:STANDARD
END:VTIMEZONE
BEGIN:VEVENT
DTSTART;TZID=America/Chicago:20260903T180000
DTEND;TZID=America/Chicago:20260903T200000
DTSTAMP:20260421T131122
CREATED:20260205T162738Z
LAST-MODIFIED:20260206T150334Z
UID:10001097-1788458400-1788465600@downtowncommons.org
SUMMARY:Downtown Local Sound
DESCRIPTION:Join us Thursday\, August 3!  \nOn select Thursdays from August to October\, the Downtown Commons will be a live music venue for local musicians\, offering free live performances. Guests can grab a bite to eat or a drink from local restaurants and enjoy an evening of art\, music\, and community.
URL:https://downtowncommons.org/event/downtown-local-sound-2/
LOCATION:Downtown Commons\, 215 Legion Street\, Clarksville\, TN\, 37040\, United States
END:VEVENT
BEGIN:VEVENT
DTSTART;TZID=America/Chicago:20260904T190000
DTEND;TZID=America/Chicago:20260904T210000
DTSTAMP:20260421T131122
CREATED:20260206T141254Z
LAST-MODIFIED:20260206T141408Z
UID:10001099-1788548400-1788555600@downtowncommons.org
SUMMARY:Downtown @ Sundown
DESCRIPTION:Join us on September 4th to hear!  \nThe Downtown @ Sundown Concert Series will be held on select Fridays May through October. Each event will offer a night of free music and entertainment.  \nBeer and other beverages will be for sale accompanied by a variety of food trucks will line up on Main Street.   \nChairs and blankets are welcome; however\, pets\, coolers\, smoking/vaping or outside alcohol will not be allowed on site.  \nDowntown @ Sundown is brought to you by Tristar Beverage Clarksville and F&M Bank.
URL:https://downtowncommons.org/event/downtown-sundown-31/
LOCATION:Downtown Commons\, 215 Legion Street\, Clarksville\, TN\, 37040\, United States
END:VEVENT
BEGIN:VEVENT
DTSTART;TZID=America/Chicago:20260908T180000
DTEND;TZID=America/Chicago:20260908T190000
DTSTAMP:20260421T131122
CREATED:20260206T141543Z
LAST-MODIFIED:20260310T141114Z
UID:10001100-1788890400-1788894000@downtowncommons.org
SUMMARY:Sunset Yoga
DESCRIPTION:Join us for sunset yoga at the Downtown Commons! Please bring a mat\, bottle of water\, and a friend. We look forward to ending our day with you in the heart of our city! \nThank you to NBalance | Hot Yoga & Fitness for leading this class! \nFor the latest updates\, including weather-related announcements\, please visit the event page on Facebook!
URL:https://downtowncommons.org/event/sunset-yoga-27/
LOCATION:Downtown Commons\, 215 Legion Street\, Clarksville\, TN\, 37040\, United States
END:VEVENT
BEGIN:VEVENT
DTSTART;TZID=America/Chicago:20260911T190000
DTEND;TZID=America/Chicago:20260911T210000
DTSTAMP:20260421T131122
CREATED:20260206T141829Z
LAST-MODIFIED:20260206T190035Z
UID:10001101-1789153200-1789160400@downtowncommons.org
SUMMARY:Dueling Pianos
DESCRIPTION:Join us for a lively evening of Dueling Pianos at Downtown Commons on September 11th\, starting at 7:00 PM. \nEnjoy the dynamic entertainment as talented pianists engage in friendly musical competition. This event is free and open to the public.
URL:https://downtowncommons.org/event/dueling-pianos-7/
LOCATION:Downtown Commons\, 215 Legion Street\, Clarksville\, TN\, 37040\, United States
END:VEVENT
BEGIN:VEVENT
DTSTART;TZID=America/Chicago:20260918T190000
DTEND;TZID=America/Chicago:20260918T210000
DTSTAMP:20260421T131122
CREATED:20260206T142122Z
LAST-MODIFIED:20260206T142945Z
UID:10001102-1789758000-1789765200@downtowncommons.org
SUMMARY:Downtown @ Sundown
DESCRIPTION:Join us on September 18th! \nThe Downtown @ Sundown Concert Series will be held on select Fridays May through October. Each event will offer a night of free music and entertainment. Beer and other beverages will be for sale accompanied by a variety of food trucks will line up on Main Street.   \nChairs and blankets are welcome; however\, pets\, coolers\, smoking/vaping or outside alcohol will not be allowed on site.  \nDowntown @ Sundown is brought to you by Tristar Beverage Clarksville and F&M Bank.
URL:https://downtowncommons.org/event/downtown-sundown-32/
LOCATION:Downtown Commons\, 215 Legion Street\, Clarksville\, TN\, 37040\, United States
END:VEVENT
END:VCALENDAR