BEGIN:VCALENDAR
VERSION:2.0
PRODID:-//Downtown Commons - ECPv6.15.11//NONSGML v1.0//EN
CALSCALE:GREGORIAN
METHOD:PUBLISH
X-WR-CALNAME:Downtown Commons
X-ORIGINAL-URL:https://downtowncommons.org
X-WR-CALDESC:Events for Downtown Commons
REFRESH-INTERVAL;VALUE=DURATION:PT1H
X-Robots-Tag:noindex
X-PUBLISHED-TTL:PT1H
BEGIN:VTIMEZONE
TZID:America/Chicago
BEGIN:DAYLIGHT
TZOFFSETFROM:-0600
TZOFFSETTO:-0500
TZNAME:CDT
DTSTART:20250309T080000
END:DAYLIGHT
BEGIN:STANDARD
TZOFFSETFROM:-0500
TZOFFSETTO:-0600
TZNAME:CST
DTSTART:20251102T070000
END:STANDARD
BEGIN:DAYLIGHT
TZOFFSETFROM:-0600
TZOFFSETTO:-0500
TZNAME:CDT
DTSTART:20260308T080000
END:DAYLIGHT
BEGIN:STANDARD
TZOFFSETFROM:-0500
TZOFFSETTO:-0600
TZNAME:CST
DTSTART:20261101T070000
END:STANDARD
BEGIN:DAYLIGHT
TZOFFSETFROM:-0600
TZOFFSETTO:-0500
TZNAME:CDT
DTSTART:20270314T080000
END:DAYLIGHT
BEGIN:STANDARD
TZOFFSETFROM:-0500
TZOFFSETTO:-0600
TZNAME:CST
DTSTART:20271107T070000
END:STANDARD
END:VTIMEZONE
BEGIN:VEVENT
DTSTART;TZID=America/Chicago:20260205T170000
DTEND;TZID=America/Chicago:20260205T190000
DTSTAMP:20260421T083401
CREATED:20260206T154446Z
LAST-MODIFIED:20260206T154446Z
UID:10001114-1770310800-1770318000@downtowncommons.org
SUMMARY:Lighted Christmas Parade
DESCRIPTION:The annual Lighted Christmas Parade\, jointly presented by the City of Clarksville and Montgomery County\, will be held Saturday\, December 5th at 5 p.m.  \nBusinesses\, civic organizations\, government agencies\, and churches are invited to be a part of this tradition by preparing a float or driving a fun vehicle all decked out in holiday cheer!🎄🎅
URL:https://downtowncommons.org/event/christmas-tree-lighting-2/
LOCATION:Downtown Commons\, 215 Legion Street\, Clarksville\, TN\, 37040\, United States
END:VEVENT
BEGIN:VEVENT
DTSTART;TZID=America/Chicago:20260205T170000
DTEND;TZID=America/Chicago:20260205T190000
DTSTAMP:20260421T083401
CREATED:20260206T154633Z
LAST-MODIFIED:20260206T154633Z
UID:10001115-1770310800-1770318000@downtowncommons.org
SUMMARY:Lighted Christmas Parade
DESCRIPTION:The annual Lighted Christmas Parade\, jointly presented by the City of Clarksville and Montgomery County\, will be held Saturday\, December 5th at 5 p.m.  \nBusinesses\, civic organizations\, government agencies\, and churches are invited to be a part of this tradition by preparing a float or driving a fun vehicle all decked out in holiday cheer!🎄🎅
URL:https://downtowncommons.org/event/lighted-christmas-parade/
LOCATION:Downtown Commons\, 215 Legion Street\, Clarksville\, TN\, 37040\, United States
END:VEVENT
END:VCALENDAR