BEGIN:VCALENDAR
VERSION:2.0
PRODID:-//Downtown Commons - ECPv6.15.11//NONSGML v1.0//EN
CALSCALE:GREGORIAN
METHOD:PUBLISH
X-ORIGINAL-URL:https://downtowncommons.org
X-WR-CALDESC:Events for Downtown Commons
REFRESH-INTERVAL;VALUE=DURATION:PT1H
X-Robots-Tag:noindex
X-PUBLISHED-TTL:PT1H
BEGIN:VTIMEZONE
TZID:America/Chicago
BEGIN:DAYLIGHT
TZOFFSETFROM:-0600
TZOFFSETTO:-0500
TZNAME:CDT
DTSTART:20240310T080000
END:DAYLIGHT
BEGIN:STANDARD
TZOFFSETFROM:-0500
TZOFFSETTO:-0600
TZNAME:CST
DTSTART:20241103T070000
END:STANDARD
BEGIN:DAYLIGHT
TZOFFSETFROM:-0600
TZOFFSETTO:-0500
TZNAME:CDT
DTSTART:20250309T080000
END:DAYLIGHT
BEGIN:STANDARD
TZOFFSETFROM:-0500
TZOFFSETTO:-0600
TZNAME:CST
DTSTART:20251102T070000
END:STANDARD
BEGIN:DAYLIGHT
TZOFFSETFROM:-0600
TZOFFSETTO:-0500
TZNAME:CDT
DTSTART:20260308T080000
END:DAYLIGHT
BEGIN:STANDARD
TZOFFSETFROM:-0500
TZOFFSETTO:-0600
TZNAME:CST
DTSTART:20261101T070000
END:STANDARD
BEGIN:DAYLIGHT
TZOFFSETFROM:-0600
TZOFFSETTO:-0500
TZNAME:CDT
DTSTART:20270314T080000
END:DAYLIGHT
BEGIN:STANDARD
TZOFFSETFROM:-0500
TZOFFSETTO:-0600
TZNAME:CST
DTSTART:20271107T070000
END:STANDARD
END:VTIMEZONE
BEGIN:VEVENT
DTSTART;TZID=America/Chicago:20251206T140000
DTEND;TZID=America/Chicago:20251206T160000
DTSTAMP:20260421T120556
CREATED:20250218T141554Z
LAST-MODIFIED:20251105T155141Z
UID:10001042-1765029600-1765036800@downtowncommons.org
SUMMARY:SpiritFest
DESCRIPTION:  \nSpiritfest is happening this Saturday\, December 6\, from 2-4:30 p.m. in downtown Clarksville! At the Downtown Commons\, we will have live music\, Santa\, kids’ activities and food trucks. \n\n\n\n\nVisit the surrounding locations below for more holiday fun:\n\n Trinity Parish Hall (317 Franklin St.): Warm up with cookies and hot chocolate.\n First Presbyterian Chapel (213 Main St.): Dress up for a live nativity with real animals!\n First Presbyterian Fellowship Hall: Art\, music\, non-profits\, and coffee.\n\n\n\n\nStick around for the Downtown Commons Tree Lighting at 4:30 p.m. and the Lighted Christmas Parade at 5 p.m. Don’t miss this festive afternoon to kick off the season!
URL:https://downtowncommons.org/event/spiritfest-2025/
LOCATION:Downtown Commons\, 215 Legion Street\, Clarksville\, TN\, 37040\, United States
END:VEVENT
BEGIN:VEVENT
DTSTART;TZID=America/Chicago:20251206T163000
DTEND;TZID=America/Chicago:20251206T170000
DTSTAMP:20260421T120556
CREATED:20250218T141705Z
LAST-MODIFIED:20251105T135941Z
UID:10001043-1765038600-1765040400@downtowncommons.org
SUMMARY:Christmas Tree Lighting Ceremony
DESCRIPTION:Join us on December 6 to watch the lighting of the Montgomery County Christmas Tree at 4:30 pm and stay for the Lighted Christmas Parade at 5:00 pm.\nPrior to the Christmas Tree Lighting\, SpiritFest will be taking place from 2:00-4:00 pm on the lawn of Downtown Commons\, First Presbyterian\, and Trinity Episcopal Parish \nFor more information\, including weather updates\, please visit us on Facebook!
URL:https://downtowncommons.org/event/christmas-tree-lighting-ceremony/
LOCATION:Downtown Commons\, 215 Legion Street\, Clarksville\, TN\, 37040\, United States
END:VEVENT
BEGIN:VEVENT
DTSTART;TZID=America/Chicago:20251222T180000
DTEND;TZID=America/Chicago:20251222T200000
DTSTAMP:20260421T120556
CREATED:20250218T141941Z
LAST-MODIFIED:20251104T203853Z
UID:10001044-1766426400-1766433600@downtowncommons.org
SUMMARY:Ice Sculpting & MoCo Movie Night
DESCRIPTION:Join us December 22 at 6 PM for National Lampoon’s Christmas Vacation\, plus live ice sculpting by Joshua Perry from Burgasm during the movie. It’s a Christmas classic with a frosty twist! \nFor more information\, including weather updates\, visit us on Facebook!
URL:https://downtowncommons.org/event/moco-movie-night-national-lampoons-christmas-vacation-ft-live-ice-sculpting/
LOCATION:Downtown Commons\, 215 Legion Street\, Clarksville\, TN\, 37040\, United States
END:VEVENT
BEGIN:VEVENT
DTSTART;TZID=America/Chicago:20251231T210000
DTEND;TZID=America/Chicago:20260101T000000
DTSTAMP:20260421T120556
CREATED:20250218T142126Z
LAST-MODIFIED:20251104T203324Z
UID:10001045-1767214800-1767225600@downtowncommons.org
SUMMARY:New Year's Eve Party
DESCRIPTION:Beginning at 9:00 PM on December 31st\, we will kick off our third-annual New Year’s Eve Party of Montgomery County\, with presenting sponsor Austin Peay State University! Thank you to TriStar Beverage of Clarksville for sponsoring our bars for the evening. \nJoin us for a night of singing\, dancing\, and enjoying delicious food as we enter 2026! We’ll have a live band\, dance floor\, photo-booth trailer\, food trucks\, a balloon drop\, and a surprise at midnight. This is a once-a-year event you don’t want to miss! Best of all\, this event is free and open to the public \nFor more information\, including weather updates\, please visit us on Facebook
URL:https://downtowncommons.org/event/new-years-eve-party/
LOCATION:Downtown Commons\, 215 Legion Street\, Clarksville\, TN\, 37040\, United States
END:VEVENT
END:VCALENDAR