BEGIN:VCALENDAR
VERSION:2.0
PRODID:-//Downtown Commons - ECPv6.15.11//NONSGML v1.0//EN
CALSCALE:GREGORIAN
METHOD:PUBLISH
X-WR-CALNAME:Downtown Commons
X-ORIGINAL-URL:https://downtowncommons.org
X-WR-CALDESC:Events for Downtown Commons
REFRESH-INTERVAL;VALUE=DURATION:PT1H
X-Robots-Tag:noindex
X-PUBLISHED-TTL:PT1H
BEGIN:VTIMEZONE
TZID:America/Chicago
BEGIN:DAYLIGHT
TZOFFSETFROM:-0600
TZOFFSETTO:-0500
TZNAME:CDT
DTSTART:20240310T080000
END:DAYLIGHT
BEGIN:STANDARD
TZOFFSETFROM:-0500
TZOFFSETTO:-0600
TZNAME:CST
DTSTART:20241103T070000
END:STANDARD
BEGIN:DAYLIGHT
TZOFFSETFROM:-0600
TZOFFSETTO:-0500
TZNAME:CDT
DTSTART:20250309T080000
END:DAYLIGHT
BEGIN:STANDARD
TZOFFSETFROM:-0500
TZOFFSETTO:-0600
TZNAME:CST
DTSTART:20251102T070000
END:STANDARD
BEGIN:DAYLIGHT
TZOFFSETFROM:-0600
TZOFFSETTO:-0500
TZNAME:CDT
DTSTART:20260308T080000
END:DAYLIGHT
BEGIN:STANDARD
TZOFFSETFROM:-0500
TZOFFSETTO:-0600
TZNAME:CST
DTSTART:20261101T070000
END:STANDARD
END:VTIMEZONE
BEGIN:VEVENT
DTSTART;TZID=America/Chicago:20250904T180000
DTEND;TZID=America/Chicago:20250904T200000
DTSTAMP:20260421T173239
CREATED:20250214T221515Z
LAST-MODIFIED:20250822T193437Z
UID:10001029-1757008800-1757016000@downtowncommons.org
SUMMARY:Downtown Local Sound
DESCRIPTION:Join us Thursday\, September 4 for live music by Estrogenesis and Phantom! \nOn the first Thursday from May to October\, the Downtown Commons will be a live music venue for local musicians\, offering free live performances. Guests can grab a bite to eat or a drink from Wolf Down\, which is located at the Downtown Commons\, and enjoy an evening of art\, music\, and community.  \nFor more information and weather updates\, please visit us on Facebook!
URL:https://downtowncommons.org/event/artwalk-featuring-live-music-4/
LOCATION:Downtown Commons\, 215 Legion Street\, Clarksville\, TN\, 37040\, United States
END:VEVENT
BEGIN:VEVENT
DTSTART;TZID=America/Chicago:20250905T190000
DTEND;TZID=America/Chicago:20250905T210000
DTSTAMP:20260421T173239
CREATED:20250214T221722Z
LAST-MODIFIED:20250417T125333Z
UID:10001030-1757098800-1757106000@downtowncommons.org
SUMMARY:Downtown @ Sundown: Wonderlove
DESCRIPTION:Join us on September 5th to hear Wonderlove\, a vibrant Stevie Wonder tribute band!  \nThe Downtown @ Sundown Concert Series will be held on select Fridays May through October. Each event will offer a night of free music and entertainment. Beer and other beverages will be for sale accompanied by a variety of food trucks will line up on Main Street.   \nChairs and blankets are welcome; however\, pets\, coolers\, smoking/vaping or outside alcohol will not be allowed on site.  \nFor more information and weather updates\, please visit us on Facebook! \nVisit downtowncommons.org for the full lineup!
URL:https://downtowncommons.org/event/downtown-sundown-wonderlove/
LOCATION:Downtown Commons\, 215 Legion Street\, Clarksville\, TN\, 37040\, United States
END:VEVENT
BEGIN:VEVENT
DTSTART;TZID=America/Chicago:20250909T180000
DTEND;TZID=America/Chicago:20250909T190000
DTSTAMP:20260421T173239
CREATED:20250214T221758Z
LAST-MODIFIED:20250416T214242Z
UID:10001031-1757440800-1757444400@downtowncommons.org
SUMMARY:Sunset Yoga
DESCRIPTION:Join us for sunset yoga at the Downtown Commons! Please bring a mat\, bottle of water\, and a friend. We look forward to ending our day with you in the heart of our city!  \nThank you to NBalance | Hot Yoga & Fitness for leading this class!  \nFor more information and weather updates\, please visit us on Facebook!
URL:https://downtowncommons.org/event/sunset-yoga-23/
LOCATION:Downtown Commons\, 215 Legion Street\, Clarksville\, TN\, 37040\, United States
END:VEVENT
BEGIN:VEVENT
DTSTART;TZID=America/Chicago:20250912T070000
DTEND;TZID=America/Chicago:20250912T210000
DTSTAMP:20260421T173239
CREATED:20250214T221847Z
LAST-MODIFIED:20250417T123321Z
UID:10001032-1757660400-1757710800@downtowncommons.org
SUMMARY:Dueling Pianos
DESCRIPTION:Join us for an evening of Dueling Pianos at Downtown Commons on September 12\, starting at 7 p.m. Enjoy the live music as talented pianists engage in friendly musical competition. This event is free and open to the public. \nFood will be available for purchase from Wolf Down and from food trucks located on Main Street. \nFor more information and weather updates\, please visit us on Facebook!
URL:https://downtowncommons.org/event/dueling-pianos-5/
LOCATION:Downtown Commons\, 215 Legion Street\, Clarksville\, TN\, 37040\, United States
END:VEVENT
BEGIN:VEVENT
DTSTART;TZID=America/Chicago:20250913T100000
DTEND;TZID=America/Chicago:20250913T150000
DTSTAMP:20260421T173239
CREATED:20250214T222227Z
LAST-MODIFIED:20250904T153156Z
UID:10001033-1757757600-1757775600@downtowncommons.org
SUMMARY:Govs Creative Arts Festival - Community Event
DESCRIPTION:Please join us in celebrating the creativity and artistic styles that come from our very own Austin Peay State University Govs! This community event is open to the public!
URL:https://downtowncommons.org/event/govs-creative-arts-festival/
LOCATION:Downtown Commons\, 215 Legion Street\, Clarksville\, TN\, 37040\, United States
END:VEVENT
BEGIN:VEVENT
DTSTART;TZID=America/Chicago:20250919T190000
DTEND;TZID=America/Chicago:20250919T210000
DTSTAMP:20260421T173239
CREATED:20250214T222445Z
LAST-MODIFIED:20250417T123622Z
UID:10001034-1758308400-1758315600@downtowncommons.org
SUMMARY:Downtown @ Sundown: Mellencougar
DESCRIPTION:Join us on September 19th to hear Mellencougar\, a John Mellencamp tribute band!   \nThe Downtown @ Sundown Concert Series will be held on select Fridays May through October. Each event will offer a night of free music and entertainment. Beer and other beverages will be for sale accompanied by a variety of food trucks will line up on Main Street.   \nChairs and blankets are welcome; however\, pets\, coolers\, smoking/vaping or outside alcohol will not be allowed on site.  \nFor more information and weather updates\, please visit us on Facebook! \nVisit downtowncommons.org for the full lineup!
URL:https://downtowncommons.org/event/downtown-sundown-crush/
LOCATION:Downtown Commons\, 215 Legion Street\, Clarksville\, TN\, 37040\, United States
END:VEVENT
BEGIN:VEVENT
DTSTART;TZID=America/Chicago:20250924T180000
DTEND;TZID=America/Chicago:20250924T203000
DTSTAMP:20260421T173239
CREATED:20250214T222532Z
LAST-MODIFIED:20250924T124402Z
UID:10001035-1758736800-1758745800@downtowncommons.org
SUMMARY:Clarksville United - RELOCATED (LifePoint Church)
DESCRIPTION:*UPDATE* – Due to inclement weather\, Clarksville United has been relocated to LifePoint Church. \n1915 Rossview Rd\, Clarksville\, TN 37043 \nClarksville United is a gathering of Clarksville area students for worship and prayer. This event has served as a celebration at the end of the annual See You at the Pole Day.
URL:https://downtowncommons.org/event/clarksville-united/
LOCATION:LifePoint Church\, 1915 Rossview Rd\, Clarksville\, 37043\, United States
END:VEVENT
END:VCALENDAR