BEGIN:VCALENDAR
VERSION:2.0
PRODID:-//Downtown Commons - ECPv6.15.11//NONSGML v1.0//EN
CALSCALE:GREGORIAN
METHOD:PUBLISH
X-WR-CALNAME:Downtown Commons
X-ORIGINAL-URL:https://downtowncommons.org
X-WR-CALDESC:Events for Downtown Commons
REFRESH-INTERVAL;VALUE=DURATION:PT1H
X-Robots-Tag:noindex
X-PUBLISHED-TTL:PT1H
BEGIN:VTIMEZONE
TZID:America/Chicago
BEGIN:DAYLIGHT
TZOFFSETFROM:-0600
TZOFFSETTO:-0500
TZNAME:CDT
DTSTART:20240310T080000
END:DAYLIGHT
BEGIN:STANDARD
TZOFFSETFROM:-0500
TZOFFSETTO:-0600
TZNAME:CST
DTSTART:20241103T070000
END:STANDARD
BEGIN:DAYLIGHT
TZOFFSETFROM:-0600
TZOFFSETTO:-0500
TZNAME:CDT
DTSTART:20250309T080000
END:DAYLIGHT
BEGIN:STANDARD
TZOFFSETFROM:-0500
TZOFFSETTO:-0600
TZNAME:CST
DTSTART:20251102T070000
END:STANDARD
BEGIN:DAYLIGHT
TZOFFSETFROM:-0600
TZOFFSETTO:-0500
TZNAME:CDT
DTSTART:20260308T080000
END:DAYLIGHT
BEGIN:STANDARD
TZOFFSETFROM:-0500
TZOFFSETTO:-0600
TZNAME:CST
DTSTART:20261101T070000
END:STANDARD
END:VTIMEZONE
BEGIN:VEVENT
DTSTART;TZID=America/Chicago:20250801T190000
DTEND;TZID=America/Chicago:20250801T210000
DTSTAMP:20260421T190503
CREATED:20250214T214909Z
LAST-MODIFIED:20250416T213707Z
UID:10001024-1754074800-1754082000@downtowncommons.org
SUMMARY:Downtown @ Sundown: Foolhouse
DESCRIPTION:Join us on August 1st to hear Foolhouse\, the ultimate 90’s dance party!  \nThe Downtown @ Sundown Concert Series will be held on select Fridays May through October. Each event will offer a night of free music and entertainment. Beer and other beverages will be for sale accompanied by a variety of food trucks will line up on Main Street.   \nChairs and blankets are welcome; however\, pets\, coolers\, smoking/vaping or outside alcohol will not be allowed on site.  \nFor more information and weather updates\, please visit us on Facebook! \nVisit downtowncommons.org for the full lineup!
URL:https://downtowncommons.org/event/downtown-sundown-foolhouse/
LOCATION:Downtown Commons\, 215 Legion Street\, Clarksville\, TN\, 37040\, United States
END:VEVENT
BEGIN:VEVENT
DTSTART;TZID=America/Chicago:20250807T180000
DTEND;TZID=America/Chicago:20250807T200000
DTSTAMP:20260421T190503
CREATED:20250214T215056Z
LAST-MODIFIED:20250424T152927Z
UID:10001025-1754589600-1754596800@downtowncommons.org
SUMMARY:Downtown Local Sound
DESCRIPTION:Join us Thursday\, August 7 for live music by Kimberly Jewells and Among the Enemy!  \nOn the first Thursday from May to October\, catch free live music from 6-8 p.m. by local artists at the Downtown Commons. Grab a bite or drink from Wolf Down and enjoy a night full of art\, music\, and good vibes!  \nFor more information and weather updates\, please visit us on Facebook!
URL:https://downtowncommons.org/event/artwalk-featuring-live-music-3/
LOCATION:Downtown Commons\, 215 Legion Street\, Clarksville\, TN\, 37040\, United States
END:VEVENT
BEGIN:VEVENT
DTSTART;TZID=America/Chicago:20250809T193000
DTEND;TZID=America/Chicago:20250809T213000
DTSTAMP:20260421T190503
CREATED:20250214T220415Z
LAST-MODIFIED:20250416T213810Z
UID:10001028-1754767800-1754775000@downtowncommons.org
SUMMARY:MoCo Movie Night: Wish
DESCRIPTION:Montgomery County Parks and Recreation is excited to host another season of our MoCo Movie Nights for a family fun night at the Downtown Commons! \nCome join for the final movie of the season on August 9\, for the screening of Wish. Don’t forget to bring your lawn chairs & blankets! Food will be available for purchase on-site. \nMovie Nights are brought to you by Altra Federal Credit Union and Kyrstin Frate\, Keller Williams Realty. \nFor more information or weather updates\, please visit us on Facebook!
URL:https://downtowncommons.org/event/moco-movie-night-wish/
LOCATION:Downtown Commons\, 215 Legion Street\, Clarksville\, TN\, 37040\, United States
END:VEVENT
BEGIN:VEVENT
DTSTART;TZID=America/Chicago:20250815T190000
DTEND;TZID=America/Chicago:20250815T210000
DTSTAMP:20260421T190503
CREATED:20250214T215402Z
LAST-MODIFIED:20250416T214040Z
UID:10001026-1755284400-1755291600@downtowncommons.org
SUMMARY:Downtown @ Sundown: The Wildflowers
DESCRIPTION:Join us on August 15th to hear The Wildflowers\, America’s premiere Tom Petty tribute band!  \nThe Downtown @ Sundown Concert Series will be held on select Fridays May through October. Each event will offer a night of free music and entertainment. Beer and other beverages will be for sale accompanied by a variety of food trucks will line up on Main Street.   \nChairs and blankets are welcome; however\, pets\, coolers\, smoking/vaping or outside alcohol will not be allowed on site.  \nFor more information and weather updates\, please visit us on Facebook! \nVisit downtowncommons.org for the full lineup!
URL:https://downtowncommons.org/event/downtown-sundown-the-wildflowers/
LOCATION:Downtown Commons\, 215 Legion Street\, Clarksville\, TN\, 37040\, United States
END:VEVENT
END:VCALENDAR