BEGIN:VCALENDAR
VERSION:2.0
PRODID:-//Downtown Commons - ECPv6.15.11//NONSGML v1.0//EN
CALSCALE:GREGORIAN
METHOD:PUBLISH
X-WR-CALNAME:Downtown Commons
X-ORIGINAL-URL:https://downtowncommons.org
X-WR-CALDESC:Events for Downtown Commons
REFRESH-INTERVAL;VALUE=DURATION:PT1H
X-Robots-Tag:noindex
X-PUBLISHED-TTL:PT1H
BEGIN:VTIMEZONE
TZID:America/Chicago
BEGIN:DAYLIGHT
TZOFFSETFROM:-0600
TZOFFSETTO:-0500
TZNAME:CDT
DTSTART:20240310T080000
END:DAYLIGHT
BEGIN:STANDARD
TZOFFSETFROM:-0500
TZOFFSETTO:-0600
TZNAME:CST
DTSTART:20241103T070000
END:STANDARD
BEGIN:DAYLIGHT
TZOFFSETFROM:-0600
TZOFFSETTO:-0500
TZNAME:CDT
DTSTART:20250309T080000
END:DAYLIGHT
BEGIN:STANDARD
TZOFFSETFROM:-0500
TZOFFSETTO:-0600
TZNAME:CST
DTSTART:20251102T070000
END:STANDARD
BEGIN:DAYLIGHT
TZOFFSETFROM:-0600
TZOFFSETTO:-0500
TZNAME:CDT
DTSTART:20260308T080000
END:DAYLIGHT
BEGIN:STANDARD
TZOFFSETFROM:-0500
TZOFFSETTO:-0600
TZNAME:CST
DTSTART:20261101T070000
END:STANDARD
END:VTIMEZONE
BEGIN:VEVENT
DTSTART;TZID=America/Chicago:20250707T100000
DTEND;TZID=America/Chicago:20250707T100000
DTSTAMP:20260421T204413
CREATED:20250214T212439Z
LAST-MODIFIED:20250701T134554Z
UID:10001016-1751882400-1751882400@downtowncommons.org
SUMMARY:Library Story Time
DESCRIPTION:The Clarksville Montgomery County Public Library presents Library Story Time! This summer program gives attendees the opportunity to hear a live story time or watch live reading performances!
URL:https://downtowncommons.org/event/library-story-time-4/
LOCATION:Downtown Commons\, 215 Legion Street\, Clarksville\, TN\, 37040\, United States
END:VEVENT
BEGIN:VEVENT
DTSTART;TZID=America/Chicago:20250710T180000
DTEND;TZID=America/Chicago:20250710T200000
DTSTAMP:20260421T204413
CREATED:20250214T212531Z
LAST-MODIFIED:20250424T154533Z
UID:10001017-1752170400-1752177600@downtowncommons.org
SUMMARY:Downtown Local Sound
DESCRIPTION:Join us Thursday\, July 10 for live music by The 1980 and Kenny Mullins!  \nOn the first Thursday from May to October\, catch free live music from 6-8 p.m. by local artists at the Downtown Commons. Grab a bite or drink from Wolf Down and enjoy a night full of art\, music\, and good vibes!  \nFor more information and weather updates\, please visit us on Facebook!
URL:https://downtowncommons.org/event/artwalk-featuring-live-music-2/
LOCATION:Downtown Commons\, 215 Legion Street\, Clarksville\, TN\, 37040\, United States
END:VEVENT
BEGIN:VEVENT
DTSTART;TZID=America/Chicago:20250711T190000
DTEND;TZID=America/Chicago:20250711T210000
DTSTAMP:20260421T204413
CREATED:20250214T212742Z
LAST-MODIFIED:20250416T213009Z
UID:10001018-1752260400-1752267600@downtowncommons.org
SUMMARY:Downtown @ Sundown: Crush
DESCRIPTION:Join us on July 11th to hear Crush\, the ultimate Bon Jovi tribute band!  \nThe Downtown @ Sundown Concert Series will be held on select Fridays May through October. Each event will offer a night of free music and entertainment. Beer and other beverages will be for sale accompanied by a variety of food trucks will line up on Main Street.   \nChairs and blankets are welcome; however\, pets\, coolers\, smoking/vaping or outside alcohol will not be allowed on site.  \nFor more information and weather updates\, please visit us on Facebook! \nVisit downtowncommons.org for the full lineup!
URL:https://downtowncommons.org/event/downtown-sundown-kid-kentucky/
LOCATION:Downtown Commons\, 215 Legion Street\, Clarksville\, TN\, 37040\, United States
END:VEVENT
BEGIN:VEVENT
DTSTART;TZID=America/Chicago:20250714T100000
DTEND;TZID=America/Chicago:20250714T100000
DTSTAMP:20260421T204413
CREATED:20250214T212841Z
LAST-MODIFIED:20250701T134052Z
UID:10001019-1752487200-1752487200@downtowncommons.org
SUMMARY:Library Story Time
DESCRIPTION:The Clarksville Montgomery County Public Library presents Library Story Time! This summer program gives attendees the opportunity to hear a live story time or watch live reading performances!
URL:https://downtowncommons.org/event/library-story-time-5/
LOCATION:Downtown Commons\, 215 Legion Street\, Clarksville\, TN\, 37040\, United States
END:VEVENT
BEGIN:VEVENT
DTSTART;TZID=America/Chicago:20250718T100000
DTEND;TZID=America/Chicago:20250718T110000
DTSTAMP:20260421T204413
CREATED:20250214T213830Z
LAST-MODIFIED:20250701T134406Z
UID:10001020-1752832800-1752836400@downtowncommons.org
SUMMARY:Country Music Hall of Fame: Performance and Instrument Petting Zoo
DESCRIPTION:Get up close and personal with a variety of musical instruments in this hands-on program! Try out different strings\, percussion\, and wind instruments\, and discover which one makes your heart sing. Perfect for curious kids and adults alike — come explore\, play\, and have fun making some noise!
URL:https://downtowncommons.org/event/library-friday-performance-6/
LOCATION:Downtown Commons\, 215 Legion Street\, Clarksville\, TN\, 37040\, United States
END:VEVENT
BEGIN:VEVENT
DTSTART;TZID=America/Chicago:20250718T190000
DTEND;TZID=America/Chicago:20250718T210000
DTSTAMP:20260421T204413
CREATED:20250214T214216Z
LAST-MODIFIED:20250416T213147Z
UID:10001021-1752865200-1752872400@downtowncommons.org
SUMMARY:Downtown @ Sundown: The Eagles Project
DESCRIPTION:Join us on July 18th to hear The Eagles Project!  \nThe Downtown @ Sundown Concert Series will be held on select Fridays May through October. Each event will offer a night of free music and entertainment. Beer and other beverages will be for sale accompanied by a variety of food trucks will line up on Main Street.   \nChairs and blankets are welcome; however\, pets\, coolers\, smoking/vaping or outside alcohol will not be allowed on site.  \nFor more information and weather updates\, please visit us on Facebook! \nVisit downtowncommons.org for the full lineup!
URL:https://downtowncommons.org/event/downtown-sundown-the-eagles-project/
LOCATION:Downtown Commons\, 215 Legion Street\, Clarksville\, TN\, 37040\, United States
END:VEVENT
BEGIN:VEVENT
DTSTART;TZID=America/Chicago:20250719T070000
DTEND;TZID=America/Chicago:20250719T080000
DTSTAMP:20260421T204413
CREATED:20250214T214307Z
LAST-MODIFIED:20250416T213346Z
UID:10001022-1752908400-1752912000@downtowncommons.org
SUMMARY:Sunrise Yoga
DESCRIPTION:Join us for sunrise yoga at the Downtown Commons! Please bring a mat\, bottle of water\, and a friend. We look forward to starting our day with you in the heart of our city!  \nThank you to NBalance | Hot Yoga & Fitness for leading this class!  \nFor more information and weather updates\, please visit us on Facebook!
URL:https://downtowncommons.org/event/sunrise-yoga-5/
LOCATION:Downtown Commons\, 215 Legion Street\, Clarksville\, TN\, 37040\, United States
END:VEVENT
BEGIN:VEVENT
DTSTART;TZID=America/Chicago:20250724T173000
DTEND;TZID=America/Chicago:20250724T190000
DTSTAMP:20260421T204413
CREATED:20250214T220141Z
LAST-MODIFIED:20250404T135822Z
UID:10001027-1753378200-1753383600@downtowncommons.org
SUMMARY:MoCo Hosts: County Connections
DESCRIPTION:You are cordially invited to join the staff of Montgomery County for a night of connections\, networking opportunities and fun! County Connections provides all participating departments under the umbrella of Montgomery County Government the opportunity to meet with anyone and everyone who is interested in all that we have to offer!  \nEnjoy live music\, engaging activities\, and explore informational booths staffed by Montgomery County Government team members\, offering a great opportunity for the public to network and learn more about local services and initiatives.
URL:https://downtowncommons.org/event/moco-hosts-county-connections/
LOCATION:Downtown Commons\, 215 Legion Street\, Clarksville\, TN\, 37040\, United States
END:VEVENT
BEGIN:VEVENT
DTSTART;TZID=America/Chicago:20250726T193000
DTEND;TZID=America/Chicago:20250726T213000
DTSTAMP:20260421T204413
CREATED:20250214T214604Z
LAST-MODIFIED:20250416T213506Z
UID:10001023-1753558200-1753565400@downtowncommons.org
SUMMARY:MoCo Movie Night: Elemental
DESCRIPTION:Montgomery County Parks and Recreation is excited to host another season of our MoCo Movie Nights for a family fun night at the Downtown Commons! \nCome join us on July 26 for Elemental. Don’t forget to bring your lawn chairs & blankets! Food will be available for purchase on-site. \nMovie Nights are brought to you by Altra Federal Credit Union and Kyrstin Frate\, Keller Williams Realty. \nFor more information or weather updates\, please visit us on Facebook!
URL:https://downtowncommons.org/event/moco-movie-night-elemental/
LOCATION:Downtown Commons\, 215 Legion Street\, Clarksville\, TN\, 37040\, United States
END:VEVENT
END:VCALENDAR