BEGIN:VCALENDAR
VERSION:2.0
PRODID:-//Downtown Commons - ECPv6.15.11//NONSGML v1.0//EN
CALSCALE:GREGORIAN
METHOD:PUBLISH
X-WR-CALNAME:Downtown Commons
X-ORIGINAL-URL:https://downtowncommons.org
X-WR-CALDESC:Events for Downtown Commons
REFRESH-INTERVAL;VALUE=DURATION:PT1H
X-Robots-Tag:noindex
X-PUBLISHED-TTL:PT1H
BEGIN:VTIMEZONE
TZID:America/Chicago
BEGIN:DAYLIGHT
TZOFFSETFROM:-0600
TZOFFSETTO:-0500
TZNAME:CDT
DTSTART:20210314T080000
END:DAYLIGHT
BEGIN:STANDARD
TZOFFSETFROM:-0500
TZOFFSETTO:-0600
TZNAME:CST
DTSTART:20211107T070000
END:STANDARD
BEGIN:DAYLIGHT
TZOFFSETFROM:-0600
TZOFFSETTO:-0500
TZNAME:CDT
DTSTART:20220313T080000
END:DAYLIGHT
BEGIN:STANDARD
TZOFFSETFROM:-0500
TZOFFSETTO:-0600
TZNAME:CST
DTSTART:20221106T070000
END:STANDARD
BEGIN:DAYLIGHT
TZOFFSETFROM:-0600
TZOFFSETTO:-0500
TZNAME:CDT
DTSTART:20230312T080000
END:DAYLIGHT
BEGIN:STANDARD
TZOFFSETFROM:-0500
TZOFFSETTO:-0600
TZNAME:CST
DTSTART:20231105T070000
END:STANDARD
BEGIN:DAYLIGHT
TZOFFSETFROM:-0600
TZOFFSETTO:-0500
TZNAME:CDT
DTSTART:20240310T080000
END:DAYLIGHT
BEGIN:STANDARD
TZOFFSETFROM:-0500
TZOFFSETTO:-0600
TZNAME:CST
DTSTART:20241103T070000
END:STANDARD
END:VTIMEZONE
BEGIN:VEVENT
DTSTART;TZID=America/Chicago:20230630T100000
DTEND;TZID=America/Chicago:20230630T110000
DTSTAMP:20260422T172621
CREATED:20230329T191211Z
LAST-MODIFIED:20230329T191211Z
UID:10000925-1688119200-1688122800@downtowncommons.org
SUMMARY:Summer Reading Performance
DESCRIPTION:
URL:https://downtowncommons.org/event/summer-reading-performance-8/2023-06-30/
LOCATION:Downtown Commons\, 215 Legion Street\, Clarksville\, TN\, 37040\, United States
END:VEVENT
BEGIN:VEVENT
DTSTART;TZID=America/Chicago:20230624T190000
DTEND;TZID=America/Chicago:20230624T210000
DTSTAMP:20260422T172621
CREATED:20230328T165032Z
LAST-MODIFIED:20230328T171041Z
UID:10000913-1687633200-1687640400@downtowncommons.org
SUMMARY:Movie Night "Sing 2"
DESCRIPTION:
URL:https://downtowncommons.org/event/movie-night-the-commons-sing-2/
LOCATION:Downtown Commons\, 215 Legion Street\, Clarksville\, TN\, 37040\, United States
END:VEVENT
BEGIN:VEVENT
DTSTART;TZID=America/Chicago:20230623T100000
DTEND;TZID=America/Chicago:20230623T110000
DTSTAMP:20260422T172621
CREATED:20230329T191211Z
LAST-MODIFIED:20230329T191211Z
UID:10000924-1687514400-1687518000@downtowncommons.org
SUMMARY:Summer Reading Performance
DESCRIPTION:
URL:https://downtowncommons.org/event/summer-reading-performance-8/2023-06-23/
LOCATION:Downtown Commons\, 215 Legion Street\, Clarksville\, TN\, 37040\, United States
END:VEVENT
BEGIN:VEVENT
DTSTART;TZID=America/Chicago:20230616T190000
DTEND;TZID=America/Chicago:20230616T220000
DTSTAMP:20260422T172621
CREATED:20230711T163954Z
LAST-MODIFIED:20230711T163954Z
UID:10000895-1686942000-1686952800@downtowncommons.org
SUMMARY:Downtown @ Sundown I World Turning (Fleetwood Mac)
DESCRIPTION:
URL:https://downtowncommons.org/event/downtown-sundown-13-10/
LOCATION:Downtown Commons\, 215 Legion Street\, Clarksville\, TN\, 37040\, United States
END:VEVENT
BEGIN:VEVENT
DTSTART;TZID=America/Chicago:20230616T100000
DTEND;TZID=America/Chicago:20230616T110000
DTSTAMP:20260422T172621
CREATED:20230329T191211Z
LAST-MODIFIED:20230329T191211Z
UID:10000923-1686909600-1686913200@downtowncommons.org
SUMMARY:Summer Reading Performance
DESCRIPTION:
URL:https://downtowncommons.org/event/summer-reading-performance-8/2023-06-16/
LOCATION:Downtown Commons\, 215 Legion Street\, Clarksville\, TN\, 37040\, United States
END:VEVENT
BEGIN:VEVENT
DTSTART;TZID=America/Chicago:20230611T163000
DTEND;TZID=America/Chicago:20230611T210000
DTSTAMP:20260422T172621
CREATED:20230518T191931Z
LAST-MODIFIED:20230711T133625Z
UID:10000927-1686501000-1686517200@downtowncommons.org
SUMMARY:Haven Madison Concert
DESCRIPTION:
URL:https://downtowncommons.org/event/summer-reading-performance-8-2/
LOCATION:Downtown Commons\, 215 Legion Street\, Clarksville\, TN\, 37040\, United States
END:VEVENT
BEGIN:VEVENT
DTSTART;TZID=America/Chicago:20230609T100000
DTEND;TZID=America/Chicago:20230609T110000
DTSTAMP:20260422T172621
CREATED:20230329T191211Z
LAST-MODIFIED:20230329T191211Z
UID:10000922-1686304800-1686308400@downtowncommons.org
SUMMARY:Summer Reading Performance
DESCRIPTION:
URL:https://downtowncommons.org/event/summer-reading-performance-8/2023-06-09/
LOCATION:Downtown Commons\, 215 Legion Street\, Clarksville\, TN\, 37040\, United States
END:VEVENT
BEGIN:VEVENT
DTSTART;TZID=America/Chicago:20230602T190000
DTEND;TZID=America/Chicago:20230602T220000
DTSTAMP:20260422T172621
CREATED:20230711T164030Z
LAST-MODIFIED:20230711T164030Z
UID:10000894-1685732400-1685743200@downtowncommons.org
SUMMARY:Downtown @ Sundown I ACE Party Band
DESCRIPTION:
URL:https://downtowncommons.org/event/downtown-sundown-13-11/
LOCATION:Downtown Commons\, 215 Legion Street\, Clarksville\, TN\, 37040\, United States
END:VEVENT
BEGIN:VEVENT
DTSTART;TZID=America/Chicago:20230520T190000
DTEND;TZID=America/Chicago:20230520T210000
DTSTAMP:20260422T172621
CREATED:20230328T165002Z
LAST-MODIFIED:20230328T170945Z
UID:10000912-1684609200-1684616400@downtowncommons.org
SUMMARY:Movie Night "Frozen 2"
DESCRIPTION:
URL:https://downtowncommons.org/event/movie-night-the-commons-frozen-2/
LOCATION:Downtown Commons\, 215 Legion Street\, Clarksville\, TN\, 37040\, United States
END:VEVENT
BEGIN:VEVENT
DTSTART;TZID=America/Chicago:20230519T190000
DTEND;TZID=America/Chicago:20230519T220000
DTSTAMP:20260422T172621
CREATED:20230711T164057Z
LAST-MODIFIED:20230711T164057Z
UID:10000893-1684522800-1684533600@downtowncommons.org
SUMMARY:Downtown @ Sundown I Local Night
DESCRIPTION:
URL:https://downtowncommons.org/event/downtown-sundown-13-12/
LOCATION:Downtown Commons\, 215 Legion Street\, Clarksville\, TN\, 37040\, United States
END:VEVENT
BEGIN:VEVENT
DTSTART;TZID=America/Chicago:20230505T190000
DTEND;TZID=America/Chicago:20230505T220000
DTSTAMP:20260422T172621
CREATED:20230328T162819Z
LAST-MODIFIED:20230711T164131Z
UID:10000892-1683313200-1683324000@downtowncommons.org
SUMMARY:Downtown @ Sundown I Matt Stell and Dalton Dover
DESCRIPTION:
URL:https://downtowncommons.org/event/downtown-sundown-13/
LOCATION:Downtown Commons\, 215 Legion Street\, Clarksville\, TN\, 37040\, United States
END:VEVENT
BEGIN:VEVENT
DTSTART;TZID=America/Chicago:20230502T180000
DTEND;TZID=America/Chicago:20230502T190000
DTSTAMP:20260422T172621
CREATED:20230328T163542Z
LAST-MODIFIED:20230328T163542Z
UID:10000905-1683050400-1683054000@downtowncommons.org
SUMMARY:Sunset Yoga
DESCRIPTION:
URL:https://downtowncommons.org/event/sunset-yoga-17/2023-05-02/
LOCATION:Downtown Commons\, 215 Legion Street\, Clarksville\, TN\, 37040\, United States
END:VEVENT
BEGIN:VEVENT
DTSTART;TZID=America/Chicago:20230426T180000
DTEND;TZID=America/Chicago:20230426T200000
DTSTAMP:20260422T172621
CREATED:20230329T190628Z
LAST-MODIFIED:20230329T190707Z
UID:10000921-1682532000-1682539200@downtowncommons.org
SUMMARY:Worship Night with 2nd Mile
DESCRIPTION:
URL:https://downtowncommons.org/event/worship-night-with-2nd-mile/
LOCATION:Downtown Commons\, 215 Legion Street\, Clarksville\, TN\, 37040\, United States
END:VEVENT
BEGIN:VEVENT
DTSTART;TZID=America/Chicago:20230415T110000
DTEND;TZID=America/Chicago:20230415T140000
DTSTAMP:20260422T172621
CREATED:20230329T190437Z
LAST-MODIFIED:20230329T190437Z
UID:10000920-1681556400-1681567200@downtowncommons.org
SUMMARY:Happy Birthday Downtown Commons!
DESCRIPTION:
URL:https://downtowncommons.org/event/happy-birthday-downtown-commons/
LOCATION:Downtown Commons\, 215 Legion Street\, Clarksville\, TN\, 37040\, United States
END:VEVENT
BEGIN:VEVENT
DTSTART;TZID=America/Chicago:20230404T180000
DTEND;TZID=America/Chicago:20230404T190000
DTSTAMP:20260422T172622
CREATED:20230328T163542Z
LAST-MODIFIED:20230328T163542Z
UID:10000904-1680631200-1680634800@downtowncommons.org
SUMMARY:Sunset Yoga
DESCRIPTION:
URL:https://downtowncommons.org/event/sunset-yoga-17/2023-04-04/
LOCATION:Downtown Commons\, 215 Legion Street\, Clarksville\, TN\, 37040\, United States
END:VEVENT
BEGIN:VEVENT
DTSTART;TZID=America/Chicago:20221220T180000
DTEND;TZID=America/Chicago:20221220T200000
DTSTAMP:20260422T172622
CREATED:20221110T185004Z
LAST-MODIFIED:20221214T181408Z
UID:10000867-1671559200-1671566400@downtowncommons.org
SUMMARY:LIVE Ice Sculpting & Movie Night
DESCRIPTION:Join us on December 20 to watch an Ice Sculptor carve a Christmas Tree LIVE! While the carving is taking place we will show ‘How the Grinch Stole Christmas’ and by the end of the movie the Christmas Tree will be finished!
URL:https://downtowncommons.org/event/live-ice-sculpting-movie-night/
LOCATION:TN
END:VEVENT
BEGIN:VEVENT
DTSTART;TZID=America/Chicago:20221210T100000
DTEND;TZID=America/Chicago:20221210T140000
DTSTAMP:20260422T172622
CREATED:20221110T184927Z
LAST-MODIFIED:20221110T184927Z
UID:10000866-1670666400-1670680800@downtowncommons.org
SUMMARY:Holiday Market
DESCRIPTION:Please join us for our second annual Downtown Commons Holiday Market on December 10 from 10:00 am – 2:00 pm. We will have Santa and food trucks available! \n  \nFood Trucks: Burgasm & Vansauwa’s Tacos & Vegan Eats
URL:https://downtowncommons.org/event/holiday-market-2/
LOCATION:TN
END:VEVENT
BEGIN:VEVENT
DTSTART;TZID=America/Chicago:20221203T163000
DTEND;TZID=America/Chicago:20221203T170000
DTSTAMP:20260422T172622
CREATED:20221110T184539Z
LAST-MODIFIED:20221110T184539Z
UID:10000864-1670085000-1670086800@downtowncommons.org
SUMMARY:Tree Lighting
DESCRIPTION:Join us on December 3 to watch the annual Clarksville-Montgomery County Christmas Parade and Tree Lighting at Downtown Commons. Mayor Golden will light the Christmas Tree at 4:30 p.m. with the parade beginning at 5:00 p.m. Come early to grab your seats!\n\nThis event is free and open to the public
URL:https://downtowncommons.org/event/tree-lighting/
LOCATION:TN
END:VEVENT
BEGIN:VEVENT
DTSTART;TZID=America/Chicago:20221203T140000
DTEND;TZID=America/Chicago:20221203T160000
DTSTAMP:20260422T172622
CREATED:20221110T184755Z
LAST-MODIFIED:20221110T184755Z
UID:10000865-1670076000-1670083200@downtowncommons.org
SUMMARY:SpiritFest
DESCRIPTION:Join us for a time of fellowship and fun! This year’s Spiritfest activities will be held at Downtown Commons with lots of vendors and Santa will make an appearance!
URL:https://downtowncommons.org/event/spiritfest/
LOCATION:TN
END:VEVENT
BEGIN:VEVENT
DTSTART;TZID=America/Chicago:20221029T180000
DTEND;TZID=America/Chicago:20221029T200000
DTSTAMP:20260422T172622
CREATED:20220713T160702Z
LAST-MODIFIED:20220713T160702Z
UID:10000720-1667066400-1667073600@downtowncommons.org
SUMMARY:Halloween Movie Night
DESCRIPTION:
URL:https://downtowncommons.org/event/halloween-movie-night-2/
LOCATION:TN
END:VEVENT
BEGIN:VEVENT
DTSTART;TZID=America/Chicago:20221021T190000
DTEND;TZID=America/Chicago:20221021T220000
DTSTAMP:20260422T172622
CREATED:20220112T154138Z
LAST-MODIFIED:20220427T140609Z
UID:10000702-1666378800-1666389600@downtowncommons.org
SUMMARY:Downtown @ Sundown | Rock United
DESCRIPTION:The Downtown @ Sundown Concert Series will be held on the first and third Fridays of each month from May through October. Each event will offer a night of free music and entertainment. Beer and other beverages will be for sale with proceeds benefiting our featured non-profit\, United Way of the Greater Clarksville Region. A variety of independent food trucks will line up on Main Street. Chairs and blankets are welcome; however\, pets\, coolers\, smoking/vaping or outside alcohol will not be allowed on site. \nDowntown @ Sundown is brought to you by TriStar Beverage and Shelby’s Trio and sponsored in part by Waste Connections of Clarksville.
URL:https://downtowncommons.org/event/downtown-sundown-12/
LOCATION:TN
END:VEVENT
BEGIN:VEVENT
DTSTART;TZID=America/Chicago:20221011T183000
DTEND;TZID=America/Chicago:20221011T193000
DTSTAMP:20260422T172622
CREATED:20220427T141909Z
LAST-MODIFIED:20221010T132650Z
UID:10000708-1665513000-1665516600@downtowncommons.org
SUMMARY:Sunset Yoga
DESCRIPTION:Join us for full moon sunset yoga at the Downtown Commons! Please bring a mat\, bottle of water\, and a friend. We look forward to ending our day with you in the heart of our city! Thank you to NBalance | Hot Yoga & Fitness for leading the class!
URL:https://downtowncommons.org/event/sunset-yoga-16/
LOCATION:TN
END:VEVENT
BEGIN:VEVENT
DTSTART;TZID=America/Chicago:20221007T190000
DTEND;TZID=America/Chicago:20221007T220000
DTSTAMP:20260422T172622
CREATED:20220112T154120Z
LAST-MODIFIED:20220427T140544Z
UID:10000701-1665169200-1665180000@downtowncommons.org
SUMMARY:Downtown @ Sundown | Kat & Alex and Frank Ray
DESCRIPTION:The Downtown @ Sundown Concert Series will be held on the first and third Fridays of each month from May through October. Each event will offer a night of free music and entertainment. Beer and other beverages will be for sale with proceeds benefiting our featured non-profit\, United Way of the Greater Clarksville Region. A variety of independent food trucks will line up on Main Street. Chairs and blankets are welcome; however\, pets\, coolers\, smoking/vaping or outside alcohol will not be allowed on site. \nDowntown @ Sundown is brought to you by TriStar Beverage and Shelby’s Trio and sponsored in part by Waste Connections of Clarksville.
URL:https://downtowncommons.org/event/downtown-sundown-11/
LOCATION:TN
END:VEVENT
BEGIN:VEVENT
DTSTART;TZID=America/Chicago:20221005T180000
DTEND;TZID=America/Chicago:20221005T200000
DTSTAMP:20260422T172622
CREATED:20220713T160834Z
LAST-MODIFIED:20220713T160834Z
UID:10000722-1664992800-1665000000@downtowncommons.org
SUMMARY:Worship Night | Grace Community Church
DESCRIPTION:Join us at 6:00 p.m. on October 5 for a night of worship led by Grace Community Church!\nDon’t worry about cooking dinner because Tater Headz will be open!\nChairs and blankets are welcome; however pets on the turf and smoking/vaping will not be allowed on site.
URL:https://downtowncommons.org/event/worship-night-grace-community-church/
LOCATION:TN
END:VEVENT
BEGIN:VEVENT
DTSTART;TZID=America/Chicago:20220928T180000
DTEND;TZID=America/Chicago:20220928T200000
DTSTAMP:20260422T172622
CREATED:20220713T160955Z
LAST-MODIFIED:20220713T160955Z
UID:10000723-1664388000-1664395200@downtowncommons.org
SUMMARY:Worship Night | Community of Hope\, First Nazarene
DESCRIPTION:Join us at 6:00 p.m. on September 28 for a night of worship led by Community of Hope\, First Nazarene! Don’t worry about cooking dinner because Tater Headz will be open!\nChairs and blankets are welcome; however pets on the turf and smoking/vaping will not be allowed on site.
URL:https://downtowncommons.org/event/worship-night-community-of-hope-first-nazarene/
LOCATION:TN
END:VEVENT
BEGIN:VEVENT
DTSTART;TZID=America/Chicago:20220925T180000
DTEND;TZID=America/Chicago:20220925T193000
DTSTAMP:20260422T172622
CREATED:20220707T132010Z
LAST-MODIFIED:20220925T135032Z
UID:10000716-1664128800-1664134200@downtowncommons.org
SUMMARY:I Am They | Christian Concert
DESCRIPTION:Join us on September 25 as we welcome I Am They to Downtown Commons! I Am They is a pop worship band with top songs such as ‘Scars’ and ‘Faithful God.’ This concert is sponsored by The Kennedy Law Firm.\n\nFood Trucks: Tater Headz\, Big Kahuna’s Island Grill and Golly G’s!\n\nPlease bring your own chairs and blankets. Outside smoking/vaping will not be allowed on-site. This concert is free and open to the public.
URL:https://downtowncommons.org/event/i-am-they-christian-concert/
LOCATION:TN
END:VEVENT
BEGIN:VEVENT
DTSTART;TZID=America/Chicago:20220917T193000
DTEND;TZID=America/Chicago:20220917T210000
DTSTAMP:20260422T172622
CREATED:20220427T140953Z
LAST-MODIFIED:20220427T140953Z
UID:10000852-1663443000-1663448400@downtowncommons.org
SUMMARY:Abominable Movie Night
DESCRIPTION:The Downtown Commons is excited to host our second annual Movie Nights for a family fun night in Downtown Clarksville! Come join us once a month through the month of September to watch your favorite family movies under the stars. Movie Nights are brought to you by Beth King Phillips\, your downtown Southwest Funding Mortgage Branch\, and Michell Lochner with Keller Williams Realty.
URL:https://downtowncommons.org/event/abominable-movie-night/
LOCATION:TN
END:VEVENT
BEGIN:VEVENT
DTSTART;TZID=America/Chicago:20220916T190000
DTEND;TZID=America/Chicago:20220916T220000
DTSTAMP:20260422T172622
CREATED:20220112T154059Z
LAST-MODIFIED:20220427T140525Z
UID:10000700-1663354800-1663365600@downtowncommons.org
SUMMARY:Downtown @ Sundown | Tyler Booth
DESCRIPTION:The Downtown @ Sundown Concert Series will be held on the first and third Fridays of each month from May through October. Each event will offer a night of free music and entertainment. Beer and other beverages will be for sale with proceeds benefiting our featured non-profit\, United Way of the Greater Clarksville Region. A variety of independent food trucks will line up on Main Street. Chairs and blankets are welcome; however\, pets\, coolers\, smoking/vaping or outside alcohol will not be allowed on site. \nDowntown @ Sundown is brought to you by TriStar Beverage and Shelby’s Trio and sponsored in part by Waste Connections of Clarksville.
URL:https://downtowncommons.org/event/downtown-sundown-10/
LOCATION:TN
END:VEVENT
BEGIN:VEVENT
DTSTART;TZID=America/Chicago:20220913T193000
DTEND;TZID=America/Chicago:20220913T203000
DTSTAMP:20260422T172622
CREATED:20220427T141842Z
LAST-MODIFIED:20220427T141842Z
UID:10000707-1663097400-1663101000@downtowncommons.org
SUMMARY:Sunset Yoga
DESCRIPTION:Join us for full moon sunset yoga at the Downtown Commons! Please bring a mat\, bottle of water\, and a friend. We look forward to ending our day with you in the heart of our city! Thank you to NBalance | Hot Yoga & Fitness for leading the class!
URL:https://downtowncommons.org/event/sunset-yoga-15/
LOCATION:TN
END:VEVENT
BEGIN:VEVENT
DTSTART;TZID=America/Chicago:20220906T180000
DTEND;TZID=America/Chicago:20220906T200000
DTSTAMP:20260422T172622
CREATED:20220802T182342Z
LAST-MODIFIED:20220802T182342Z
UID:10000863-1662487200-1662494400@downtowncommons.org
SUMMARY:Nashville Symphony Concert
DESCRIPTION:The Downtown Commons will host the prestigious Nashville Symphony on the evening of September 6. Beginning at 6 p.m.\, the community can participate in an Instrument Petting Zoo hosted by the Nashville Symphony. An Instrument Petting Zoo is a time where guest can go from instrument to instrument\, touching and playing with them\, just like we would with animals in a petting zoo! Following\, at 7p.m.\, the community will have the opportunity to listen to some of the country’s most talented musicians\, the Nashville Symphony!\n\nChairs and blankets are welcome; however\, pets\, coolers\, smoking/vaping or outside alcohol will not be allowed on site. Beer and other beverages will be for sale by Ajax Distributing Company.\n\nThe Nashville Symphony’s Fall Concert is sponsored by Benefits\, Inc. and Jack B. Turner and Associates. This event is free and open to the public.
URL:https://downtowncommons.org/event/nashville-symphony-concert-2/
LOCATION:TN
END:VEVENT
END:VCALENDAR