BEGIN:VCALENDAR
VERSION:2.0
PRODID:-//Downtown Commons - ECPv6.15.11//NONSGML v1.0//EN
CALSCALE:GREGORIAN
METHOD:PUBLISH
X-WR-CALNAME:Downtown Commons
X-ORIGINAL-URL:https://downtowncommons.org
X-WR-CALDESC:Events for Downtown Commons
REFRESH-INTERVAL;VALUE=DURATION:PT1H
X-Robots-Tag:noindex
X-PUBLISHED-TTL:PT1H
BEGIN:VTIMEZONE
TZID:America/Chicago
BEGIN:DAYLIGHT
TZOFFSETFROM:-0600
TZOFFSETTO:-0500
TZNAME:CDT
DTSTART:20190310T080000
END:DAYLIGHT
BEGIN:STANDARD
TZOFFSETFROM:-0500
TZOFFSETTO:-0600
TZNAME:CST
DTSTART:20191103T070000
END:STANDARD
BEGIN:DAYLIGHT
TZOFFSETFROM:-0600
TZOFFSETTO:-0500
TZNAME:CDT
DTSTART:20200308T080000
END:DAYLIGHT
BEGIN:STANDARD
TZOFFSETFROM:-0500
TZOFFSETTO:-0600
TZNAME:CST
DTSTART:20201101T070000
END:STANDARD
BEGIN:DAYLIGHT
TZOFFSETFROM:-0600
TZOFFSETTO:-0500
TZNAME:CDT
DTSTART:20210314T080000
END:DAYLIGHT
BEGIN:STANDARD
TZOFFSETFROM:-0500
TZOFFSETTO:-0600
TZNAME:CST
DTSTART:20211107T070000
END:STANDARD
BEGIN:DAYLIGHT
TZOFFSETFROM:-0600
TZOFFSETTO:-0500
TZNAME:CDT
DTSTART:20220313T080000
END:DAYLIGHT
BEGIN:STANDARD
TZOFFSETFROM:-0500
TZOFFSETTO:-0600
TZNAME:CST
DTSTART:20221106T070000
END:STANDARD
END:VTIMEZONE
BEGIN:VEVENT
DTSTART;TZID=America/Chicago:20210520T190000
DTEND;TZID=America/Chicago:20210520T200000
DTSTAMP:20260424T102650
CREATED:20210422T152331Z
LAST-MODIFIED:20210504T175401Z
UID:10000757-1621537200-1621540800@downtowncommons.org
SUMMARY:Turn Up Fitness with Sarah
DESCRIPTION:A HIIT inspired hip-hop dance fitness that is guaranteed to burn calories and tone muscle while dancing to your favorite music. This is an experience you DON’T want to miss! WHERE: The Dowtown Commons WHEN: Thursday April 8th\, 11am-12pm COST: $10 Turn Up is more than a fitness program. It’s a movement to empower you to live out loud\, dance ruthlessly while cheering each other on to break through the barriers we create ourselves and evolve unapologetically. Turn Up is for EVERYONE! Whether your a beginner or have danced for years. It’s about doing something fun for yourself while taking care of your body and living in your moment. LET’S TURN UP!
URL:https://downtowncommons.org/event/turn-up-fitness-with-sarah-3/
END:VEVENT
BEGIN:VEVENT
DTSTART;TZID=America/Chicago:20210518T170000
DTEND;TZID=America/Chicago:20210518T200000
DTSTAMP:20260424T102650
CREATED:20210422T143046Z
LAST-MODIFIED:20210422T143046Z
UID:10000734-1621357200-1621368000@downtowncommons.org
SUMMARY:Lawn Game Night
DESCRIPTION:
URL:https://downtowncommons.org/event/lawn-game-night-15/
END:VEVENT
BEGIN:VEVENT
DTSTART;TZID=America/Chicago:20210518T093000
DTEND;TZID=America/Chicago:20210518T103000
DTSTAMP:20260424T102650
CREATED:20210422T150511Z
LAST-MODIFIED:20210422T150511Z
UID:10000755-1621330200-1621333800@downtowncommons.org
SUMMARY:iStroll Workout Class
DESCRIPTION:iStroll is the ultimate 60 minute stroller workout made by athletes for parents. iStroll incorporates running\, body weight\, dumbbells\, resistance bands and of course\, a jogging stroller! It gives both moms and dads a full body workout while keeping babies moving and happy!\niStroll\, however\, is more than a workout class. It is a place to meet other parents with similar interests who are also in the same life stage. As you become stronger\, faster and healthier\, you will not only make life long friends but through leading by example you will empower the next generation to be fit too.\nCome try us out! Your first class is always free.
URL:https://downtowncommons.org/event/istroll-workout-class-4/
END:VEVENT
BEGIN:VEVENT
DTSTART;TZID=America/Chicago:20210515T193000
DTEND;TZID=America/Chicago:20210515T213000
DTSTAMP:20260424T102650
CREATED:20210414T200531Z
LAST-MODIFIED:20210414T200531Z
UID:10000727-1621107000-1621114200@downtowncommons.org
SUMMARY:Movie Night - Toy Story 4
DESCRIPTION:The Downtown Commons is excited to start Movie Nights on April 24 for a family fun night in Downtown Clarksville! Come join us once a month through the month of August to watch your favorite family movies under the stars. A mobile art studio will be set up with ArtLink for hands-on activities for kids and food trucks on Main Street for treats for everyone. Chairs and blankets are welcome; however\, pets\, coolers\, smoking/vaping or outside alcohol will not be allowed on site. \nMovies will begin at 7:30 p.m. and don’t worry\, Tennessee Kettle Corn will be there with popcorn available for every movie! \nMovie Night Schedule:  \nApril 24 – Moana \nMay 15 – Toy Story 4 \nJune 26 – The Croods: A New Age \nJuly 10 – The Parent Trap \nAugust 14 – Coco \n  \nMovie Nights is brought to you by Beth King Phillips\, your downtown Southwest Funding Mortgage Branch and Todd Phillips Construction and sponsored in part by VRS Realty\, Heather Chase.
URL:https://downtowncommons.org/event/movie-night-toy-story-4/
END:VEVENT
BEGIN:VEVENT
DTSTART;TZID=America/Chicago:20210515T080000
DTEND;TZID=America/Chicago:20210515T120000
DTSTAMP:20260424T102650
CREATED:20210511T205211Z
LAST-MODIFIED:20210511T205211Z
UID:10000759-1621065600-1621080000@downtowncommons.org
SUMMARY:Downtown Market Kids Zone
DESCRIPTION:
URL:https://downtowncommons.org/event/downtown-market-kids-zone/
END:VEVENT
BEGIN:VEVENT
DTSTART;TZID=America/Chicago:20210513T190000
DTEND;TZID=America/Chicago:20210513T200000
DTSTAMP:20260424T102650
CREATED:20210422T152232Z
LAST-MODIFIED:20210504T175255Z
UID:10000756-1620932400-1620936000@downtowncommons.org
SUMMARY:Turn Up Fitness with Sarah
DESCRIPTION:A HIIT inspired hip-hop dance fitness that is guaranteed to burn calories and tone muscle while dancing to your favorite music. This is an experience you DON’T want to miss! WHERE: The Dowtown Commons WHEN: Thursday April 8th\, 11am-12pm COST: $10 Turn Up is more than a fitness program. It’s a movement to empower you to live out loud\, dance ruthlessly while cheering each other on to break through the barriers we create ourselves and evolve unapologetically. Turn Up is for EVERYONE! Whether your a beginner or have danced for years. It’s about doing something fun for yourself while taking care of your body and living in your moment. LET’S TURN UP!
URL:https://downtowncommons.org/event/turn-up-fitness-with-sarah-2/
END:VEVENT
BEGIN:VEVENT
DTSTART;TZID=America/Chicago:20210511T170000
DTEND;TZID=America/Chicago:20210511T200000
DTSTAMP:20260424T102650
CREATED:20210422T143027Z
LAST-MODIFIED:20210422T143027Z
UID:10000733-1620752400-1620763200@downtowncommons.org
SUMMARY:Lawn Game Night
DESCRIPTION:
URL:https://downtowncommons.org/event/lawn-game-night-14/
END:VEVENT
BEGIN:VEVENT
DTSTART;TZID=America/Chicago:20210511T093000
DTEND;TZID=America/Chicago:20210511T103000
DTSTAMP:20260424T102650
CREATED:20210422T150404Z
LAST-MODIFIED:20210422T150404Z
UID:10000754-1620725400-1620729000@downtowncommons.org
SUMMARY:iStroll Workout Class
DESCRIPTION:iStroll is the ultimate 60 minute stroller workout made by athletes for parents. iStroll incorporates running\, body weight\, dumbbells\, resistance bands and of course\, a jogging stroller! It gives both moms and dads a full body workout while keeping babies moving and happy!\niStroll\, however\, is more than a workout class. It is a place to meet other parents with similar interests who are also in the same life stage. As you become stronger\, faster and healthier\, you will not only make life long friends but through leading by example you will empower the next generation to be fit too.\nCome try us out! Your first class is always free.
URL:https://downtowncommons.org/event/istroll-workout-class-3/
END:VEVENT
BEGIN:VEVENT
DTSTART;TZID=America/Chicago:20210510T173000
DTEND;TZID=America/Chicago:20210510T190000
DTSTAMP:20260424T102650
CREATED:20210422T143623Z
LAST-MODIFIED:20210422T143623Z
UID:10000737-1620667800-1620673200@downtowncommons.org
SUMMARY:FREE Comedy Show
DESCRIPTION:Come join us for some good clean laughter at the Downtown Commons! Food trucks will be on-site.
URL:https://downtowncommons.org/event/free-comedy-show/
END:VEVENT
BEGIN:VEVENT
DTSTART;TZID=America/Chicago:20210507T190000
DTEND;TZID=America/Chicago:20210507T213000
DTSTAMP:20260424T102650
CREATED:20210222T144735Z
LAST-MODIFIED:20210326T192413Z
UID:10000552-1620414000-1620423000@downtowncommons.org
SUMMARY:Downtown @ Sundown Concert - Parmalee
DESCRIPTION:
URL:https://downtowncommons.org/event/downtown-sundown-concert-3/
END:VEVENT
BEGIN:VEVENT
DTSTART;TZID=America/Chicago:20210506T190000
DTEND;TZID=America/Chicago:20210506T200000
DTSTAMP:20260424T102650
CREATED:20210422T152156Z
LAST-MODIFIED:20210504T175156Z
UID:10000618-1620327600-1620331200@downtowncommons.org
SUMMARY:Turn Up Fitness with Sarah
DESCRIPTION:A HIIT inspired hip-hop dance fitness that is guaranteed to burn calories and tone muscle while dancing to your favorite music. This is an experience you DON’T want to miss! WHERE: The Dowtown Commons WHEN: Thursday April 8th\, 11am-12pm COST: $10 Turn Up is more than a fitness program. It’s a movement to empower you to live out loud\, dance ruthlessly while cheering each other on to break through the barriers we create ourselves and evolve unapologetically. Turn Up is for EVERYONE! Whether your a beginner or have danced for years. It’s about doing something fun for yourself while taking care of your body and living in your moment. LET’S TURN UP!
URL:https://downtowncommons.org/event/turn-up-fitness-with-sarah/
END:VEVENT
BEGIN:VEVENT
DTSTART;TZID=America/Chicago:20210504T170000
DTEND;TZID=America/Chicago:20210504T200000
DTSTAMP:20260424T102650
CREATED:20210422T142959Z
LAST-MODIFIED:20210422T142959Z
UID:10000732-1620147600-1620158400@downtowncommons.org
SUMMARY:Lawn Game Night
DESCRIPTION:
URL:https://downtowncommons.org/event/lawn-game-night-13/
END:VEVENT
BEGIN:VEVENT
DTSTART;TZID=America/Chicago:20210504T093000
DTEND;TZID=America/Chicago:20210504T103000
DTSTAMP:20260424T102650
CREATED:20210422T150322Z
LAST-MODIFIED:20210422T150322Z
UID:10000753-1620120600-1620124200@downtowncommons.org
SUMMARY:iStroll Workout Class
DESCRIPTION:iStroll is the ultimate 60 minute stroller workout made by athletes for parents. iStroll incorporates running\, body weight\, dumbbells\, resistance bands and of course\, a jogging stroller! It gives both moms and dads a full body workout while keeping babies moving and happy!\niStroll\, however\, is more than a workout class. It is a place to meet other parents with similar interests who are also in the same life stage. As you become stronger\, faster and healthier\, you will not only make life long friends but through leading by example you will empower the next generation to be fit too.\nCome try us out! Your first class is always free.
URL:https://downtowncommons.org/event/istroll-workout-class-2/
END:VEVENT
BEGIN:VEVENT
DTSTART;TZID=America/Chicago:20210501T130000
DTEND;TZID=America/Chicago:20210501T140000
DTSTAMP:20260424T102650
CREATED:20210422T143338Z
LAST-MODIFIED:20210422T143413Z
UID:10000736-1619874000-1619877600@downtowncommons.org
SUMMARY:Cumberland Winds Dixie Band Performing
DESCRIPTION:
URL:https://downtowncommons.org/event/cumberland-winds-dixie-band/
END:VEVENT
BEGIN:VEVENT
DTSTART;TZID=America/Chicago:20210429T190000
DTEND;TZID=America/Chicago:20210429T200000
DTSTAMP:20260424T102650
CREATED:20210422T152023Z
LAST-MODIFIED:20210504T175326Z
UID:10000608-1619722800-1619726400@downtowncommons.org
SUMMARY:Turn Up Fitness with Sarah
DESCRIPTION:A HIIT inspired hip-hop dance fitness that is guaranteed to burn calories and tone muscle while dancing to your favorite music. This is an experience you DON’T want to miss! WHERE: The Dowtown Commons WHEN: Thursday April 8th\, 11am-12pm COST: $10 Turn Up is more than a fitness program. It’s a movement to empower you to live out loud\, dance ruthlessly while cheering each other on to break through the barriers we create ourselves and evolve unapologetically. Turn Up is for EVERYONE! Whether your a beginner or have danced for years. It’s about doing something fun for yourself while taking care of your body and living in your moment. LET’S TURN UP!
URL:https://downtowncommons.org/event/turn-up-fitness/
END:VEVENT
BEGIN:VEVENT
DTSTART;TZID=America/Chicago:20210428T180000
DTEND;TZID=America/Chicago:20210428T200000
DTSTAMP:20260424T102650
CREATED:20210422T143757Z
LAST-MODIFIED:20210422T143805Z
UID:10000738-1619632800-1619640000@downtowncommons.org
SUMMARY:Worship Night with LifePoint Church
DESCRIPTION:
URL:https://downtowncommons.org/event/worship-night-with-lifepoint-church/
END:VEVENT
BEGIN:VEVENT
DTSTART;TZID=America/Chicago:20210427T193000
DTEND;TZID=America/Chicago:20210427T203000
DTSTAMP:20260424T102650
CREATED:20210326T192757Z
LAST-MODIFIED:20210326T192757Z
UID:10000679-1619551800-1619555400@downtowncommons.org
SUMMARY:Sunset Yoga
DESCRIPTION:
URL:https://downtowncommons.org/event/sunset-yoga-4/
END:VEVENT
BEGIN:VEVENT
DTSTART;TZID=America/Chicago:20210427T170000
DTEND;TZID=America/Chicago:20210427T190000
DTSTAMP:20260424T102650
CREATED:20210422T142936Z
LAST-MODIFIED:20210422T142936Z
UID:10000731-1619542800-1619550000@downtowncommons.org
SUMMARY:Lawn Game Night
DESCRIPTION:
URL:https://downtowncommons.org/event/lawn-game-night-12/
END:VEVENT
BEGIN:VEVENT
DTSTART;TZID=America/Chicago:20210427T093000
DTEND;TZID=America/Chicago:20210427T103000
DTSTAMP:20260424T102650
CREATED:20210422T150210Z
LAST-MODIFIED:20210422T150210Z
UID:10000752-1619515800-1619519400@downtowncommons.org
SUMMARY:iStroll Workout Class
DESCRIPTION:iStroll is the ultimate 60 minute stroller workout made by athletes for parents. iStroll incorporates running\, body weight\, dumbbells\, resistance bands and of course\, a jogging stroller! It gives both moms and dads a full body workout while keeping babies moving and happy!\niStroll\, however\, is more than a workout class. It is a place to meet other parents with similar interests who are also in the same life stage. As you become stronger\, faster and healthier\, you will not only make life long friends but through leading by example you will empower the next generation to be fit too.\nCome try us out! Your first class is always free
URL:https://downtowncommons.org/event/istroll-workout-class/
END:VEVENT
BEGIN:VEVENT
DTSTART;TZID=America/Chicago:20210420T080000
DTEND;TZID=America/Chicago:20210420T170000
DTSTAMP:20260424T102650
CREATED:20210422T150914Z
LAST-MODIFIED:20210423T205939Z
UID:10000599-1618905600-1618938000@downtowncommons.org
SUMMARY:iStroll Workout Class
DESCRIPTION:iStroll is the ultimate 60 minute stroller workout made by athletes for parents. iStroll incorporates running\, body weight\, dumbbells\, resistance bands and of course\, a jogging stroller! It gives both moms and dads a full body workout while keeping babies moving and happy!\niStroll\, however\, is more than a workout class. It is a place to meet other parents with similar interests who are also in the same life stage. As you become stronger\, faster and healthier\, you will not only make life long friends but through leading by example you will empower the next generation to be fit too.\nCome try us out! Your first class is always free.
URL:https://downtowncommons.org/event/istroll-workout-class-9/
END:VEVENT
BEGIN:VEVENT
DTSTART;TZID=America/Chicago:20201231T120000
DTEND;TZID=America/Chicago:20201231T160000
DTSTAMP:20260424T102650
CREATED:20201216T142037Z
LAST-MODIFIED:20201216T142037Z
UID:10000550-1609416000-1609430400@downtowncommons.org
SUMMARY:Clarksville's Spam the Love Event
DESCRIPTION:Guiness Book of World Records event to create the largest spam musubi and feed the hungry. \nProceeds go to YAIPAK & LOAVES AND FISHES
URL:https://downtowncommons.org/event/clarksvilles-spam-the-love-event/
END:VEVENT
BEGIN:VEVENT
DTSTART;TZID=America/Chicago:20201212T090000
DTEND;TZID=America/Chicago:20201212T140000
DTSTAMP:20260424T102650
CREATED:20201105T144251Z
LAST-MODIFIED:20201216T141542Z
UID:10000546-1607763600-1607781600@downtowncommons.org
SUMMARY:Holiday Market
DESCRIPTION:CLARKSVILLE\, Tenn. (CLARKSVILLENOW) – Clarksville’s Downtown Commons will host its first-ever Holiday Market on Saturday\, Dec. 12\, from 9 a.m-2 p.m. \n\n\n\nThe purpose of the Holiday Market is to offer local small businesses and vendors an opportunity to engage with the community during the holiday season\, according to county spokesperson Michelle Newell. There will be a wide variety of vendors offering a range of handmade gifts. \nSanta Claus himself will be in attendance to take requests from the children\, from a healthy distance\, of course. \nFood trucks will be available along Main Street during the Market. \n\n\n\nA social distancing plan will be in place for the Holiday Market\, and masks will be required for those in attendance.
URL:https://downtowncommons.org/event/holiday-market/
END:VEVENT
BEGIN:VEVENT
DTSTART;TZID=America/Chicago:20201205T170000
DTEND;TZID=America/Chicago:20201205T190000
DTSTAMP:20260424T102650
CREATED:20201105T162755Z
LAST-MODIFIED:20201216T141610Z
UID:10000547-1607187600-1607194800@downtowncommons.org
SUMMARY:Clarksville Christmas Parade
DESCRIPTION:CLARKSVILLE\, Tenn. (CLARKSVILLENOW) – Yes\, Clarksville will have a Christmas Parade this year\, of sorts. It will be a parade in reverse\, with floats and displays along the side of the road and spectators driving through to see the sights. \n\n\n\nThe parade usually winds through downtown Clarksville while of spectators line the streets. This year\, the “parade” will be from 5-7 p.m. on Saturday\, Dec. 5\, on Riverside Drive. Participants will be positioned along the road\, and citizens will drive through the event\, according to a news release. \nThe public should anticipate several road closures on the day of the parade: \n\nFrom noon to 8 p.m.\, both southbound lanes on Riverside Drive and the center turning lane will be closed. Only one northbound and one southbound lane will be open for two-way traffic.\nLeft turns onto Riverside Drive from McClure Street and Jefferson Street will be prohibited. Only right turns will be permitted.
URL:https://downtowncommons.org/event/clarksville-christmas-parade/
END:VEVENT
BEGIN:VEVENT
DTSTART;TZID=America/Chicago:20201103T170000
DTEND;TZID=America/Chicago:20201103T190000
DTSTAMP:20260424T102650
CREATED:20201103T183417Z
LAST-MODIFIED:20201103T183417Z
UID:10000543-1604422800-1604430000@downtowncommons.org
SUMMARY:Lawn Game Night
DESCRIPTION:
URL:https://downtowncommons.org/event/lawn-game-night-11/
END:VEVENT
BEGIN:VEVENT
DTSTART;TZID=America/Chicago:20201016T190000
DTEND;TZID=America/Chicago:20201016T220000
DTSTAMP:20260424T102650
CREATED:20201014T135743Z
LAST-MODIFIED:20201014T135743Z
UID:10000542-1602874800-1602885600@downtowncommons.org
SUMMARY:Downtown @ Sundown Concert
DESCRIPTION:On Friday\, October 16\, the Good Rockin Tonight band will be performing at the Downtown Commons from 7 – 10 p.m. \n\nThe concert is free and open to the public. Everyone is invited to come and bring family\, friends\, and their own chairs and blankets. Families and friends are asked to stay with the group they entered the park with to allow for social distancing. Coolers and pets are prohibited at the concert. There will be a central entrance at the corner of Second and Legion Streets where temperatures will be checked before entering.\n\n\n\nThis year’s Downtown @ Sundown Concerts are presented by title sponsors TriStar Beverage of Clarksville (Bud Light and Essentia\,) and F&M Bank. Airborne Disposal is an additional sponsor for the concerts.\n\n\n\nBeverages will be sold on-site. Food trucks will be located on Main Street\, and as always there are a variety of food venues to choose from in the downtown area before and during the concert. Downtown Commons t-shirts will also be given away throughout the evening.\n\n\n\n“We appreciate the sponsors and are really looking forward to hosting this concert for the community. We have a plan in place to help people social distance while they have a good time and enjoy the music\,” said Montgomery County Mayor Jim Durrett.\n\n\n\nFor questions\, contact manewell@mcgtn.net
URL:https://downtowncommons.org/event/downtown-sundown-concert-2/
LOCATION:Downtown Commons\, 215 Legion Street\, Clarksville\, TN\, 37040\, United States
END:VEVENT
BEGIN:VEVENT
DTSTART;TZID=America/Chicago:20201002T190000
DTEND;TZID=America/Chicago:20201002T220000
DTSTAMP:20260424T102650
CREATED:20201002T190741Z
LAST-MODIFIED:20201002T190741Z
UID:10000539-1601665200-1601676000@downtowncommons.org
SUMMARY:Downtown @ Sundown Concert
DESCRIPTION:On Friday\, October 2\, Jerrod Niemann and Tyler Booth will be performing at the Downtown Commons from 7 – 10 p.m. for the first of two concerts planned during the month of October.\n\nCountry musician Tyler Booth\, will be kicking off the evening as he opens for platinum-certified hitmaker country musician Jerrod Niemann. They are sure to bring the crowd to their feet with a great combination of songs.\n\n\n\nThe concert is free and open to the public. Everyone is invited to come and bring family\, friends and their own chairs and blankets. Families and friends are asked to stay with the group they entered the park with to allow for social distancing. Coolers and pets are prohibited at the concert. There will be a central entrance at the corner of Second and Legion Streets where temperatures will be checked before entering.\n\n\n\nThis year’s Downtown @ Sundown Concerts are presented by title sponsors TriStar Beverage of Clarksville (Bud Light and Essentia\,) and F&M Bank. Airborne Disposal is an additional sponsor for the concerts.\n\n\n\nBeverages will be sold on-site. Food trucks will be located on Main Street\, and as always there are a variety of food venues to choose from in the downtown area before and during the concert. Downtown Commons t-shirts will also be given away throughout the evening.\n\n\n\n“We appreciate the sponsors and are really looking forward to hosting this concert for the community. We have a plan in place to help people social distance while they have a good time and enjoy the music\,” said Montgomery County Mayor Jim Durrett.\n\n\nThe next concert is scheduled to take place on October 16.\n\nFor questions\, contact manewell@mcgtn.net
URL:https://downtowncommons.org/event/downtown-sundown-concert/
LOCATION:Downtown Commons\, 215 Legion Street\, Clarksville\, TN\, 37040\, United States
END:VEVENT
BEGIN:VEVENT
DTSTART;TZID=America/Chicago:20201001T194500
DTEND;TZID=America/Chicago:20201001T203000
DTSTAMP:20260424T102650
CREATED:20200730T142245Z
LAST-MODIFIED:20200730T142245Z
UID:10000668-1601581500-1601584200@downtowncommons.org
SUMMARY:Sunset Yoga
DESCRIPTION:Join us for Sunset Yoga at the Downtown Commons with Jane Manning\, of NBalance Yoga! Bring your mat and a water bottle. Please stay at least 6 feet apart from others\, and wear your mask coming on and off the turf. Thank you.
URL:https://downtowncommons.org/event/sunset-yoga-3/
LOCATION:Downtown Commons\, 215 Legion Street\, Clarksville\, TN\, 37040\, United States
END:VEVENT
BEGIN:VEVENT
DTSTART;TZID=America/Chicago:20200929T170000
DTEND;TZID=America/Chicago:20200929T190000
DTSTAMP:20260424T102650
CREATED:20200721T143035Z
LAST-MODIFIED:20200721T143035Z
UID:10000665-1601398800-1601406000@downtowncommons.org
SUMMARY:Lawn Game Night
DESCRIPTION:
URL:https://downtowncommons.org/event/lawn-game-night-10/
LOCATION:Downtown Commons\, 215 Legion Street\, Clarksville\, TN\, 37040\, United States
END:VEVENT
BEGIN:VEVENT
DTSTART;TZID=America/Chicago:20200924T120000
DTEND;TZID=America/Chicago:20200924T140000
DTSTAMP:20260424T102650
CREATED:20200721T142519Z
LAST-MODIFIED:20200721T142519Z
UID:10000644-1600948800-1600956000@downtowncommons.org
SUMMARY:Chalking Up the Downtown Commons
DESCRIPTION:Bring your own chalk and snap a photo of your creations! Tag us on FB and Instagram using the hashtag #ChalkingUpTheCommons
URL:https://downtowncommons.org/event/chalking-up-the-downtown-commons-9/
LOCATION:Downtown Commons\, 215 Legion Street\, Clarksville\, TN\, 37040\, United States
END:VEVENT
BEGIN:VEVENT
DTSTART;TZID=America/Chicago:20200922T170000
DTEND;TZID=America/Chicago:20200922T190000
DTSTAMP:20260424T102650
CREATED:20200721T143018Z
LAST-MODIFIED:20200721T143018Z
UID:10000664-1600794000-1600801200@downtowncommons.org
SUMMARY:Lawn Game Night
DESCRIPTION:
URL:https://downtowncommons.org/event/lawn-game-night-9/
LOCATION:Downtown Commons\, 215 Legion Street\, Clarksville\, TN\, 37040\, United States
END:VEVENT
END:VCALENDAR