BEGIN:VCALENDAR
VERSION:2.0
PRODID:-//Downtown Commons - ECPv6.15.11//NONSGML v1.0//EN
CALSCALE:GREGORIAN
METHOD:PUBLISH
X-WR-CALNAME:Downtown Commons
X-ORIGINAL-URL:https://downtowncommons.org
X-WR-CALDESC:Events for Downtown Commons
REFRESH-INTERVAL;VALUE=DURATION:PT1H
X-Robots-Tag:noindex
X-PUBLISHED-TTL:PT1H
BEGIN:VTIMEZONE
TZID:America/Chicago
BEGIN:DAYLIGHT
TZOFFSETFROM:-0600
TZOFFSETTO:-0500
TZNAME:CDT
DTSTART:20220313T080000
END:DAYLIGHT
BEGIN:STANDARD
TZOFFSETFROM:-0500
TZOFFSETTO:-0600
TZNAME:CST
DTSTART:20221106T070000
END:STANDARD
BEGIN:DAYLIGHT
TZOFFSETFROM:-0600
TZOFFSETTO:-0500
TZNAME:CDT
DTSTART:20230312T080000
END:DAYLIGHT
BEGIN:STANDARD
TZOFFSETFROM:-0500
TZOFFSETTO:-0600
TZNAME:CST
DTSTART:20231105T070000
END:STANDARD
BEGIN:DAYLIGHT
TZOFFSETFROM:-0600
TZOFFSETTO:-0500
TZNAME:CDT
DTSTART:20240310T080000
END:DAYLIGHT
BEGIN:STANDARD
TZOFFSETFROM:-0500
TZOFFSETTO:-0600
TZNAME:CST
DTSTART:20241103T070000
END:STANDARD
BEGIN:DAYLIGHT
TZOFFSETFROM:-0600
TZOFFSETTO:-0500
TZNAME:CDT
DTSTART:20250309T080000
END:DAYLIGHT
BEGIN:STANDARD
TZOFFSETFROM:-0500
TZOFFSETTO:-0600
TZNAME:CST
DTSTART:20251102T070000
END:STANDARD
END:VTIMEZONE
BEGIN:VEVENT
DTSTART;TZID=America/Chicago:20240705T190000
DTEND;TZID=America/Chicago:20240705T210000
DTSTAMP:20260422T172616
CREATED:20240222T165617Z
LAST-MODIFIED:20240419T190813Z
UID:10000948-1720206000-1720213200@downtowncommons.org
SUMMARY:Downtown @ Sundown Midnight Blue
DESCRIPTION:
URL:https://downtowncommons.org/event/downtown-sundown-18/
LOCATION:Downtown Commons\, 215 Legion Street\, Clarksville\, TN\, 37040\, United States
END:VEVENT
BEGIN:VEVENT
DTSTART;TZID=America/Chicago:20240705T100000
DTEND;TZID=America/Chicago:20240705T110000
DTSTAMP:20260422T172616
CREATED:20240604T145715Z
LAST-MODIFIED:20240614T171531Z
UID:10000993-1720173600-1720177200@downtowncommons.org
SUMMARY:Library Friday Performance
DESCRIPTION:Science Program
URL:https://downtowncommons.org/event/friday-library-performance/
LOCATION:Downtown Commons\, 215 Legion Street\, Clarksville\, TN\, 37040\, United States
END:VEVENT
BEGIN:VEVENT
DTSTART;TZID=America/Chicago:20240701T100000
DTEND;TZID=America/Chicago:20240701T110000
DTSTAMP:20260422T172616
CREATED:20240319T145233Z
LAST-MODIFIED:20240603T131722Z
UID:10000972-1719828000-1719831600@downtowncommons.org
SUMMARY:Story Time with the Library
DESCRIPTION:
URL:https://downtowncommons.org/event/story-time-with-the-library-5/
LOCATION:Downtown Commons\, 215 Legion Street\, Clarksville\, TN\, 37040\, United States
END:VEVENT
BEGIN:VEVENT
DTSTART;TZID=America/Chicago:20240624T100000
DTEND;TZID=America/Chicago:20240624T110000
DTSTAMP:20260422T172616
CREATED:20240319T145208Z
LAST-MODIFIED:20240603T131735Z
UID:10000971-1719223200-1719226800@downtowncommons.org
SUMMARY:Story Time with the Library
DESCRIPTION:
URL:https://downtowncommons.org/event/story-time-with-the-library-4/
LOCATION:Downtown Commons\, 215 Legion Street\, Clarksville\, TN\, 37040\, United States
END:VEVENT
BEGIN:VEVENT
DTSTART;TZID=America/Chicago:20240621T190000
DTEND;TZID=America/Chicago:20240621T210000
DTSTAMP:20260422T172616
CREATED:20240222T165521Z
LAST-MODIFIED:20240419T190734Z
UID:10000946-1718996400-1719003600@downtowncommons.org
SUMMARY:Downtown @ Sundown ACE Party Band
DESCRIPTION:
URL:https://downtowncommons.org/event/downtown-sundown-16/
LOCATION:Downtown Commons\, 215 Legion Street\, Clarksville\, TN\, 37040\, United States
END:VEVENT
BEGIN:VEVENT
DTSTART;TZID=America/Chicago:20240617T100000
DTEND;TZID=America/Chicago:20240617T110000
DTSTAMP:20260422T172616
CREATED:20240319T145148Z
LAST-MODIFIED:20240603T131749Z
UID:10000970-1718618400-1718622000@downtowncommons.org
SUMMARY:Story Time with the Library
DESCRIPTION:
URL:https://downtowncommons.org/event/story-time-with-the-library-3/
LOCATION:Downtown Commons\, 215 Legion Street\, Clarksville\, TN\, 37040\, United States
END:VEVENT
BEGIN:VEVENT
DTSTART;TZID=America/Chicago:20240615T193000
DTEND;TZID=America/Chicago:20240615T213000
DTSTAMP:20260422T172616
CREATED:20240222T170245Z
LAST-MODIFIED:20240419T190529Z
UID:10000955-1718479800-1718487000@downtowncommons.org
SUMMARY:Movie Night Finding Nemo
DESCRIPTION:
URL:https://downtowncommons.org/event/family-movie-night-2/
LOCATION:Downtown Commons\, 215 Legion Street\, Clarksville\, TN\, 37040\, United States
END:VEVENT
BEGIN:VEVENT
DTSTART;TZID=America/Chicago:20240614T100000
DTEND;TZID=America/Chicago:20240614T110000
DTSTAMP:20260422T172616
CREATED:20240319T145502Z
LAST-MODIFIED:20240604T145120Z
UID:10000975-1718359200-1718362800@downtowncommons.org
SUMMARY:Library Friday Performance
DESCRIPTION:Nashville Zoo
URL:https://downtowncommons.org/event/library-friday-performance-2/
LOCATION:Downtown Commons\, 215 Legion Street\, Clarksville\, TN\, 37040\, United States
END:VEVENT
BEGIN:VEVENT
DTSTART;TZID=America/Chicago:20240610T100000
DTEND;TZID=America/Chicago:20240610T110000
DTSTAMP:20260422T172616
CREATED:20240319T145121Z
LAST-MODIFIED:20240603T131804Z
UID:10000969-1718013600-1718017200@downtowncommons.org
SUMMARY:Story Time with the Library
DESCRIPTION:
URL:https://downtowncommons.org/event/story-time-with-the-library-2/
LOCATION:Downtown Commons\, 215 Legion Street\, Clarksville\, TN\, 37040\, United States
END:VEVENT
BEGIN:VEVENT
DTSTART;TZID=America/Chicago:20240607T190000
DTEND;TZID=America/Chicago:20240607T210000
DTSTAMP:20260422T172616
CREATED:20240222T165455Z
LAST-MODIFIED:20240419T190449Z
UID:10000945-1717786800-1717794000@downtowncommons.org
SUMMARY:Downtown @ Sundown Motor City
DESCRIPTION:
URL:https://downtowncommons.org/event/downtown-sundown-15/
LOCATION:Downtown Commons\, 215 Legion Street\, Clarksville\, TN\, 37040\, United States
END:VEVENT
BEGIN:VEVENT
DTSTART;TZID=America/Chicago:20240607T100000
DTEND;TZID=America/Chicago:20240607T230000
DTSTAMP:20260422T172616
CREATED:20240319T145343Z
LAST-MODIFIED:20240604T142604Z
UID:10000974-1717754400-1717801200@downtowncommons.org
SUMMARY:Library Friday Performance
DESCRIPTION:Bright Star Theatre
URL:https://downtowncommons.org/event/library-friday-performance/
LOCATION:Downtown Commons\, 215 Legion Street\, Clarksville\, TN\, 37040\, United States
END:VEVENT
BEGIN:VEVENT
DTSTART;TZID=America/Chicago:20240605T190000
DTEND;TZID=America/Chicago:20240605T210000
DTSTAMP:20260422T172616
CREATED:20240222T171216Z
LAST-MODIFIED:20240222T171216Z
UID:10000963-1717614000-1717621200@downtowncommons.org
SUMMARY:Nashville Symphony
DESCRIPTION:
URL:https://downtowncommons.org/event/nashville-symphony/
LOCATION:Downtown Commons\, 215 Legion Street\, Clarksville\, TN\, 37040\, United States
END:VEVENT
BEGIN:VEVENT
DTSTART;TZID=America/Chicago:20240603T100000
DTEND;TZID=America/Chicago:20240603T110000
DTSTAMP:20260422T172616
CREATED:20240319T145058Z
LAST-MODIFIED:20240603T131925Z
UID:10000968-1717408800-1717412400@downtowncommons.org
SUMMARY:Story Time with the Library
DESCRIPTION:
URL:https://downtowncommons.org/event/story-time-with-the-library/
LOCATION:Downtown Commons\, 215 Legion Street\, Clarksville\, TN\, 37040\, United States
END:VEVENT
BEGIN:VEVENT
DTSTART;TZID=America/Chicago:20240524T190000
DTEND;TZID=America/Chicago:20240524T210000
DTSTAMP:20260422T172616
CREATED:20240222T171048Z
LAST-MODIFIED:20240222T171048Z
UID:10000961-1716577200-1716584400@downtowncommons.org
SUMMARY:Dueling Pianos
DESCRIPTION:
URL:https://downtowncommons.org/event/dueling-pianos-2/
LOCATION:Downtown Commons\, 215 Legion Street\, Clarksville\, TN\, 37040\, United States
END:VEVENT
BEGIN:VEVENT
DTSTART;TZID=America/Chicago:20240521T190000
DTEND;TZID=America/Chicago:20240521T200000
DTSTAMP:20260422T172616
CREATED:20240419T191734Z
LAST-MODIFIED:20240419T191829Z
UID:10000977-1716318000-1716321600@downtowncommons.org
SUMMARY:Sunset Yoga
DESCRIPTION:
URL:https://downtowncommons.org/event/sunset-yoga-18/
LOCATION:Downtown Commons\, 215 Legion Street\, Clarksville\, TN\, 37040\, United States
END:VEVENT
BEGIN:VEVENT
DTSTART;TZID=America/Chicago:20240517T190000
DTEND;TZID=America/Chicago:20240517T210000
DTSTAMP:20260422T172616
CREATED:20240222T165419Z
LAST-MODIFIED:20240419T190411Z
UID:10000944-1715972400-1715979600@downtowncommons.org
SUMMARY:Downtown @ Sundown The Party Feels
DESCRIPTION:
URL:https://downtowncommons.org/event/downtown-sundown-14/
LOCATION:Downtown Commons\, 215 Legion Street\, Clarksville\, TN\, 37040\, United States
END:VEVENT
BEGIN:VEVENT
DTSTART;TZID=America/Chicago:20240514T113000
DTEND;TZID=America/Chicago:20240514T133000
DTSTAMP:20260422T172616
CREATED:20240426T140515Z
LAST-MODIFIED:20240426T140515Z
UID:10000981-1715686200-1715693400@downtowncommons.org
SUMMARY:VTC All Rise Exercise
DESCRIPTION:
URL:https://downtowncommons.org/event/vtc-all-rise-exercise/
LOCATION:Downtown Commons\, 215 Legion Street\, Clarksville\, TN\, 37040\, United States
END:VEVENT
BEGIN:VEVENT
DTSTART;TZID=America/Chicago:20240511T193000
DTEND;TZID=America/Chicago:20240511T213000
DTSTAMP:20260422T172616
CREATED:20240222T170223Z
LAST-MODIFIED:20240419T190336Z
UID:10000954-1715455800-1715463000@downtowncommons.org
SUMMARY:Movie Night Tangled
DESCRIPTION:
URL:https://downtowncommons.org/event/family-movie-night/
LOCATION:Downtown Commons\, 215 Legion Street\, Clarksville\, TN\, 37040\, United States
END:VEVENT
BEGIN:VEVENT
DTSTART;TZID=America/Chicago:20240423T190000
DTEND;TZID=America/Chicago:20240423T200000
DTSTAMP:20260422T172616
CREATED:20240419T191951Z
LAST-MODIFIED:20240419T192011Z
UID:10000979-1713898800-1713902400@downtowncommons.org
SUMMARY:Sunset Yoga
DESCRIPTION:
URL:https://downtowncommons.org/event/sunset-yoga-20/
LOCATION:Downtown Commons\, 215 Legion Street\, Clarksville\, TN\, 37040\, United States
END:VEVENT
BEGIN:VEVENT
DTSTART;TZID=America/Chicago:20240420T100000
DTEND;TZID=America/Chicago:20240420T140000
DTSTAMP:20260422T172616
CREATED:20240222T171006Z
LAST-MODIFIED:20240222T171006Z
UID:10000960-1713607200-1713621600@downtowncommons.org
SUMMARY:Kid Palooza
DESCRIPTION:Join us April 20th as we celebrate Downtown Commons turning 6! Our annual birthday party for the Commons (Kid Palooza) is sure to be fun with bounce houses\, balloons\, food trucks and more!
URL:https://downtowncommons.org/event/kid-palooza-2/
LOCATION:Downtown Commons\, 215 Legion Street\, Clarksville\, TN\, 37040\, United States
END:VEVENT
BEGIN:VEVENT
DTSTART;TZID=America/Chicago:20231231T190000
DTEND;TZID=America/Chicago:20231231T233000
DTSTAMP:20260422T172616
CREATED:20230711T165335Z
LAST-MODIFIED:20230711T165335Z
UID:10000941-1704049200-1704065400@downtowncommons.org
SUMMARY:New Years Eve at the Commons
DESCRIPTION:
URL:https://downtowncommons.org/event/new-years-eve-at-the-commons/
LOCATION:TN
END:VEVENT
BEGIN:VEVENT
DTSTART;TZID=America/Chicago:20231221T180000
DTEND;TZID=America/Chicago:20231221T210000
DTSTAMP:20260422T172616
CREATED:20230328T165647Z
LAST-MODIFIED:20230711T165240Z
UID:10000917-1703181600-1703192400@downtowncommons.org
SUMMARY:Movie Night and Ice Sculpting "The Santa Clause"
DESCRIPTION:
URL:https://downtowncommons.org/event/movie-night-and-ice-sculpting-the-commons-the-polar-express/
LOCATION:Downtown Commons\, 215 Legion Street\, Clarksville\, TN\, 37040\, United States
END:VEVENT
BEGIN:VEVENT
DTSTART;VALUE=DATE:20231202
DTEND;VALUE=DATE:20231203
DTSTAMP:20260422T172616
CREATED:20230711T165202Z
LAST-MODIFIED:20230711T165202Z
UID:10000940-1701475200-1701561599@downtowncommons.org
SUMMARY:Christmas Parade and Tree Lighting
DESCRIPTION:
URL:https://downtowncommons.org/event/christmas-parade-and-tree-lighting/
LOCATION:TN
END:VEVENT
BEGIN:VEVENT
DTSTART;TZID=America/Chicago:20231028T180000
DTEND;TZID=America/Chicago:20231028T200000
DTSTAMP:20260422T172616
CREATED:20230328T165751Z
LAST-MODIFIED:20230711T211715Z
UID:10000918-1698516000-1698523200@downtowncommons.org
SUMMARY:Halloween Movie Night "Halloweentown"
DESCRIPTION:
URL:https://downtowncommons.org/event/halloween-movie-night-the-commons/
LOCATION:Downtown Commons\, 215 Legion Street\, Clarksville\, TN\, 37040\, United States
END:VEVENT
BEGIN:VEVENT
DTSTART;TZID=America/Chicago:20231024T180000
DTEND;TZID=America/Chicago:20231024T190000
DTSTAMP:20260422T172617
CREATED:20230328T163542Z
LAST-MODIFIED:20230328T163542Z
UID:10000907-1698170400-1698174000@downtowncommons.org
SUMMARY:Sunset Yoga
DESCRIPTION:
URL:https://downtowncommons.org/event/sunset-yoga-17/2023-10-24/
LOCATION:Downtown Commons\, 215 Legion Street\, Clarksville\, TN\, 37040\, United States
END:VEVENT
BEGIN:VEVENT
DTSTART;TZID=America/Chicago:20231020T190000
DTEND;TZID=America/Chicago:20231020T220000
DTSTAMP:20260422T172617
CREATED:20230711T163755Z
LAST-MODIFIED:20230711T163755Z
UID:10000903-1697828400-1697839200@downtowncommons.org
SUMMARY:Downtown @ Sundown I The Wildflowers (Tom Petty)
DESCRIPTION:
URL:https://downtowncommons.org/event/downtown-sundown-13-8/
LOCATION:Downtown Commons\, 215 Legion Street\, Clarksville\, TN\, 37040\, United States
END:VEVENT
BEGIN:VEVENT
DTSTART;TZID=America/Chicago:20231006T190000
DTEND;TZID=America/Chicago:20231006T220000
DTSTAMP:20260422T172617
CREATED:20230711T163712Z
LAST-MODIFIED:20230711T163712Z
UID:10000902-1696618800-1696629600@downtowncommons.org
SUMMARY:Downtown @ Sundown I American Floyd
DESCRIPTION:
URL:https://downtowncommons.org/event/downtown-sundown-13-7/
LOCATION:Downtown Commons\, 215 Legion Street\, Clarksville\, TN\, 37040\, United States
END:VEVENT
BEGIN:VEVENT
DTSTART;TZID=America/Chicago:20231004T180000
DTEND;TZID=America/Chicago:20231004T200000
DTSTAMP:20260422T172617
CREATED:20230711T165018Z
LAST-MODIFIED:20230711T165018Z
UID:10000939-1696442400-1696449600@downtowncommons.org
SUMMARY:Worship Night I Grace Community Church
DESCRIPTION:
URL:https://downtowncommons.org/event/worship-night-i-grace-community-church/
LOCATION:TN
END:VEVENT
BEGIN:VEVENT
DTSTART;TZID=America/Chicago:20230927T190000
DTEND;TZID=America/Chicago:20230927T210000
DTSTAMP:20260422T172617
CREATED:20230713T162038Z
LAST-MODIFIED:20230919T210029Z
UID:10000943-1695841200-1695848400@downtowncommons.org
SUMMARY:Clarksville United
DESCRIPTION:
URL:https://downtowncommons.org/event/summer-reading-program-21/
LOCATION:Downtown Commons\, 215 Legion Street\, Clarksville\, TN\, 37040\, United States
END:VEVENT
BEGIN:VEVENT
DTSTART;TZID=America/Chicago:20230926T180000
DTEND;TZID=America/Chicago:20230926T190000
DTSTAMP:20260422T172617
CREATED:20230328T163542Z
LAST-MODIFIED:20230328T163542Z
UID:10000906-1695751200-1695754800@downtowncommons.org
SUMMARY:Sunset Yoga
DESCRIPTION:
URL:https://downtowncommons.org/event/sunset-yoga-17/2023-09-26/
LOCATION:Downtown Commons\, 215 Legion Street\, Clarksville\, TN\, 37040\, United States
END:VEVENT
END:VCALENDAR