BEGIN:VCALENDAR
VERSION:2.0
PRODID:-//Downtown Commons - ECPv6.15.11//NONSGML v1.0//EN
CALSCALE:GREGORIAN
METHOD:PUBLISH
X-WR-CALNAME:Downtown Commons
X-ORIGINAL-URL:https://downtowncommons.org
X-WR-CALDESC:Events for Downtown Commons
REFRESH-INTERVAL;VALUE=DURATION:PT1H
X-Robots-Tag:noindex
X-PUBLISHED-TTL:PT1H
BEGIN:VTIMEZONE
TZID:America/Chicago
BEGIN:DAYLIGHT
TZOFFSETFROM:-0600
TZOFFSETTO:-0500
TZNAME:CDT
DTSTART:20180311T080000
END:DAYLIGHT
BEGIN:STANDARD
TZOFFSETFROM:-0500
TZOFFSETTO:-0600
TZNAME:CST
DTSTART:20181104T070000
END:STANDARD
BEGIN:DAYLIGHT
TZOFFSETFROM:-0600
TZOFFSETTO:-0500
TZNAME:CDT
DTSTART:20190310T080000
END:DAYLIGHT
BEGIN:STANDARD
TZOFFSETFROM:-0500
TZOFFSETTO:-0600
TZNAME:CST
DTSTART:20191103T070000
END:STANDARD
BEGIN:DAYLIGHT
TZOFFSETFROM:-0600
TZOFFSETTO:-0500
TZNAME:CDT
DTSTART:20200308T080000
END:DAYLIGHT
BEGIN:STANDARD
TZOFFSETFROM:-0500
TZOFFSETTO:-0600
TZNAME:CST
DTSTART:20201101T070000
END:STANDARD
BEGIN:DAYLIGHT
TZOFFSETFROM:-0600
TZOFFSETTO:-0500
TZNAME:CDT
DTSTART:20210314T080000
END:DAYLIGHT
BEGIN:STANDARD
TZOFFSETFROM:-0500
TZOFFSETTO:-0600
TZNAME:CST
DTSTART:20211107T070000
END:STANDARD
END:VTIMEZONE
BEGIN:VEVENT
DTSTART;TZID=America/Chicago:20200924T120000
DTEND;TZID=America/Chicago:20200924T140000
DTSTAMP:20260424T081007
CREATED:20200721T142519Z
LAST-MODIFIED:20200721T142519Z
UID:10000644-1600948800-1600956000@downtowncommons.org
SUMMARY:Chalking Up the Downtown Commons
DESCRIPTION:Bring your own chalk and snap a photo of your creations! Tag us on FB and Instagram using the hashtag #ChalkingUpTheCommons
URL:https://downtowncommons.org/event/chalking-up-the-downtown-commons-9/
LOCATION:Downtown Commons\, 215 Legion Street\, Clarksville\, TN\, 37040\, United States
END:VEVENT
BEGIN:VEVENT
DTSTART;TZID=America/Chicago:20200922T170000
DTEND;TZID=America/Chicago:20200922T190000
DTSTAMP:20260424T081007
CREATED:20200721T143018Z
LAST-MODIFIED:20200721T143018Z
UID:10000664-1600794000-1600801200@downtowncommons.org
SUMMARY:Lawn Game Night
DESCRIPTION:
URL:https://downtowncommons.org/event/lawn-game-night-9/
LOCATION:Downtown Commons\, 215 Legion Street\, Clarksville\, TN\, 37040\, United States
END:VEVENT
BEGIN:VEVENT
DTSTART;TZID=America/Chicago:20200917T120000
DTEND;TZID=America/Chicago:20200917T140000
DTSTAMP:20260424T081007
CREATED:20200721T142602Z
LAST-MODIFIED:20200721T142602Z
UID:10000645-1600344000-1600351200@downtowncommons.org
SUMMARY:Chalking Up the Downtown Commons
DESCRIPTION:Bring your own chalk and snap a photo of your creations! Tag us on FB and Instagram using the hashtag #ChalkingUpTheCommons
URL:https://downtowncommons.org/event/chalking-up-the-downtown-commons-10/
LOCATION:Downtown Commons\, 215 Legion Street\, Clarksville\, TN\, 37040\, United States
END:VEVENT
BEGIN:VEVENT
DTSTART;TZID=America/Chicago:20200916T060000
DTEND;TZID=America/Chicago:20200916T073000
DTSTAMP:20260424T081007
CREATED:20200730T142353Z
LAST-MODIFIED:20200730T142353Z
UID:10000538-1600236000-1600241400@downtowncommons.org
SUMMARY:Sunrise Yoga
DESCRIPTION:Join us for Sunrise Yoga at the Downtown Commons with Jane Manning\, of NBalance Yoga! Bring your mat and a water bottle. Please stay at least 6 feet apart from others\, and wear your mask coming on and off the turf. Thank you.
URL:https://downtowncommons.org/event/sunrise-yoga-2/
LOCATION:Downtown Commons\, 215 Legion Street\, Clarksville\, TN\, 37040\, United States
END:VEVENT
BEGIN:VEVENT
DTSTART;TZID=America/Chicago:20200915T170000
DTEND;TZID=America/Chicago:20200915T190000
DTSTAMP:20260424T081007
CREATED:20200721T142959Z
LAST-MODIFIED:20200721T142959Z
UID:10000662-1600189200-1600196400@downtowncommons.org
SUMMARY:Lawn Game Night
DESCRIPTION:
URL:https://downtowncommons.org/event/lawn-game-night-8/
LOCATION:Downtown Commons\, 215 Legion Street\, Clarksville\, TN\, 37040\, United States
END:VEVENT
BEGIN:VEVENT
DTSTART;TZID=America/Chicago:20200910T120000
DTEND;TZID=America/Chicago:20200910T140000
DTSTAMP:20260424T081007
CREATED:20200721T142447Z
LAST-MODIFIED:20200721T142447Z
UID:10000643-1599739200-1599746400@downtowncommons.org
SUMMARY:Chalking Up the Downtown Commons
DESCRIPTION:Bring your own chalk and snap a photo of your creations! Tag us on FB and Instagram using the hashtag #ChalkingUpTheCommons
URL:https://downtowncommons.org/event/chalking-up-the-downtown-commons-8/
LOCATION:Downtown Commons\, 215 Legion Street\, Clarksville\, TN\, 37040\, United States
END:VEVENT
BEGIN:VEVENT
DTSTART;TZID=America/Chicago:20200908T170000
DTEND;TZID=America/Chicago:20200908T190000
DTSTAMP:20260424T081007
CREATED:20200721T142935Z
LAST-MODIFIED:20200721T142935Z
UID:10000659-1599584400-1599591600@downtowncommons.org
SUMMARY:Lawn Game Night
DESCRIPTION:
URL:https://downtowncommons.org/event/lawn-game-night-7/
LOCATION:Downtown Commons\, 215 Legion Street\, Clarksville\, TN\, 37040\, United States
END:VEVENT
BEGIN:VEVENT
DTSTART;TZID=America/Chicago:20200903T120000
DTEND;TZID=America/Chicago:20200903T140000
DTSTAMP:20260424T081007
CREATED:20200721T142419Z
LAST-MODIFIED:20200721T142419Z
UID:10000642-1599134400-1599141600@downtowncommons.org
SUMMARY:Chalking Up the Downtown Commons
DESCRIPTION:Bring your own chalk and snap a photo of your creations! Tag us on FB and Instagram using the hashtag #ChalkingUpTheCommons
URL:https://downtowncommons.org/event/chalking-up-the-downtown-commons-7/
LOCATION:Downtown Commons\, 215 Legion Street\, Clarksville\, TN\, 37040\, United States
END:VEVENT
BEGIN:VEVENT
DTSTART;TZID=America/Chicago:20200902T194500
DTEND;TZID=America/Chicago:20200902T203000
DTSTAMP:20260424T081007
CREATED:20200730T142202Z
LAST-MODIFIED:20200730T142202Z
UID:10000667-1599075900-1599078600@downtowncommons.org
SUMMARY:Sunset Yoga
DESCRIPTION:Join us for Sunset Yoga at the Downtown Commons with Jane Manning\, of NBalance Yoga! Bring your mat and a water bottle. Please stay at least 6 feet apart from others\, and wear your mask coming on and off the turf. Thank you.
URL:https://downtowncommons.org/event/sunset-yoga-2/
LOCATION:Downtown Commons\, 215 Legion Street\, Clarksville\, TN\, 37040\, United States
END:VEVENT
BEGIN:VEVENT
DTSTART;TZID=America/Chicago:20200901T170000
DTEND;TZID=America/Chicago:20200901T190000
DTSTAMP:20260424T081007
CREATED:20200721T142914Z
LAST-MODIFIED:20200721T142914Z
UID:10000657-1598979600-1598986800@downtowncommons.org
SUMMARY:Lawn Game Night
DESCRIPTION:
URL:https://downtowncommons.org/event/lawn-game-night-6/
LOCATION:Downtown Commons\, 215 Legion Street\, Clarksville\, TN\, 37040\, United States
END:VEVENT
BEGIN:VEVENT
DTSTART;TZID=America/Chicago:20200827T120000
DTEND;TZID=America/Chicago:20200827T140000
DTSTAMP:20260424T081007
CREATED:20200721T142349Z
LAST-MODIFIED:20200721T142349Z
UID:10000641-1598529600-1598536800@downtowncommons.org
SUMMARY:Chalking Up the Downtown Commons
DESCRIPTION:Bring your own chalk and snap a photo of your creations! Tag us on FB and Instagram using the hashtag #ChalkingUpTheCommons
URL:https://downtowncommons.org/event/chalking-up-the-downtown-commons-6/
LOCATION:Downtown Commons\, 215 Legion Street\, Clarksville\, TN\, 37040\, United States
END:VEVENT
BEGIN:VEVENT
DTSTART;TZID=America/Chicago:20200825T170000
DTEND;TZID=America/Chicago:20200825T190000
DTSTAMP:20260424T081007
CREATED:20200721T142850Z
LAST-MODIFIED:20200721T142850Z
UID:10000654-1598374800-1598382000@downtowncommons.org
SUMMARY:Lawn Game Night
DESCRIPTION:
URL:https://downtowncommons.org/event/lawn-game-night-5/
LOCATION:Downtown Commons\, 215 Legion Street\, Clarksville\, TN\, 37040\, United States
END:VEVENT
BEGIN:VEVENT
DTSTART;TZID=America/Chicago:20200820T120000
DTEND;TZID=America/Chicago:20200820T140000
DTSTAMP:20260424T081007
CREATED:20200721T142319Z
LAST-MODIFIED:20200721T142319Z
UID:10000640-1597924800-1597932000@downtowncommons.org
SUMMARY:Chalking Up the Downtown Commons
DESCRIPTION:Bring your own chalk and snap a photo of your creations! Tag us on FB and Instagram using the hashtag #ChalkingUpTheCommons
URL:https://downtowncommons.org/event/chalking-up-the-downtown-commons-5/
LOCATION:Downtown Commons\, 215 Legion Street\, Clarksville\, TN\, 37040\, United States
END:VEVENT
BEGIN:VEVENT
DTSTART;TZID=America/Chicago:20200819T060000
DTEND;TZID=America/Chicago:20200819T073000
DTSTAMP:20260424T081007
CREATED:20200730T142327Z
LAST-MODIFIED:20200730T142327Z
UID:10000535-1597816800-1597822200@downtowncommons.org
SUMMARY:Sunrise Yoga
DESCRIPTION:Join us for Sunrise Yoga at the Downtown Commons with Jane Manning\, of NBalance Yoga! Bring your mat and a water bottle. Please stay at least 6 feet apart from others\, and wear your mask coming on and off the turf. Thank you.
URL:https://downtowncommons.org/event/sunrise-yoga/
LOCATION:Downtown Commons\, 215 Legion Street\, Clarksville\, TN\, 37040\, United States
END:VEVENT
BEGIN:VEVENT
DTSTART;TZID=America/Chicago:20200818T170000
DTEND;TZID=America/Chicago:20200818T190000
DTSTAMP:20260424T081007
CREATED:20200721T142828Z
LAST-MODIFIED:20200721T142828Z
UID:10000652-1597770000-1597777200@downtowncommons.org
SUMMARY:Lawn Game Night
DESCRIPTION:
URL:https://downtowncommons.org/event/lawn-game-night-4/
LOCATION:Downtown Commons\, 215 Legion Street\, Clarksville\, TN\, 37040\, United States
END:VEVENT
BEGIN:VEVENT
DTSTART;TZID=America/Chicago:20200813T120000
DTEND;TZID=America/Chicago:20200813T140000
DTSTAMP:20260424T081007
CREATED:20200721T142250Z
LAST-MODIFIED:20200721T142250Z
UID:10000639-1597320000-1597327200@downtowncommons.org
SUMMARY:Chalking Up the Downtown Commons
DESCRIPTION:Bring your own chalk and snap a photo of your creations! Tag us on FB and Instagram using the hashtag #ChalkingUpTheCommons
URL:https://downtowncommons.org/event/chalking-up-the-downtown-commons-4/
LOCATION:Downtown Commons\, 215 Legion Street\, Clarksville\, TN\, 37040\, United States
END:VEVENT
BEGIN:VEVENT
DTSTART;TZID=America/Chicago:20200811T170000
DTEND;TZID=America/Chicago:20200811T190000
DTSTAMP:20260424T081007
CREATED:20200721T142757Z
LAST-MODIFIED:20200721T142757Z
UID:10000649-1597165200-1597172400@downtowncommons.org
SUMMARY:Lawn Game Night
DESCRIPTION:
URL:https://downtowncommons.org/event/lawn-game-night-3/
LOCATION:Downtown Commons\, 215 Legion Street\, Clarksville\, TN\, 37040\, United States
END:VEVENT
BEGIN:VEVENT
DTSTART;TZID=America/Chicago:20200806T120000
DTEND;TZID=America/Chicago:20200806T140000
DTSTAMP:20260424T081007
CREATED:20200721T142201Z
LAST-MODIFIED:20200721T142201Z
UID:10000638-1596715200-1596722400@downtowncommons.org
SUMMARY:Chalking Up the Downtown Commons
DESCRIPTION:Bring your own chalk and snap a photo of your creations! Tag us on FB and Instagram using the hashtag #ChalkingUpTheCommons
URL:https://downtowncommons.org/event/chalking-up-the-downtown-commons-3/
LOCATION:Downtown Commons\, 215 Legion Street\, Clarksville\, TN\, 37040\, United States
END:VEVENT
BEGIN:VEVENT
DTSTART;TZID=America/Chicago:20200805T194500
DTEND;TZID=America/Chicago:20200805T203000
DTSTAMP:20260424T081007
CREATED:20200730T142132Z
LAST-MODIFIED:20200730T142132Z
UID:10000666-1596656700-1596659400@downtowncommons.org
SUMMARY:Sunset Yoga
DESCRIPTION:Join us for Sunset Yoga at the Downtown Commons with Jane Manning\, of NBalance Yoga! Bring your mat and a water bottle. Please stay at least 6 feet apart from others\, and wear your mask coming on and off the turf. Thank you.
URL:https://downtowncommons.org/event/sunset-yoga/
LOCATION:Downtown Commons\, 215 Legion Street\, Clarksville\, TN\, 37040\, United States
END:VEVENT
BEGIN:VEVENT
DTSTART;TZID=America/Chicago:20200804T170000
DTEND;TZID=America/Chicago:20200804T190000
DTSTAMP:20260424T081007
CREATED:20200721T142734Z
LAST-MODIFIED:20200721T142734Z
UID:10000647-1596560400-1596567600@downtowncommons.org
SUMMARY:Lawn Game Night
DESCRIPTION:
URL:https://downtowncommons.org/event/lawn-game-night-2/
LOCATION:Downtown Commons\, 215 Legion Street\, Clarksville\, TN\, 37040\, United States
END:VEVENT
BEGIN:VEVENT
DTSTART;TZID=America/Chicago:20200730T120000
DTEND;TZID=America/Chicago:20200730T140000
DTSTAMP:20260424T081007
CREATED:20200721T142058Z
LAST-MODIFIED:20200721T142058Z
UID:10000637-1596110400-1596117600@downtowncommons.org
SUMMARY:Chalking Up the Downtown Commons
DESCRIPTION:Bring your own chalk and snap a photo of your creations! Tag us on FB and Instagram using the hashtag #ChalkingUpTheCommons
URL:https://downtowncommons.org/event/chalking-up-the-downtown-commons-2/
LOCATION:Downtown Commons\, 215 Legion Street\, Clarksville\, TN\, 37040\, United States
END:VEVENT
BEGIN:VEVENT
DTSTART;TZID=America/Chicago:20200728T170000
DTEND;TZID=America/Chicago:20200728T190000
DTSTAMP:20260424T081007
CREATED:20200721T142712Z
LAST-MODIFIED:20200721T142712Z
UID:10000646-1595955600-1595962800@downtowncommons.org
SUMMARY:Lawn Game Night
DESCRIPTION:
URL:https://downtowncommons.org/event/lawn-game-night/
LOCATION:Downtown Commons\, 215 Legion Street\, Clarksville\, TN\, 37040\, United States
END:VEVENT
BEGIN:VEVENT
DTSTART;TZID=America/Chicago:20200723T120000
DTEND;TZID=America/Chicago:20200723T140000
DTSTAMP:20260424T081007
CREATED:20200721T141924Z
LAST-MODIFIED:20200721T142011Z
UID:10000636-1595505600-1595512800@downtowncommons.org
SUMMARY:Chalking Up the Downtown Commons
DESCRIPTION:Bring your own chalk and snap a photo of your creations! Tag us on FB and Instagram using the hashtag #ChalkingUpTheCommons
URL:https://downtowncommons.org/event/chalking-up-the-downtown-commons/
LOCATION:Downtown Commons\, 215 Legion Street\, Clarksville\, TN\, 37040\, United States
END:VEVENT
BEGIN:VEVENT
DTSTART;TZID=America/Chicago:20200115T180000
DTEND;TZID=America/Chicago:20200115T190000
DTSTAMP:20260424T081007
CREATED:20191204T214425Z
LAST-MODIFIED:20191204T214425Z
UID:10000633-1579111200-1579114800@downtowncommons.org
SUMMARY:Montgomery Co. Vs Ft. Campbell Broomball Game
DESCRIPTION:Broomball is sweeping the nation! Come out to the Downtown Commons and watch America’s most entertaining sport. Fort Campbell will challenge the reigning champions\, Montgomery County\, for their third annual showdown on the ice. \nShow up early to see The Clarksville Police Department will take on the Clarksville Fire Rescue at 5 PM and the 911 Dispatchers to try their hand in a short match.
URL:https://downtowncommons.org/event/montgomery-co-vs-ft-campbell-broomball-game/
LOCATION:Downtown Commons\, 215 Legion Street\, Clarksville\, TN\, 37040\, United States
END:VEVENT
BEGIN:VEVENT
DTSTART;TZID=America/Chicago:20200115T170000
DTEND;TZID=America/Chicago:20200115T180000
DTSTAMP:20260424T081007
CREATED:20191204T214725Z
LAST-MODIFIED:20191204T214725Z
UID:10000634-1579107600-1579111200@downtowncommons.org
SUMMARY:Clarksville Police vs Fire Rescue Broomball Game
DESCRIPTION:Cops\, Fire Fighters\, and…Brooms? Come to the Downtown Commons to see the game that’s sweeping the nation. The Clarksville Police Department will take on the Clarksville Fire Rescue in a game of broomball on January 15th at 5 PM. \nStick around for the 911 Dispatchers to try their hand before\, back for a 3rd year\, Jim Durrett\, Montgomery County Mayor takes on U.S. Army Fort Campbell at 6 PM!
URL:https://downtowncommons.org/event/clarksville-police-vs-fire-rescue-broomball-game/
LOCATION:Downtown Commons\, 215 Legion Street\, Clarksville\, TN\, 37040\, United States
END:VEVENT
BEGIN:VEVENT
DTSTART;TZID=America/Chicago:20200103T180000
DTEND;TZID=America/Chicago:20200103T210000
DTSTAMP:20260424T081007
CREATED:20191204T215046Z
LAST-MODIFIED:20191204T215314Z
UID:10000635-1578074400-1578085200@downtowncommons.org
SUMMARY:Cops on Ice to Benefit Big Brothers Big Sisters of Clarksville
DESCRIPTION:Join us on January 3rd from 6-9 PM and skate with our Clarksville Police Department\, Montgomery County Sheriff’s Office and Austin Peay Police Department. $2 from every ticket will be donated to Big Brothers Big Sister of Clarksville. \nSkate Sessions open at 10 am and continue on the even hour thought the day. Law Enforcement Officers will be on the ice from 6-9 PM only. \nTicket Prices\nChildren (12 and under)- $10\nAdults- $12\nGovernment Employees/ APSU ID- $10 \n  \nIf you would like more information about being a mentor for Big Brothers Big Sisters or make a donation\, click here.
URL:https://downtowncommons.org/event/cops/
LOCATION:Downtown Commons\, 215 Legion Street\, Clarksville\, TN\, 37040\, United States
END:VEVENT
BEGIN:VEVENT
DTSTART;TZID=America/Chicago:20191126T183000
DTEND;TZID=America/Chicago:20191126T193000
DTSTAMP:20260424T081007
CREATED:20190308T212423Z
LAST-MODIFIED:20191010T152750Z
UID:10000461-1574793000-1574796600@downtowncommons.org
SUMMARY:Turn it up Tuesday
DESCRIPTION:Introducing ArtLink Sounds Music Program!! \nOur music program is FREE!!! Now get excited to create music!\nWe will be doing a variety of music skills at this program everything month. We will dabble with song writing\, reading music\, basic understanding of music and even have some guitars and keyboards available to play. We will go deeper as each class progresses and offering the ability to play with instruments and learn how to play them! If you have always wanted to explore more of your passions in music now is the moment to seize.\nWe ask If you are interested please register online at \nhttp://artlinkclarksville.com/sound-music-program/ \nor below is link to just the registration form \nhttps://docs.google.com/forms/d/e/1FAIpQLSe1XdcJz3usGJMEFEhPYE18I0Ey22_jojJN4weZilzV3jxePg/viewform \nIf you have your own guitar or key board please bring it. It is always best to learn on your own instrument. We do have some guitars and keys available to play with at the program but we do not have any that can be taken home at this time. \nWe offer our music program at Downtown Commons every 4th Tuesday monthly!\nWe also have our music program at the Public library every 2nd Tuesday monthly! \nYou are welcome to be apart of which ever date and location you choose. Or If you are like me and can’t get enough of music come to both!! \nWe have other programs and creative festivals we host and all the info can be found on our website. \nAll this stuff sounds like you want to be more than just a participant? We always love bringing on new team members to work with us on all the creative happenings. Just let us know! you can email us at artlinkclarksville@gmail.com or register tone a volunteer on our website.\nhttp://artlinkclarksville.com/contact/
URL:https://downtowncommons.org/event/turn-it-up-tuesday-9/
LOCATION:Downtown Commons\, 215 Legion Street\, Clarksville\, TN\, 37040\, United States
ATTACH;FMTTYPE=image/jpeg:https://downtowncommons.org/wp-content/uploads/2019/03/Turn-it-up-FB.jpg
END:VEVENT
BEGIN:VEVENT
DTSTART;TZID=America/Chicago:20191102T160000
DTEND;TZID=America/Chicago:20191102T200000
DTSTAMP:20260424T081007
CREATED:20190926T134543Z
LAST-MODIFIED:20190926T134543Z
UID:10000630-1572710400-1572724800@downtowncommons.org
SUMMARY:Fall Back to the 50's Sock Hop
DESCRIPTION:Let’s fall back in time! Join us on November 2nd from 4-8 as we turn back our clocks and hop into the 1950’s to celebrate Daylight Savings Time. Don your best 50’s attire and come dance the night away to the 1950’s Rock & Roll band “Good Rockin’ Tonight!” Weather permitting\, we will be featuring classic 1950’s cars displayed by the Memory Lane Cruisers. With food vendors on site and beer for sale everyone’s in for a great night. \nNo ticket required- FREE EVENT!
URL:https://downtowncommons.org/event/fallback/
LOCATION:Downtown Commons\, 215 Legion Street\, Clarksville\, TN\, 37040\, United States
ATTACH;FMTTYPE=image/png:https://downtowncommons.org/wp-content/uploads/2019/09/Fall-Back-to-the-50s.png
END:VEVENT
BEGIN:VEVENT
DTSTART;TZID=America/Chicago:20191023T060000
DTEND;TZID=America/Chicago:20191023T064500
DTSTAMP:20260424T081007
CREATED:20190927T194939Z
LAST-MODIFIED:20190927T194939Z
UID:10000632-1571810400-1571813100@downtowncommons.org
SUMMARY:Morning Yoga Series
DESCRIPTION:Join us at Downtown Commons for a morning yoga class from 6-6:45 AM to connect with yourself\, with your community\, and with nature. This is a FREE CLASS! Please bring a yoga mat\, water\, and a friend! \nMorning Yoga Series\nApril 10 & 24\nMay 8 & 22\nJune 12 & 26\nJuly 10 & 24\nAugust 14 & 28\nSeptember 11 & 25\nOctober 9 & 23 \nhttp://downtowncommons.org/yoga/ \nSponsored by NBalance | Hot Yoga & Fitness and Two Rivers Company
URL:https://downtowncommons.org/event/morning-yoga-series-12/
LOCATION:Downtown Commons\, 215 Legion Street\, Clarksville\, TN\, 37040\, United States
ATTACH;FMTTYPE=image/png:https://downtowncommons.org/wp-content/uploads/2019/07/Copy-of-Yoga-FB-Event.png
END:VEVENT
BEGIN:VEVENT
DTSTART;TZID=America/Chicago:20191022T133000
DTEND;TZID=America/Chicago:20191022T143000
DTSTAMP:20260424T081007
CREATED:20190308T212338Z
LAST-MODIFIED:20190308T212338Z
UID:10000458-1571751000-1571754600@downtowncommons.org
SUMMARY:Turn it up Tuesday
DESCRIPTION:Introducing ArtLink Sounds Music Program!! \nOur music program is FREE!!! Now get excited to create music!\nWe will be doing a variety of music skills at this program everything month. We will dabble with song writing\, reading music\, basic understanding of music and even have some guitars and keyboards available to play. We will go deeper as each class progresses and offering the ability to play with instruments and learn how to play them! If you have always wanted to explore more of your passions in music now is the moment to seize.\nWe ask If you are interested please register online at \nhttp://artlinkclarksville.com/sound-music-program/ \nor below is link to just the registration form \nhttps://docs.google.com/forms/d/e/1FAIpQLSe1XdcJz3usGJMEFEhPYE18I0Ey22_jojJN4weZilzV3jxePg/viewform \nIf you have your own guitar or key board please bring it. It is always best to learn on your own instrument. We do have some guitars and keys available to play with at the program but we do not have any that can be taken home at this time. \nWe offer our music program at Downtown Commons every 4th Tuesday monthly!\nWe also have our music program at the Public library every 2nd Tuesday monthly! \nYou are welcome to be apart of which ever date and location you choose. Or If you are like me and can’t get enough of music come to both!! \nWe have other programs and creative festivals we host and all the info can be found on our website. \nAll this stuff sounds like you want to be more than just a participant? We always love bringing on new team members to work with us on all the creative happenings. Just let us know! you can email us at artlinkclarksville@gmail.com or register tone a volunteer on our website.\nhttp://artlinkclarksville.com/contact/
URL:https://downtowncommons.org/event/turn-it-up-tuesday-8/
LOCATION:Downtown Commons\, 215 Legion Street\, Clarksville\, TN\, 37040\, United States
ATTACH;FMTTYPE=image/jpeg:https://downtowncommons.org/wp-content/uploads/2019/03/Turn-it-up-FB.jpg
END:VEVENT
END:VCALENDAR