BEGIN:VCALENDAR
VERSION:2.0
PRODID:-//Downtown Commons - ECPv6.15.11//NONSGML v1.0//EN
CALSCALE:GREGORIAN
METHOD:PUBLISH
X-WR-CALNAME:Downtown Commons
X-ORIGINAL-URL:https://downtowncommons.org
X-WR-CALDESC:Events for Downtown Commons
REFRESH-INTERVAL;VALUE=DURATION:PT1H
X-Robots-Tag:noindex
X-PUBLISHED-TTL:PT1H
BEGIN:VTIMEZONE
TZID:America/Chicago
BEGIN:DAYLIGHT
TZOFFSETFROM:-0600
TZOFFSETTO:-0500
TZNAME:CDT
DTSTART:20200308T080000
END:DAYLIGHT
BEGIN:STANDARD
TZOFFSETFROM:-0500
TZOFFSETTO:-0600
TZNAME:CST
DTSTART:20201101T070000
END:STANDARD
BEGIN:DAYLIGHT
TZOFFSETFROM:-0600
TZOFFSETTO:-0500
TZNAME:CDT
DTSTART:20210314T080000
END:DAYLIGHT
BEGIN:STANDARD
TZOFFSETFROM:-0500
TZOFFSETTO:-0600
TZNAME:CST
DTSTART:20211107T070000
END:STANDARD
BEGIN:DAYLIGHT
TZOFFSETFROM:-0600
TZOFFSETTO:-0500
TZNAME:CDT
DTSTART:20220313T080000
END:DAYLIGHT
BEGIN:STANDARD
TZOFFSETFROM:-0500
TZOFFSETTO:-0600
TZNAME:CST
DTSTART:20221106T070000
END:STANDARD
END:VTIMEZONE
BEGIN:VEVENT
DTSTART;TZID=America/Chicago:20210625T100000
DTEND;TZID=America/Chicago:20210625T110000
DTSTAMP:20260423T184931
CREATED:20210607T195758Z
LAST-MODIFIED:20210607T195758Z
UID:10000777-1624615200-1624618800@downtowncommons.org
SUMMARY:Summer Reading Program
DESCRIPTION:For more information\, please visit: \nTails and Tales Site (canva.com)
URL:https://downtowncommons.org/event/summer-reading-program-9/
END:VEVENT
BEGIN:VEVENT
DTSTART;TZID=America/Chicago:20210624T190000
DTEND;TZID=America/Chicago:20210624T200000
DTSTAMP:20260423T184931
CREATED:20210607T200617Z
LAST-MODIFIED:20210624T193027Z
UID:10000785-1624561200-1624564800@downtowncommons.org
SUMMARY:Turn Up Dance Fitness w/ Sarah
DESCRIPTION:For more information please visit @artlinkclarksvilletennessee Facebook Page!
URL:https://downtowncommons.org/event/turn-up-dance-fitness-w-sarah-3/
END:VEVENT
BEGIN:VEVENT
DTSTART;TZID=America/Chicago:20210623T180000
DTEND;TZID=America/Chicago:20210623T200000
DTSTAMP:20260423T184931
CREATED:20210422T143855Z
LAST-MODIFIED:20210422T143855Z
UID:10000739-1624471200-1624478400@downtowncommons.org
SUMMARY:Worship Night
DESCRIPTION:
URL:https://downtowncommons.org/event/worship-night-2/
END:VEVENT
BEGIN:VEVENT
DTSTART;TZID=America/Chicago:20210622T193000
DTEND;TZID=America/Chicago:20210622T203000
DTSTAMP:20260423T184931
CREATED:20210326T192849Z
LAST-MODIFIED:20210326T192849Z
UID:10000681-1624390200-1624393800@downtowncommons.org
SUMMARY:Sunset Yoga
DESCRIPTION:
URL:https://downtowncommons.org/event/sunset-yoga-6/
END:VEVENT
BEGIN:VEVENT
DTSTART;TZID=America/Chicago:20210622T170000
DTEND;TZID=America/Chicago:20210622T190000
DTSTAMP:20260423T184931
CREATED:20210422T144219Z
LAST-MODIFIED:20210422T144324Z
UID:10000746-1624381200-1624388400@downtowncommons.org
SUMMARY:Lawn Game Night
DESCRIPTION:
URL:https://downtowncommons.org/event/lawn-game-night-20/
END:VEVENT
BEGIN:VEVENT
DTSTART;TZID=America/Chicago:20210622T093000
DTEND;TZID=America/Chicago:20210622T103000
DTSTAMP:20260423T184931
CREATED:20210422T151426Z
LAST-MODIFIED:20210422T151426Z
UID:10000607-1624354200-1624357800@downtowncommons.org
SUMMARY:iStroll Workout Class
DESCRIPTION:iStroll is the ultimate 60 minute stroller workout made by athletes for parents. iStroll incorporates running\, body weight\, dumbbells\, resistance bands and of course\, a jogging stroller! It gives both moms and dads a full body workout while keeping babies moving and happy!\niStroll\, however\, is more than a workout class. It is a place to meet other parents with similar interests who are also in the same life stage. As you become stronger\, faster and healthier\, you will not only make life long friends but through leading by example you will empower the next generation to be fit too.\nCome try us out! Your first class is always free.
URL:https://downtowncommons.org/event/istroll-workout-class-15/
END:VEVENT
BEGIN:VEVENT
DTSTART;TZID=America/Chicago:20210621T100000
DTEND;TZID=America/Chicago:20210621T110000
DTSTAMP:20260423T184931
CREATED:20210607T195356Z
LAST-MODIFIED:20210607T195356Z
UID:10000771-1624269600-1624273200@downtowncommons.org
SUMMARY:Summer Reading Program
DESCRIPTION:For more information\, please visit: \nTails and Tales Site (canva.com)
URL:https://downtowncommons.org/event/summer-reading-program-3/
END:VEVENT
BEGIN:VEVENT
DTSTART;TZID=America/Chicago:20210619T100000
DTEND;TZID=America/Chicago:20210619T190000
DTSTAMP:20260423T184931
CREATED:20210409T180454Z
LAST-MODIFIED:20210409T180454Z
UID:10000724-1624096800-1624129200@downtowncommons.org
SUMMARY:Clarksville Juneteenth Block Party
DESCRIPTION:For more information: Clarksville Juneteenth – Clarksville\, TN
URL:https://downtowncommons.org/event/clarksville-juneteenth-block-party/
END:VEVENT
BEGIN:VEVENT
DTSTART;TZID=America/Chicago:20210618T190000
DTEND;TZID=America/Chicago:20210618T213000
DTSTAMP:20260423T184931
CREATED:20210222T144855Z
LAST-MODIFIED:20210326T192500Z
UID:10000670-1624042800-1624051800@downtowncommons.org
SUMMARY:Downtown @ Sundown Concert - American Floyd
DESCRIPTION:
URL:https://downtowncommons.org/event/downtown-sundown-concert-6/
END:VEVENT
BEGIN:VEVENT
DTSTART;TZID=America/Chicago:20210617T190000
DTEND;TZID=America/Chicago:20210617T200000
DTSTAMP:20260423T184931
CREATED:20210607T200550Z
LAST-MODIFIED:20210607T200550Z
UID:10000784-1623956400-1623960000@downtowncommons.org
SUMMARY:Turn Up Dance Fitness w/ Sarah
DESCRIPTION:For more information please visit @artlinkclarksvilletennessee Facebook Page!
URL:https://downtowncommons.org/event/turn-up-dance-fitness-w-sarah-2/
END:VEVENT
BEGIN:VEVENT
DTSTART;TZID=America/Chicago:20210617T100000
DTEND;TZID=America/Chicago:20210617T110000
DTSTAMP:20260423T184931
CREATED:20210607T195731Z
LAST-MODIFIED:20210607T195731Z
UID:10000776-1623924000-1623927600@downtowncommons.org
SUMMARY:Summer Reading Program
DESCRIPTION:For more information\, please visit: \nTails and Tales Site (canva.com)
URL:https://downtowncommons.org/event/summer-reading-program-8/
END:VEVENT
BEGIN:VEVENT
DTSTART;TZID=America/Chicago:20210615T170000
DTEND;TZID=America/Chicago:20210615T200000
DTSTAMP:20260423T184931
CREATED:20210422T144159Z
LAST-MODIFIED:20210422T144159Z
UID:10000745-1623776400-1623787200@downtowncommons.org
SUMMARY:Lawn Game Night
DESCRIPTION:
URL:https://downtowncommons.org/event/lawn-game-night-19/
END:VEVENT
BEGIN:VEVENT
DTSTART;TZID=America/Chicago:20210614T100000
DTEND;TZID=America/Chicago:20210614T110000
DTSTAMP:20260423T184931
CREATED:20210607T195154Z
LAST-MODIFIED:20210607T195154Z
UID:10000769-1623664800-1623668400@downtowncommons.org
SUMMARY:Summer Reading Program
DESCRIPTION:For more information\, please visit: \nTails and Tales Site (canva.com)
URL:https://downtowncommons.org/event/summer-reading-program-2/
END:VEVENT
BEGIN:VEVENT
DTSTART;TZID=America/Chicago:20210612T080000
DTEND;TZID=America/Chicago:20210612T120000
DTSTAMP:20260423T184931
CREATED:20210511T205242Z
LAST-MODIFIED:20210511T205242Z
UID:10000761-1623484800-1623499200@downtowncommons.org
SUMMARY:Downtown Market Kids Zone
DESCRIPTION:
URL:https://downtowncommons.org/event/downtown-market-kids-zone-3/
END:VEVENT
BEGIN:VEVENT
DTSTART;TZID=America/Chicago:20210611T100000
DTEND;TZID=America/Chicago:20210611T110000
DTSTAMP:20260423T184931
CREATED:20210607T195700Z
LAST-MODIFIED:20210607T195700Z
UID:10000774-1623405600-1623409200@downtowncommons.org
SUMMARY:Summer Reading Program
DESCRIPTION:For more information\, please visit: \nTails and Tales Site (canva.com)
URL:https://downtowncommons.org/event/summer-reading-program-7/
END:VEVENT
BEGIN:VEVENT
DTSTART;TZID=America/Chicago:20210610T190000
DTEND;TZID=America/Chicago:20210610T200000
DTSTAMP:20260423T184931
CREATED:20210607T200510Z
LAST-MODIFIED:20210607T200510Z
UID:10000783-1623351600-1623355200@downtowncommons.org
SUMMARY:Turn Up Dance Fitness w/ Sarah
DESCRIPTION:For more information please visit @artlinkclarksvilletennessee Facebook Page!
URL:https://downtowncommons.org/event/turn-up-dance-fitness-w-sarah/
END:VEVENT
BEGIN:VEVENT
DTSTART;TZID=America/Chicago:20210608T170000
DTEND;TZID=America/Chicago:20210608T200000
DTSTAMP:20260423T184931
CREATED:20210422T144139Z
LAST-MODIFIED:20210422T144139Z
UID:10000744-1623171600-1623182400@downtowncommons.org
SUMMARY:Lawn Game Night
DESCRIPTION:
URL:https://downtowncommons.org/event/lawn-game-night-18/
END:VEVENT
BEGIN:VEVENT
DTSTART;TZID=America/Chicago:20210608T093000
DTEND;TZID=America/Chicago:20210608T103000
DTSTAMP:20260423T184931
CREATED:20210422T150813Z
LAST-MODIFIED:20210422T150813Z
UID:10000598-1623144600-1623148200@downtowncommons.org
SUMMARY:iStroll Workout Class
DESCRIPTION:iStroll is the ultimate 60 minute stroller workout made by athletes for parents. iStroll incorporates running\, body weight\, dumbbells\, resistance bands and of course\, a jogging stroller! It gives both moms and dads a full body workout while keeping babies moving and happy!\niStroll\, however\, is more than a workout class. It is a place to meet other parents with similar interests who are also in the same life stage. As you become stronger\, faster and healthier\, you will not only make life long friends but through leading by example you will empower the next generation to be fit too.\nCome try us out! Your first class is always free.
URL:https://downtowncommons.org/event/istroll-workout-class-7/
END:VEVENT
BEGIN:VEVENT
DTSTART;TZID=America/Chicago:20210607T100000
DTEND;TZID=America/Chicago:20210607T110000
DTSTAMP:20260423T184931
CREATED:20210607T195124Z
LAST-MODIFIED:20210607T195124Z
UID:10000770-1623060000-1623063600@downtowncommons.org
SUMMARY:Summer Reading Program
DESCRIPTION:For more information\, please visit: \nTails and Tales Site (canva.com)
URL:https://downtowncommons.org/event/summer-reading-program/
END:VEVENT
BEGIN:VEVENT
DTSTART;TZID=America/Chicago:20210604T190000
DTEND;TZID=America/Chicago:20210604T213000
DTSTAMP:20260423T184931
CREATED:20210222T144834Z
LAST-MODIFIED:20210326T192445Z
UID:10000669-1622833200-1622842200@downtowncommons.org
SUMMARY:Downtown @ Sundown Concert - Keith Anderson
DESCRIPTION:
URL:https://downtowncommons.org/event/downtown-sundown-concert-5/
END:VEVENT
BEGIN:VEVENT
DTSTART;TZID=America/Chicago:20210601T170000
DTEND;TZID=America/Chicago:20210601T200000
DTSTAMP:20260423T184931
CREATED:20210422T144119Z
LAST-MODIFIED:20210422T144119Z
UID:10000743-1622566800-1622577600@downtowncommons.org
SUMMARY:Lawn Game Night
DESCRIPTION:
URL:https://downtowncommons.org/event/lawn-game-night-16/
END:VEVENT
BEGIN:VEVENT
DTSTART;TZID=America/Chicago:20210601T093000
DTEND;TZID=America/Chicago:20210601T103000
DTSTAMP:20260423T184931
CREATED:20210422T150739Z
LAST-MODIFIED:20210422T150739Z
UID:10000596-1622539800-1622543400@downtowncommons.org
SUMMARY:iStroll Workout Class
DESCRIPTION:iStroll is the ultimate 60 minute stroller workout made by athletes for parents. iStroll incorporates running\, body weight\, dumbbells\, resistance bands and of course\, a jogging stroller! It gives both moms and dads a full body workout while keeping babies moving and happy!\niStroll\, however\, is more than a workout class. It is a place to meet other parents with similar interests who are also in the same life stage. As you become stronger\, faster and healthier\, you will not only make life long friends but through leading by example you will empower the next generation to be fit too.\nCome try us out! Your first class is always free.
URL:https://downtowncommons.org/event/istroll-workout-class-6/
END:VEVENT
BEGIN:VEVENT
DTSTART;TZID=America/Chicago:20210529T080000
DTEND;TZID=America/Chicago:20210529T120000
DTSTAMP:20260423T184931
CREATED:20210511T205228Z
LAST-MODIFIED:20210511T205228Z
UID:10000760-1622275200-1622289600@downtowncommons.org
SUMMARY:Downtown Market Kids Zone
DESCRIPTION:
URL:https://downtowncommons.org/event/downtown-market-kids-zone-2/
END:VEVENT
BEGIN:VEVENT
DTSTART;TZID=America/Chicago:20210527T190000
DTEND;TZID=America/Chicago:20210527T200000
DTSTAMP:20260423T184931
CREATED:20210422T152411Z
LAST-MODIFIED:20210504T175236Z
UID:10000758-1622142000-1622145600@downtowncommons.org
SUMMARY:Turn Up Fitness with Sarah
DESCRIPTION:A HIIT inspired hip-hop dance fitness that is guaranteed to burn calories and tone muscle while dancing to your favorite music. This is an experience you DON’T want to miss! WHERE: The Dowtown Commons WHEN: Thursday April 8th\, 11am-12pm COST: $10 Turn Up is more than a fitness program. It’s a movement to empower you to live out loud\, dance ruthlessly while cheering each other on to break through the barriers we create ourselves and evolve unapologetically. Turn Up is for EVERYONE! Whether your a beginner or have danced for years. It’s about doing something fun for yourself while taking care of your body and living in your moment. LET’S TURN UP!
URL:https://downtowncommons.org/event/turn-up-fitness-with-sarah-4/
END:VEVENT
BEGIN:VEVENT
DTSTART;TZID=America/Chicago:20210525T193000
DTEND;TZID=America/Chicago:20210525T203000
DTSTAMP:20260423T184931
CREATED:20210326T192826Z
LAST-MODIFIED:20210326T192826Z
UID:10000680-1621971000-1621974600@downtowncommons.org
SUMMARY:Sunset Yoga
DESCRIPTION:
URL:https://downtowncommons.org/event/sunset-yoga-5/
END:VEVENT
BEGIN:VEVENT
DTSTART;TZID=America/Chicago:20210525T170000
DTEND;TZID=America/Chicago:20210525T190000
DTSTAMP:20260423T184931
CREATED:20210422T143124Z
LAST-MODIFIED:20210422T143124Z
UID:10000735-1621962000-1621969200@downtowncommons.org
SUMMARY:Lawn Game Night
DESCRIPTION:
URL:https://downtowncommons.org/event/lawn-game-night-17/
END:VEVENT
BEGIN:VEVENT
DTSTART;TZID=America/Chicago:20210521T190000
DTEND;TZID=America/Chicago:20210521T213000
DTSTAMP:20260423T184931
CREATED:20210222T144810Z
LAST-MODIFIED:20210326T192433Z
UID:10000554-1621623600-1621632600@downtowncommons.org
SUMMARY:Downtown @ Sundown Concert - Local Night
DESCRIPTION:Emmalee & Nightmasters
URL:https://downtowncommons.org/event/downtown-sundown-concert-4/
END:VEVENT
BEGIN:VEVENT
DTSTART;TZID=America/Chicago:20210520T190000
DTEND;TZID=America/Chicago:20210520T200000
DTSTAMP:20260423T184931
CREATED:20210422T152331Z
LAST-MODIFIED:20210504T175401Z
UID:10000757-1621537200-1621540800@downtowncommons.org
SUMMARY:Turn Up Fitness with Sarah
DESCRIPTION:A HIIT inspired hip-hop dance fitness that is guaranteed to burn calories and tone muscle while dancing to your favorite music. This is an experience you DON’T want to miss! WHERE: The Dowtown Commons WHEN: Thursday April 8th\, 11am-12pm COST: $10 Turn Up is more than a fitness program. It’s a movement to empower you to live out loud\, dance ruthlessly while cheering each other on to break through the barriers we create ourselves and evolve unapologetically. Turn Up is for EVERYONE! Whether your a beginner or have danced for years. It’s about doing something fun for yourself while taking care of your body and living in your moment. LET’S TURN UP!
URL:https://downtowncommons.org/event/turn-up-fitness-with-sarah-3/
END:VEVENT
BEGIN:VEVENT
DTSTART;TZID=America/Chicago:20210518T170000
DTEND;TZID=America/Chicago:20210518T200000
DTSTAMP:20260423T184931
CREATED:20210422T143046Z
LAST-MODIFIED:20210422T143046Z
UID:10000734-1621357200-1621368000@downtowncommons.org
SUMMARY:Lawn Game Night
DESCRIPTION:
URL:https://downtowncommons.org/event/lawn-game-night-15/
END:VEVENT
BEGIN:VEVENT
DTSTART;TZID=America/Chicago:20210518T093000
DTEND;TZID=America/Chicago:20210518T103000
DTSTAMP:20260423T184931
CREATED:20210422T150511Z
LAST-MODIFIED:20210422T150511Z
UID:10000755-1621330200-1621333800@downtowncommons.org
SUMMARY:iStroll Workout Class
DESCRIPTION:iStroll is the ultimate 60 minute stroller workout made by athletes for parents. iStroll incorporates running\, body weight\, dumbbells\, resistance bands and of course\, a jogging stroller! It gives both moms and dads a full body workout while keeping babies moving and happy!\niStroll\, however\, is more than a workout class. It is a place to meet other parents with similar interests who are also in the same life stage. As you become stronger\, faster and healthier\, you will not only make life long friends but through leading by example you will empower the next generation to be fit too.\nCome try us out! Your first class is always free.
URL:https://downtowncommons.org/event/istroll-workout-class-4/
END:VEVENT
END:VCALENDAR