BEGIN:VCALENDAR
VERSION:2.0
PRODID:-//Downtown Commons - ECPv6.15.11//NONSGML v1.0//EN
CALSCALE:GREGORIAN
METHOD:PUBLISH
X-WR-CALNAME:Downtown Commons
X-ORIGINAL-URL:https://downtowncommons.org
X-WR-CALDESC:Events for Downtown Commons
REFRESH-INTERVAL;VALUE=DURATION:PT1H
X-Robots-Tag:noindex
X-PUBLISHED-TTL:PT1H
BEGIN:VTIMEZONE
TZID:America/Chicago
BEGIN:DAYLIGHT
TZOFFSETFROM:-0600
TZOFFSETTO:-0500
TZNAME:CDT
DTSTART:20200308T080000
END:DAYLIGHT
BEGIN:STANDARD
TZOFFSETFROM:-0500
TZOFFSETTO:-0600
TZNAME:CST
DTSTART:20201101T070000
END:STANDARD
BEGIN:DAYLIGHT
TZOFFSETFROM:-0600
TZOFFSETTO:-0500
TZNAME:CDT
DTSTART:20210314T080000
END:DAYLIGHT
BEGIN:STANDARD
TZOFFSETFROM:-0500
TZOFFSETTO:-0600
TZNAME:CST
DTSTART:20211107T070000
END:STANDARD
BEGIN:DAYLIGHT
TZOFFSETFROM:-0600
TZOFFSETTO:-0500
TZNAME:CDT
DTSTART:20220313T080000
END:DAYLIGHT
BEGIN:STANDARD
TZOFFSETFROM:-0500
TZOFFSETTO:-0600
TZNAME:CST
DTSTART:20221106T070000
END:STANDARD
END:VTIMEZONE
BEGIN:VEVENT
DTSTART;TZID=America/Chicago:20210820T180000
DTEND;TZID=America/Chicago:20210820T190000
DTSTAMP:20260423T115833
CREATED:20210817T143322Z
LAST-MODIFIED:20210817T143322Z
UID:10000650-1629482400-1629486000@downtowncommons.org
SUMMARY:APSU Alumni Pre-Show!
DESCRIPTION:MONTGOMERY COUNTY\, Tenn​. – Friday\, August 20\, will be a night you want to remember! Beginning at 6:15 p.m.\, Austin Peay State University will introduce the community to ​the new APSU president\, Dr. Michael Licari\, along with an update and welcome from the new APSU athletic coaches. The cheer and dance team will also be present to motivate the crowd and lead the APSU Fight Song! \nLocal favorite Lucian Greene will then kick off the concert with acoustic music. The feature performance will begin at 7:45 p.m. with The Journey Tribute Band: DEPARTURE. This band of veteran musicians is high-energy and replicates the look\, sound and feel of the original 80s rock super group. Be sure to sing along as they play all the hit songs that everyone knows and loves! Performing over 100 shows throughout the nation each year\, DEPARTURE brings the best of Journey to audiences of all ages. \nLocal food trucks will also be set up before and during the shows. Chick’nCone\, Driving You Donuts\, Kadi’s Tacos and More and Burgasm are all expected to be on site. Tater Headz will also be open at the walk-up eatery on the corner of Legion Street and Third Street. Beer and other beverages will be for sale​\, with all proceeds benefiting our featured non-profit\, United Way of the Greater Clarksville Region. \nMain Street will be blocked off between Second Street and Third Street beginning at 4:30 p.m. to make room for the food trucks. \nDowntown @ Sundown Concerts are free and open to the public and take place the first and third Fridays of each month through October. Chairs and blankets are welcome; however\, pets\, coolers\, smoking/vaping or outside alcohol will not be allowed on site. \nDowntown @ Sundown is title sponsored by TriStar Beverage and F&M Bank and sponsored in part by Waste Connections of Clarksville. \nTo stay up to date with events happening at the Downtown Commons\, visit our Facebook page at Downtown Commons and our Instagram page @downtowncommonstn. \n###
URL:https://downtowncommons.org/event/apsu-alumni-pre-show/
END:VEVENT
BEGIN:VEVENT
DTSTART;TZID=America/Chicago:20210814T193000
DTEND;TZID=America/Chicago:20210814T213000
DTSTAMP:20260423T115833
CREATED:20210414T200659Z
LAST-MODIFIED:20210414T200659Z
UID:10000730-1628969400-1628976600@downtowncommons.org
SUMMARY:Movie Night - Coco
DESCRIPTION:The Downtown Commons is excited to start Movie Nights on April 24 for a family fun night in Downtown Clarksville! Come join us once a month through the month of August to watch your favorite family movies under the stars. A mobile art studio will be set up with ArtLink for hands-on activities for kids and food trucks on Main Street for treats for everyone. Chairs and blankets are welcome; however\, pets\, coolers\, smoking/vaping or outside alcohol will not be allowed on site. \nMovies will begin at 7:30 p.m. and don’t worry\, Tennessee Kettle Corn will be there with popcorn available for every movie! \nMovie Night Schedule:  \nApril 24 – Moana \nMay 15 – Toy Story 4 \nJune 26 – The Croods: A New Age \nJuly 10 – The Parent Trap \nAugust 14 – Coco \n  \nMovie Nights is brought to you by Beth King Phillips\, your downtown Southwest Funding Mortgage Branch and Todd Phillips Construction and sponsored in part by VRS Realty\, Heather Chase.
URL:https://downtowncommons.org/event/movie-night-coco/
END:VEVENT
BEGIN:VEVENT
DTSTART;TZID=America/Chicago:20210810T093000
DTEND;TZID=America/Chicago:20210810T103000
DTSTAMP:20260423T115833
CREATED:20210802T140529Z
LAST-MODIFIED:20210802T140529Z
UID:10000796-1628587800-1628591400@downtowncommons.org
SUMMARY:iStroll Workout Class
DESCRIPTION:iStroll is the ultimate 60 minute stroller workout made by athletes for parents. iStroll incorporates running\, body weight\, dumbbells\, resistance bands and of course\, a jogging stroller! It gives both moms and dads a full body workout while keeping babies moving and happy!\niStroll\, however\, is more than a workout class. It is a place to meet other parents with similar interests who are also in the same life stage. As you become stronger\, faster and healthier\, you will not only make life long friends but through leading by example you will empower the next generation to be fit too.\nCome try us out! Your first class is always free.
URL:https://downtowncommons.org/event/istroll-workout-class-8/
END:VEVENT
BEGIN:VEVENT
DTSTART;TZID=America/Chicago:20210807T080000
DTEND;TZID=America/Chicago:20210807T120000
DTSTAMP:20260423T115833
CREATED:20210511T205347Z
LAST-MODIFIED:20210511T205347Z
UID:10000765-1628323200-1628337600@downtowncommons.org
SUMMARY:Downtown Market Kids Zone
DESCRIPTION:
URL:https://downtowncommons.org/event/downtown-market-kids-zone-7/
END:VEVENT
BEGIN:VEVENT
DTSTART;TZID=America/Chicago:20210806T190000
DTEND;TZID=America/Chicago:20210806T213000
DTSTAMP:20260423T115833
CREATED:20210222T145007Z
LAST-MODIFIED:20210326T192541Z
UID:10000673-1628276400-1628285400@downtowncommons.org
SUMMARY:Downtown @ Sundown Concert - Rubik's Groove
DESCRIPTION:
URL:https://downtowncommons.org/event/downtown-sundown-concert-9/
END:VEVENT
BEGIN:VEVENT
DTSTART;TZID=America/Chicago:20210803T093000
DTEND;TZID=America/Chicago:20210803T103000
DTSTAMP:20260423T115833
CREATED:20210802T140510Z
LAST-MODIFIED:20210802T140510Z
UID:10000795-1627983000-1627986600@downtowncommons.org
SUMMARY:iStroll Workout Class
DESCRIPTION:iStroll is the ultimate 60 minute stroller workout made by athletes for parents. iStroll incorporates running\, body weight\, dumbbells\, resistance bands and of course\, a jogging stroller! It gives both moms and dads a full body workout while keeping babies moving and happy!\niStroll\, however\, is more than a workout class. It is a place to meet other parents with similar interests who are also in the same life stage. As you become stronger\, faster and healthier\, you will not only make life long friends but through leading by example you will empower the next generation to be fit too.\nCome try us out! Your first class is always free.
URL:https://downtowncommons.org/event/istroll-workout-class-5/
END:VEVENT
BEGIN:VEVENT
DTSTART;TZID=America/Chicago:20210731T193000
DTEND;TZID=America/Chicago:20210731T213000
DTSTAMP:20260423T115833
CREATED:20210727T194421Z
LAST-MODIFIED:20210727T194718Z
UID:10000794-1627759800-1627767000@downtowncommons.org
SUMMARY:Movie Night | The Parent Trap
DESCRIPTION:The Downtown Commons is excited to start Movie Nights for a family fun night in Downtown Clarksville! Come join us once a month through the month of August to watch your favorite family movies under the stars. A mobile art studio will be set up with ArtLink for hands-on activities for kids and food trucks on Main Street for treats for everyone. Chairs and blankets are welcome; however\, pets\, coolers\, smoking/vaping or outside alcohol will not be allowed on site. \nMovie Night Schedule:  \nJuly 31 – The Parent Trap \nAugust 14 – Coco \nSeptember 4 – Moana \nMovie Nights is brought to you by Beth King Phillips\, your downtown Southwest Funding Mortgage Branch and Todd Phillips Construction and sponsored in part by VRS Realty\, Heather Chase.
URL:https://downtowncommons.org/event/movie-night-the-parent-trap-2/
END:VEVENT
BEGIN:VEVENT
DTSTART;TZID=America/Chicago:20210729T190000
DTEND;TZID=America/Chicago:20210729T200000
DTSTAMP:20260423T115833
CREATED:20210708T133231Z
LAST-MODIFIED:20210708T133231Z
UID:10000793-1627585200-1627588800@downtowncommons.org
SUMMARY:Turn Up Dance Fitness w/ Sarah
DESCRIPTION:For more information please visit @artlinkclarksvilletennessee Facebook Page!
URL:https://downtowncommons.org/event/turn-up-dance-fitness-w-sarah-7/
END:VEVENT
BEGIN:VEVENT
DTSTART;TZID=America/Chicago:20210728T180000
DTEND;TZID=America/Chicago:20210728T200000
DTSTAMP:20260423T115833
CREATED:20210422T143916Z
LAST-MODIFIED:20210701T160358Z
UID:10000740-1627495200-1627502400@downtowncommons.org
SUMMARY:Worship Night
DESCRIPTION:Join us for Worship Night with Hilldale Baptist. \nHilldale Baptist Church | Clarksville\, TN
URL:https://downtowncommons.org/event/worship-night-3/
END:VEVENT
BEGIN:VEVENT
DTSTART;TZID=America/Chicago:20210727T193000
DTEND;TZID=America/Chicago:20210727T203000
DTSTAMP:20260423T115833
CREATED:20210326T192914Z
LAST-MODIFIED:20210326T192914Z
UID:10000682-1627414200-1627417800@downtowncommons.org
SUMMARY:Sunset Yoga
DESCRIPTION:
URL:https://downtowncommons.org/event/sunset-yoga-7/
END:VEVENT
BEGIN:VEVENT
DTSTART;TZID=America/Chicago:20210727T170000
DTEND;TZID=America/Chicago:20210727T190000
DTSTAMP:20260423T115833
CREATED:20210422T144730Z
LAST-MODIFIED:20210422T145046Z
UID:10000751-1627405200-1627412400@downtowncommons.org
SUMMARY:Lawn Game Night
DESCRIPTION:
URL:https://downtowncommons.org/event/lawn-games-night-4/
END:VEVENT
BEGIN:VEVENT
DTSTART;TZID=America/Chicago:20210727T093000
DTEND;TZID=America/Chicago:20210727T103000
DTSTAMP:20260423T115833
CREATED:20210422T151309Z
LAST-MODIFIED:20210422T151309Z
UID:10000605-1627378200-1627381800@downtowncommons.org
SUMMARY:iStroll Workout Class
DESCRIPTION:iStroll is the ultimate 60 minute stroller workout made by athletes for parents. iStroll incorporates running\, body weight\, dumbbells\, resistance bands and of course\, a jogging stroller! It gives both moms and dads a full body workout while keeping babies moving and happy!\niStroll\, however\, is more than a workout class. It is a place to meet other parents with similar interests who are also in the same life stage. As you become stronger\, faster and healthier\, you will not only make life long friends but through leading by example you will empower the next generation to be fit too.\nCome try us out! Your first class is always free.
URL:https://downtowncommons.org/event/istroll-workout-class-14/
END:VEVENT
BEGIN:VEVENT
DTSTART;TZID=America/Chicago:20210725T140000
DTEND;TZID=America/Chicago:20210725T150000
DTSTAMP:20260423T115833
CREATED:20210708T132801Z
LAST-MODIFIED:20210708T132801Z
UID:10000789-1627221600-1627225200@downtowncommons.org
SUMMARY:Play: Complete History of America
DESCRIPTION:
URL:https://downtowncommons.org/event/play-complete-history-of-america-3/
END:VEVENT
BEGIN:VEVENT
DTSTART;TZID=America/Chicago:20210724T190000
DTEND;TZID=America/Chicago:20210724T200000
DTSTAMP:20260423T115833
CREATED:20210708T132729Z
LAST-MODIFIED:20210708T132729Z
UID:10000788-1627153200-1627156800@downtowncommons.org
SUMMARY:Play: Complete History of America
DESCRIPTION:
URL:https://downtowncommons.org/event/play-complete-history-of-america-2/
END:VEVENT
BEGIN:VEVENT
DTSTART;TZID=America/Chicago:20210724T080000
DTEND;TZID=America/Chicago:20210724T120000
DTSTAMP:20260423T115833
CREATED:20210511T205329Z
LAST-MODIFIED:20210511T205329Z
UID:10000764-1627113600-1627128000@downtowncommons.org
SUMMARY:Downtown Market Kids Zone
DESCRIPTION:
URL:https://downtowncommons.org/event/downtown-market-kids-zone-6/
END:VEVENT
BEGIN:VEVENT
DTSTART;TZID=America/Chicago:20210723T190000
DTEND;TZID=America/Chicago:20210723T200000
DTSTAMP:20260423T115833
CREATED:20210708T132705Z
LAST-MODIFIED:20210708T132705Z
UID:10000787-1627066800-1627070400@downtowncommons.org
SUMMARY:Play: Complete History of America
DESCRIPTION:
URL:https://downtowncommons.org/event/play-complete-history-of-america/
END:VEVENT
BEGIN:VEVENT
DTSTART;TZID=America/Chicago:20210723T100000
DTEND;TZID=America/Chicago:20210723T110000
DTSTAMP:20260423T115833
CREATED:20210607T195939Z
LAST-MODIFIED:20210607T195939Z
UID:10000781-1627034400-1627038000@downtowncommons.org
SUMMARY:Summer Reading Program
DESCRIPTION:For more information\, please visit: \nTails and Tales Site (canva.com)
URL:https://downtowncommons.org/event/summer-reading-program-13/
END:VEVENT
BEGIN:VEVENT
DTSTART;TZID=America/Chicago:20210722T190000
DTEND;TZID=America/Chicago:20210722T200000
DTSTAMP:20260423T115833
CREATED:20210708T133208Z
LAST-MODIFIED:20210708T133208Z
UID:10000792-1626980400-1626984000@downtowncommons.org
SUMMARY:Turn Up Dance Fitness w/ Sarah
DESCRIPTION:For more information please visit @artlinkclarksvilletennessee Facebook Page!
URL:https://downtowncommons.org/event/turn-up-dance-fitness-w-sarah-6/
END:VEVENT
BEGIN:VEVENT
DTSTART;TZID=America/Chicago:20210720T170000
DTEND;TZID=America/Chicago:20210720T200000
DTSTAMP:20260423T115833
CREATED:20210422T144704Z
LAST-MODIFIED:20210422T145016Z
UID:10000750-1626800400-1626811200@downtowncommons.org
SUMMARY:Lawn Game Night
DESCRIPTION:
URL:https://downtowncommons.org/event/lawn-games-night-3/
END:VEVENT
BEGIN:VEVENT
DTSTART;TZID=America/Chicago:20210720T093000
DTEND;TZID=America/Chicago:20210720T103000
DTSTAMP:20260423T115833
CREATED:20210422T151231Z
LAST-MODIFIED:20210422T151231Z
UID:10000604-1626773400-1626777000@downtowncommons.org
SUMMARY:iStroll Workout Class
DESCRIPTION:iStroll is the ultimate 60 minute stroller workout made by athletes for parents. iStroll incorporates running\, body weight\, dumbbells\, resistance bands and of course\, a jogging stroller! It gives both moms and dads a full body workout while keeping babies moving and happy!\niStroll\, however\, is more than a workout class. It is a place to meet other parents with similar interests who are also in the same life stage. As you become stronger\, faster and healthier\, you will not only make life long friends but through leading by example you will empower the next generation to be fit too.\nCome try us out! Your first class is always free.
URL:https://downtowncommons.org/event/istroll-workout-class-13/
END:VEVENT
BEGIN:VEVENT
DTSTART;TZID=America/Chicago:20210719T100000
DTEND;TZID=America/Chicago:20210719T110000
DTSTAMP:20260423T115833
CREATED:20210607T195516Z
LAST-MODIFIED:20210607T195516Z
UID:10000775-1626688800-1626692400@downtowncommons.org
SUMMARY:Summer Reading Program
DESCRIPTION:For more information\, please visit: \nTails and Tales Site (canva.com)
URL:https://downtowncommons.org/event/summer-reading-program-6/
END:VEVENT
BEGIN:VEVENT
DTSTART;TZID=America/Chicago:20210717T160000
DTEND;TZID=America/Chicago:20210717T210000
DTSTAMP:20260423T115833
CREATED:20210607T200223Z
LAST-MODIFIED:20210607T200223Z
UID:10000782-1626537600-1626555600@downtowncommons.org
SUMMARY:Pour The Love Benefit Event | Blackhorse
DESCRIPTION:For more information please visit their Facebook Page @BlackhorseClarksville
URL:https://downtowncommons.org/event/pour-the-love-benefit-event-blackhorse/
END:VEVENT
BEGIN:VEVENT
DTSTART;TZID=America/Chicago:20210716T190000
DTEND;TZID=America/Chicago:20210716T213000
DTSTAMP:20260423T115833
CREATED:20210222T144942Z
LAST-MODIFIED:20210326T192525Z
UID:10000672-1626462000-1626471000@downtowncommons.org
SUMMARY:Downtown @ Sundown Concert - Hot Lanta
DESCRIPTION:
URL:https://downtowncommons.org/event/downtown-sundown-concert-8/
END:VEVENT
BEGIN:VEVENT
DTSTART;TZID=America/Chicago:20210716T100000
DTEND;TZID=America/Chicago:20210716T110000
DTSTAMP:20260423T115833
CREATED:20210607T195913Z
LAST-MODIFIED:20210607T195913Z
UID:10000780-1626429600-1626433200@downtowncommons.org
SUMMARY:Summer Reading Program
DESCRIPTION:For more information\, please visit: \nTails and Tales Site (canva.com)
URL:https://downtowncommons.org/event/summer-reading-program-12/
END:VEVENT
BEGIN:VEVENT
DTSTART;TZID=America/Chicago:20210715T190000
DTEND;TZID=America/Chicago:20210715T200000
DTSTAMP:20260423T115833
CREATED:20210708T133145Z
LAST-MODIFIED:20210708T133145Z
UID:10000791-1626375600-1626379200@downtowncommons.org
SUMMARY:Turn Up Dance Fitness w/ Sarah
DESCRIPTION:For more information please visit @artlinkclarksvilletennessee Facebook Page!
URL:https://downtowncommons.org/event/turn-up-dance-fitness-w-sarah-5/
END:VEVENT
BEGIN:VEVENT
DTSTART;TZID=America/Chicago:20210714T180000
DTEND;TZID=America/Chicago:20210714T200000
DTSTAMP:20260423T115833
CREATED:20210701T160302Z
LAST-MODIFIED:20210701T160302Z
UID:10000786-1626285600-1626292800@downtowncommons.org
SUMMARY:Worship Night
DESCRIPTION:Join us for Worship Night with 2nd Mile Church! \nHome – 2nd Mile Church
URL:https://downtowncommons.org/event/worship-night/
END:VEVENT
BEGIN:VEVENT
DTSTART;TZID=America/Chicago:20210713T170000
DTEND;TZID=America/Chicago:20210713T200000
DTSTAMP:20260423T115833
CREATED:20210422T144641Z
LAST-MODIFIED:20210422T144951Z
UID:10000749-1626195600-1626206400@downtowncommons.org
SUMMARY:Lawn Game Night
DESCRIPTION:
URL:https://downtowncommons.org/event/lawn-games-night-2/
END:VEVENT
BEGIN:VEVENT
DTSTART;TZID=America/Chicago:20210713T093000
DTEND;TZID=America/Chicago:20210713T103000
DTSTAMP:20260423T115833
CREATED:20210422T151157Z
LAST-MODIFIED:20210422T151157Z
UID:10000602-1626168600-1626172200@downtowncommons.org
SUMMARY:iStroll Workout Class
DESCRIPTION:iStroll is the ultimate 60 minute stroller workout made by athletes for parents. iStroll incorporates running\, body weight\, dumbbells\, resistance bands and of course\, a jogging stroller! It gives both moms and dads a full body workout while keeping babies moving and happy!\niStroll\, however\, is more than a workout class. It is a place to meet other parents with similar interests who are also in the same life stage. As you become stronger\, faster and healthier\, you will not only make life long friends but through leading by example you will empower the next generation to be fit too.\nCome try us out! Your first class is always free.
URL:https://downtowncommons.org/event/istroll-workout-class-12/
END:VEVENT
BEGIN:VEVENT
DTSTART;TZID=America/Chicago:20210712T100000
DTEND;TZID=America/Chicago:20210712T110000
DTSTAMP:20260423T115833
CREATED:20210607T195450Z
LAST-MODIFIED:20210607T195450Z
UID:10000772-1626084000-1626087600@downtowncommons.org
SUMMARY:Summer Reading Program
DESCRIPTION:For more information\, please visit: \nTails and Tales Site (canva.com)
URL:https://downtowncommons.org/event/summer-reading-program-5/
END:VEVENT
BEGIN:VEVENT
DTSTART;TZID=America/Chicago:20210710T194500
DTEND;TZID=America/Chicago:20210710T213000
DTSTAMP:20260423T115833
CREATED:20210414T200634Z
LAST-MODIFIED:20210706T132516Z
UID:10000729-1625946300-1625952600@downtowncommons.org
SUMMARY:Movie Night - The Parent Trap
DESCRIPTION:The Downtown Commons is excited to start Movie Nights for a family fun night in Downtown Clarksville! Come join us once a month through the month of August to watch your favorite family movies under the stars. A mobile art studio will be set up with ArtLink for hands-on activities for kids and food trucks on Main Street for treats for everyone. Chairs and blankets are welcome; however\, pets\, coolers\, smoking/vaping or outside alcohol will not be allowed on site. \nMovie Night Schedule:  \nApril 24 – Moana \nMay 15 – Toy Story 4 \nJune 26 – The Croods: A New Age \nJuly 10 – The Parent Trap \nAugust 14 – Coco \n  \nMovie Nights is brought to you by Beth King Phillips\, your downtown Southwest Funding Mortgage Branch and Todd Phillips Construction and sponsored in part by VRS Realty\, Heather Chase.
URL:https://downtowncommons.org/event/movie-night-the-parent-trap/
END:VEVENT
END:VCALENDAR