BEGIN:VCALENDAR
VERSION:2.0
PRODID:-//Downtown Commons - ECPv6.15.11//NONSGML v1.0//EN
CALSCALE:GREGORIAN
METHOD:PUBLISH
X-WR-CALNAME:Downtown Commons
X-ORIGINAL-URL:https://downtowncommons.org
X-WR-CALDESC:Events for Downtown Commons
REFRESH-INTERVAL;VALUE=DURATION:PT1H
X-Robots-Tag:noindex
X-PUBLISHED-TTL:PT1H
BEGIN:VTIMEZONE
TZID:America/Chicago
BEGIN:DAYLIGHT
TZOFFSETFROM:-0600
TZOFFSETTO:-0500
TZNAME:CDT
DTSTART:20200308T080000
END:DAYLIGHT
BEGIN:STANDARD
TZOFFSETFROM:-0500
TZOFFSETTO:-0600
TZNAME:CST
DTSTART:20201101T070000
END:STANDARD
BEGIN:DAYLIGHT
TZOFFSETFROM:-0600
TZOFFSETTO:-0500
TZNAME:CDT
DTSTART:20210314T080000
END:DAYLIGHT
BEGIN:STANDARD
TZOFFSETFROM:-0500
TZOFFSETTO:-0600
TZNAME:CST
DTSTART:20211107T070000
END:STANDARD
BEGIN:DAYLIGHT
TZOFFSETFROM:-0600
TZOFFSETTO:-0500
TZNAME:CDT
DTSTART:20220313T080000
END:DAYLIGHT
BEGIN:STANDARD
TZOFFSETFROM:-0500
TZOFFSETTO:-0600
TZNAME:CST
DTSTART:20221106T070000
END:STANDARD
END:VTIMEZONE
BEGIN:VEVENT
DTSTART;TZID=America/Chicago:20211129T160000
DTEND;TZID=America/Chicago:20211129T210000
DTSTAMP:20260423T070248
CREATED:20220112T153148Z
LAST-MODIFIED:20220112T153148Z
UID:10000839-1638201600-1638219600@downtowncommons.org
SUMMARY:Public Skate
DESCRIPTION:Tickets are $12 for adults and $10 for children 12 years and younger
URL:https://downtowncommons.org/event/public-skate-48/
END:VEVENT
BEGIN:VEVENT
DTSTART;TZID=America/Chicago:20211128T140000
DTEND;TZID=America/Chicago:20211128T210000
DTSTAMP:20260423T070248
CREATED:20220112T153127Z
LAST-MODIFIED:20220112T153127Z
UID:10000838-1638108000-1638133200@downtowncommons.org
SUMMARY:Public Skate
DESCRIPTION:Tickets are $12 for adults and $10 for children 12 years and younger
URL:https://downtowncommons.org/event/public-skate-47/
END:VEVENT
BEGIN:VEVENT
DTSTART;TZID=America/Chicago:20211127T100000
DTEND;TZID=America/Chicago:20211127T210000
DTSTAMP:20260423T070248
CREATED:20220112T153103Z
LAST-MODIFIED:20220112T153103Z
UID:10000837-1638007200-1638046800@downtowncommons.org
SUMMARY:Public Skate
DESCRIPTION:Tickets are $12 for adults and $10 for children 12 years and younger
URL:https://downtowncommons.org/event/public-skate-46/
END:VEVENT
BEGIN:VEVENT
DTSTART;TZID=America/Chicago:20211126T160000
DTEND;TZID=America/Chicago:20211126T210000
DTSTAMP:20260423T070248
CREATED:20220112T153034Z
LAST-MODIFIED:20220112T153041Z
UID:10000836-1637942400-1637960400@downtowncommons.org
SUMMARY:Public Skate
DESCRIPTION:Tickets are $12 for adults and $10 for children 12 years and younger
URL:https://downtowncommons.org/event/public-skate-45/
END:VEVENT
BEGIN:VEVENT
DTSTART;TZID=America/Chicago:20211125T160000
DTEND;TZID=America/Chicago:20211125T210000
DTSTAMP:20260423T070248
CREATED:20220112T153009Z
LAST-MODIFIED:20220112T153009Z
UID:10000835-1637856000-1637874000@downtowncommons.org
SUMMARY:Public Skate
DESCRIPTION:Tickets are $12 for adults and $10 for children 12 years and younger
URL:https://downtowncommons.org/event/public-skate-44/
END:VEVENT
BEGIN:VEVENT
DTSTART;TZID=America/Chicago:20211124T160000
DTEND;TZID=America/Chicago:20211124T210000
DTSTAMP:20260423T070248
CREATED:20220112T152948Z
LAST-MODIFIED:20220112T152948Z
UID:10000834-1637769600-1637787600@downtowncommons.org
SUMMARY:Public Skate
DESCRIPTION:Tickets are $12 for adults and $10 for children 12 years and younger
URL:https://downtowncommons.org/event/public-skate-43/
END:VEVENT
BEGIN:VEVENT
DTSTART;TZID=America/Chicago:20211123T160000
DTEND;TZID=America/Chicago:20211123T210000
DTSTAMP:20260423T070248
CREATED:20220112T152927Z
LAST-MODIFIED:20220112T152927Z
UID:10000833-1637683200-1637701200@downtowncommons.org
SUMMARY:Public Skate
DESCRIPTION:Tickets are $12 for adults and $10 for children 12 years and younger
URL:https://downtowncommons.org/event/public-skate-42/
END:VEVENT
BEGIN:VEVENT
DTSTART;TZID=America/Chicago:20211122T160000
DTEND;TZID=America/Chicago:20211122T210000
DTSTAMP:20260423T070248
CREATED:20220112T152903Z
LAST-MODIFIED:20220112T152903Z
UID:10000692-1637596800-1637614800@downtowncommons.org
SUMMARY:Public Skate
DESCRIPTION:Tickets are $12 for adults and $10 for children 12 years and younger
URL:https://downtowncommons.org/event/public-skate-41/
END:VEVENT
BEGIN:VEVENT
DTSTART;TZID=America/Chicago:20211121T140000
DTEND;TZID=America/Chicago:20211121T210000
DTSTAMP:20260423T070248
CREATED:20220112T152836Z
LAST-MODIFIED:20220112T152836Z
UID:10000691-1637503200-1637528400@downtowncommons.org
SUMMARY:Public Skate
DESCRIPTION:Tickets are $12 for adults and $10 for children 12 years and younger
URL:https://downtowncommons.org/event/public-skate-40/
END:VEVENT
BEGIN:VEVENT
DTSTART;TZID=America/Chicago:20211120T100000
DTEND;TZID=America/Chicago:20211120T210000
DTSTAMP:20260423T070248
CREATED:20211101T190226Z
LAST-MODIFIED:20220112T152809Z
UID:10000660-1637402400-1637442000@downtowncommons.org
SUMMARY:Ice Skating Rink Opens!
DESCRIPTION:Join us on November 20 for opening day of the Winter Ice Rink! Hours will be from 10:00 AM – 9:00 PM with session times starting at the top of every hour until 8:00 PM. \nTickets are $12 for adults and $10 for children 12 years and younger \n 
URL:https://downtowncommons.org/event/ice-skating-rink-opens/
END:VEVENT
BEGIN:VEVENT
DTSTART;TZID=America/Chicago:20211030T180000
DTEND;TZID=America/Chicago:20211030T200000
DTSTAMP:20260423T070248
CREATED:20210826T141835Z
LAST-MODIFIED:20210826T141835Z
UID:10000658-1635616800-1635624000@downtowncommons.org
SUMMARY:Halloween Movie Night
DESCRIPTION:
URL:https://downtowncommons.org/event/halloween-movie-night/
END:VEVENT
BEGIN:VEVENT
DTSTART;TZID=America/Chicago:20211019T193000
DTEND;TZID=America/Chicago:20211019T203000
DTSTAMP:20260423T070248
CREATED:20210326T193026Z
LAST-MODIFIED:20210326T193026Z
UID:10000721-1634671800-1634675400@downtowncommons.org
SUMMARY:Sunset Yoga
DESCRIPTION:
URL:https://downtowncommons.org/event/sunset-yoga-10/
END:VEVENT
BEGIN:VEVENT
DTSTART;TZID=America/Chicago:20211015T190000
DTEND;TZID=America/Chicago:20211015T213000
DTSTAMP:20260423T070248
CREATED:20210222T145201Z
LAST-MODIFIED:20210326T192721Z
UID:10000678-1634324400-1634333400@downtowncommons.org
SUMMARY:Downtown @ Sundown Concert - Barracuda
DESCRIPTION:
URL:https://downtowncommons.org/event/downtown-sundown-concert-14/
END:VEVENT
BEGIN:VEVENT
DTSTART;TZID=America/Chicago:20211002T170000
DTEND;TZID=America/Chicago:20211002T200000
DTSTAMP:20260423T070248
CREATED:20210823T143826Z
LAST-MODIFIED:20210823T143847Z
UID:10000656-1633194000-1633204800@downtowncommons.org
SUMMARY:Artsville Fest Fashion & Arts Show
DESCRIPTION:For more information on Artsville Fest: Artsville Fest 2021
URL:https://downtowncommons.org/event/artsville-fest-fashion-arts-show/
END:VEVENT
BEGIN:VEVENT
DTSTART;TZID=America/Chicago:20211001T190000
DTEND;TZID=America/Chicago:20211001T213000
DTSTAMP:20260423T070248
CREATED:20210222T145138Z
LAST-MODIFIED:20210326T192706Z
UID:10000677-1633114800-1633123800@downtowncommons.org
SUMMARY:Downtown @ Sundown Concert - Xtraordinary Gentlemen
DESCRIPTION:
URL:https://downtowncommons.org/event/downtown-sundown-concert-13/
END:VEVENT
BEGIN:VEVENT
DTSTART;TZID=America/Chicago:20210930T190000
DTEND;TZID=America/Chicago:20210930T210000
DTSTAMP:20260423T070248
CREATED:20210823T143745Z
LAST-MODIFIED:20210823T143936Z
UID:10000655-1633028400-1633035600@downtowncommons.org
SUMMARY:Artsville Fest LOCAL Night
DESCRIPTION:For more information about Artsville Fest 2021: Artsville Fest 2021
URL:https://downtowncommons.org/event/artsville-fest-local-night/
END:VEVENT
BEGIN:VEVENT
DTSTART;TZID=America/Chicago:20210925T080000
DTEND;TZID=America/Chicago:20210925T120000
DTSTAMP:20260423T070248
CREATED:20210511T205448Z
LAST-MODIFIED:20210511T205448Z
UID:10000767-1632556800-1632571200@downtowncommons.org
SUMMARY:Downtown Market Kids Zone
DESCRIPTION:
URL:https://downtowncommons.org/event/downtown-market-kids-zone-10/
END:VEVENT
BEGIN:VEVENT
DTSTART;TZID=America/Chicago:20210923T190000
DTEND;TZID=America/Chicago:20210923T200000
DTSTAMP:20260423T070248
CREATED:20210817T143433Z
LAST-MODIFIED:20210817T143433Z
UID:10000651-1632423600-1632427200@downtowncommons.org
SUMMARY:Nashville Symphony Concert
DESCRIPTION:MONTGOMERY COUNTY\, Tenn. – The Montgomery County Downtown Commons will host the prestigious Nashville Symphony on the evening of September 23. Beginning at 7p.m.\, the community will have the option to enjoy a variety of music on the lawn by some of the country’s most talented musicians. \nThe Nashville Symphony has been an integral part of Middle Tennessee and Music City since 1946. Performing over 150 concerts a year\, they are an established leader in Nashville’s ever-growing arts and cultural community. \n“Benefits\, Inc. along with our co-sponsor Jack B. Turner and Associates is always looking for ways to give back to the communities where we live and work.  Bringing the Nashville Symphony to Downtown Commons for a free concert is a great way we can achieve this goal.  We are looking forward to a great evening of music with the GRAMMY® Award winning Nashville Symphony Orchestra.” said Kevin Smith\, CEO of Benefits\, Inc. \n“It is a rare opportunity to host the Nashville Symphony in Clarksville\, Montgomery County. We are honored to welcome them and hope people will come on out and enjoy this unique experience\,” said Downtown Commons Event Manager Elizabeth Quinton. \nLocal food trucks\, Gray Smoke Barbecue\, TN Kettle Corn\, and Driving You Donuts are scheduled to be on Main Street before and during the show. Beer and other beverages will be for sale by Ajax Distributing Company. \nChairs and blankets are welcome; however\, pets\, coolers\, smoking/vaping or outside alcohol will not be allowed on site. \nThe Nashville Symphony’s Fall Concert is sponsored by Benefits\, Inc. and Jack B. Turner and Associates.
URL:https://downtowncommons.org/event/nashville-symphony-concert/
END:VEVENT
BEGIN:VEVENT
DTSTART;TZID=America/Chicago:20210922T180000
DTEND;TZID=America/Chicago:20210922T200000
DTSTAMP:20260423T070248
CREATED:20210422T144002Z
LAST-MODIFIED:20210823T143518Z
UID:10000742-1632333600-1632340800@downtowncommons.org
SUMMARY:Worship Night w/ Community of Hope\, First Nazarene
DESCRIPTION:Join us for Worship Night with Community of Hope. \nAbout Us — Community of Hope (clarksvillefirst.org)
URL:https://downtowncommons.org/event/worship-night-5/
END:VEVENT
BEGIN:VEVENT
DTSTART;TZID=America/Chicago:20210921T193000
DTEND;TZID=America/Chicago:20210921T203000
DTSTAMP:20260423T070248
CREATED:20210326T192959Z
LAST-MODIFIED:20210326T192959Z
UID:10000718-1632252600-1632256200@downtowncommons.org
SUMMARY:Sunset Yoga
DESCRIPTION:
URL:https://downtowncommons.org/event/sunset-yoga-9/
END:VEVENT
BEGIN:VEVENT
DTSTART;TZID=America/Chicago:20210917T190000
DTEND;TZID=America/Chicago:20210917T213000
DTSTAMP:20260423T070248
CREATED:20210222T145117Z
LAST-MODIFIED:20210326T192639Z
UID:10000676-1631905200-1631914200@downtowncommons.org
SUMMARY:Downtown @ Sundown Concert - Jon Langston
DESCRIPTION:
URL:https://downtowncommons.org/event/downtown-sundown-concert-12/
END:VEVENT
BEGIN:VEVENT
DTSTART;TZID=America/Chicago:20210904T193000
DTEND;TZID=America/Chicago:20210904T210000
DTSTAMP:20260423T070248
CREATED:20210823T143227Z
LAST-MODIFIED:20210823T143311Z
UID:10000653-1630783800-1630789200@downtowncommons.org
SUMMARY:Movie Night - Moana
DESCRIPTION:The Downtown Commons is excited to start Movie Nights for a family fun night in Downtown Clarksville! Come join us once a month through the month of September to watch your favorite family movies under the stars. A mobile art studio will be set up with ArtLink for hands-on activities for kids and food trucks on Main Street for treats for everyone. Chairs and blankets are welcome; however\, pets\, coolers\, smoking/vaping or outside alcohol will not be allowed on site. \nRemaining Movie Night Schedule:  \nSeptember 4 – Moana @ 7:30PM \nMovie Nights is brought to you by Beth King Phillips\, your downtown Southwest Funding Mortgage Branch and Todd Phillips Construction and sponsored in part by VRS Realty\, Heather Chase.
URL:https://downtowncommons.org/event/movie-night-moana/
END:VEVENT
BEGIN:VEVENT
DTSTART;TZID=America/Chicago:20210904T080000
DTEND;TZID=America/Chicago:20210904T120000
DTSTAMP:20260423T070248
CREATED:20210511T205428Z
LAST-MODIFIED:20210511T205428Z
UID:10000768-1630742400-1630756800@downtowncommons.org
SUMMARY:Downtown Market Kids Zone
DESCRIPTION:
URL:https://downtowncommons.org/event/downtown-market-kids-zone-9/
END:VEVENT
BEGIN:VEVENT
DTSTART;TZID=America/Chicago:20210903T190000
DTEND;TZID=America/Chicago:20210903T213000
DTSTAMP:20260423T070248
CREATED:20210222T145055Z
LAST-MODIFIED:20210326T192624Z
UID:10000675-1630695600-1630704600@downtowncommons.org
SUMMARY:Downtown @ Sundown Concert - Captain Fantastic
DESCRIPTION:
URL:https://downtowncommons.org/event/downtown-sundown-concert-11/
END:VEVENT
BEGIN:VEVENT
DTSTART;TZID=America/Chicago:20210831T093000
DTEND;TZID=America/Chicago:20210831T103000
DTSTAMP:20260423T070248
CREATED:20210802T140621Z
LAST-MODIFIED:20210802T140621Z
UID:10000648-1630402200-1630405800@downtowncommons.org
SUMMARY:iStroll Workout Class
DESCRIPTION:iStroll is the ultimate 60 minute stroller workout made by athletes for parents. iStroll incorporates running\, body weight\, dumbbells\, resistance bands and of course\, a jogging stroller! It gives both moms and dads a full body workout while keeping babies moving and happy!\niStroll\, however\, is more than a workout class. It is a place to meet other parents with similar interests who are also in the same life stage. As you become stronger\, faster and healthier\, you will not only make life long friends but through leading by example you will empower the next generation to be fit too.\nCome try us out! Your first class is always free.
URL:https://downtowncommons.org/event/istroll-workout-class-16/
END:VEVENT
BEGIN:VEVENT
DTSTART;TZID=America/Chicago:20210825T183000
DTEND;TZID=America/Chicago:20210825T200000
DTSTAMP:20260423T070248
CREATED:20210422T143940Z
LAST-MODIFIED:20210823T143542Z
UID:10000741-1629916200-1629921600@downtowncommons.org
SUMMARY:Worship Night w/ Grace Community Church
DESCRIPTION:Join us for Worship Night with Grace Community Church! \nGrace Community Church – Clarksville\, TN – Grace Clarksville \n 
URL:https://downtowncommons.org/event/worship-night-4/
END:VEVENT
BEGIN:VEVENT
DTSTART;TZID=America/Chicago:20210824T193000
DTEND;TZID=America/Chicago:20210824T203000
DTSTAMP:20260423T070248
CREATED:20210326T192937Z
LAST-MODIFIED:20210326T192937Z
UID:10000715-1629833400-1629837000@downtowncommons.org
SUMMARY:Sunset Yoga
DESCRIPTION:
URL:https://downtowncommons.org/event/sunset-yoga-8/
END:VEVENT
BEGIN:VEVENT
DTSTART;TZID=America/Chicago:20210824T093000
DTEND;TZID=America/Chicago:20210824T103000
DTSTAMP:20260423T070248
CREATED:20210802T140554Z
LAST-MODIFIED:20210802T140554Z
UID:10000797-1629797400-1629801000@downtowncommons.org
SUMMARY:iStroll Workout Class
DESCRIPTION:iStroll is the ultimate 60 minute stroller workout made by athletes for parents. iStroll incorporates running\, body weight\, dumbbells\, resistance bands and of course\, a jogging stroller! It gives both moms and dads a full body workout while keeping babies moving and happy!\niStroll\, however\, is more than a workout class. It is a place to meet other parents with similar interests who are also in the same life stage. As you become stronger\, faster and healthier\, you will not only make life long friends but through leading by example you will empower the next generation to be fit too.\nCome try us out! Your first class is always free.
URL:https://downtowncommons.org/event/istroll-workout-class-10/
END:VEVENT
BEGIN:VEVENT
DTSTART;TZID=America/Chicago:20210821T080000
DTEND;TZID=America/Chicago:20210821T120000
DTSTAMP:20260423T070248
CREATED:20210511T205409Z
LAST-MODIFIED:20210511T205409Z
UID:10000766-1629532800-1629547200@downtowncommons.org
SUMMARY:Downtown Market Kids Zone
DESCRIPTION:
URL:https://downtowncommons.org/event/downtown-market-kids-zone-8/
END:VEVENT
BEGIN:VEVENT
DTSTART;TZID=America/Chicago:20210820T190000
DTEND;TZID=America/Chicago:20210820T213000
DTSTAMP:20260423T070248
CREATED:20210222T145034Z
LAST-MODIFIED:20210817T143249Z
UID:10000674-1629486000-1629495000@downtowncommons.org
SUMMARY:Downtown @ Sundown Concert - Departure: The Journey Tribute Band
DESCRIPTION:MONTGOMERY COUNTY\, Tenn​. – This Friday\, August 20\, will be a night you want to remember! Beginning at 6:15 p.m.\, Austin Peay State University will introduce the community to ​the new APSU president\, Dr. Michael Licari\, along with an update and welcome from the new APSU athletic coaches. The cheer and dance team will also be present to motivate the crowd and lead the APSU Fight Song! \nLocal favorite Lucian Greene will then kick off the concert with acoustic music. The feature performance will begin at 7:45 p.m. with The Journey Tribute Band: DEPARTURE. This band of veteran musicians is high-energy and replicates the look\, sound and feel of the original 80s rock super group. Be sure to sing along as they play all the hit songs that everyone knows and loves! Performing over 100 shows throughout the nation each year\, DEPARTURE brings the best of Journey to audiences of all ages. \nLocal food trucks will also be set up before and during the shows. Chick’nCone\, Driving You Donuts\, Kadi’s Tacos and More and Burgasm are all expected to be on site. Tater Headz will also be open at the walk-up eatery on the corner of Legion Street and Third Street. Beer and other beverages will be for sale​\, with all proceeds benefiting our featured non-profit\, United Way of the Greater Clarksville Region. \nMain Street will be blocked off between Second Street and Third Street beginning at 4:30 p.m. to make room for the food trucks. \nDowntown @ Sundown Concerts are free and open to the public and take place the first and third Fridays of each month through October. Chairs and blankets are welcome; however\, pets\, coolers\, smoking/vaping or outside alcohol will not be allowed on site. \nDowntown @ Sundown is title sponsored by TriStar Beverage and F&M Bank and sponsored in part by Waste Connections of Clarksville.
URL:https://downtowncommons.org/event/downtown-sundown-concert-10/
END:VEVENT
END:VCALENDAR