BEGIN:VCALENDAR
VERSION:2.0
PRODID:-//Downtown Commons - ECPv6.15.11//NONSGML v1.0//EN
CALSCALE:GREGORIAN
METHOD:PUBLISH
X-WR-CALNAME:Downtown Commons
X-ORIGINAL-URL:https://downtowncommons.org
X-WR-CALDESC:Events for Downtown Commons
REFRESH-INTERVAL;VALUE=DURATION:PT1H
X-Robots-Tag:noindex
X-PUBLISHED-TTL:PT1H
BEGIN:VTIMEZONE
TZID:America/Chicago
BEGIN:DAYLIGHT
TZOFFSETFROM:-0600
TZOFFSETTO:-0500
TZNAME:CDT
DTSTART:20210314T080000
END:DAYLIGHT
BEGIN:STANDARD
TZOFFSETFROM:-0500
TZOFFSETTO:-0600
TZNAME:CST
DTSTART:20211107T070000
END:STANDARD
BEGIN:DAYLIGHT
TZOFFSETFROM:-0600
TZOFFSETTO:-0500
TZNAME:CDT
DTSTART:20220313T080000
END:DAYLIGHT
BEGIN:STANDARD
TZOFFSETFROM:-0500
TZOFFSETTO:-0600
TZNAME:CST
DTSTART:20221106T070000
END:STANDARD
BEGIN:DAYLIGHT
TZOFFSETFROM:-0600
TZOFFSETTO:-0500
TZNAME:CDT
DTSTART:20230312T080000
END:DAYLIGHT
BEGIN:STANDARD
TZOFFSETFROM:-0500
TZOFFSETTO:-0600
TZNAME:CST
DTSTART:20231105T070000
END:STANDARD
END:VTIMEZONE
BEGIN:VEVENT
DTSTART;TZID=America/Chicago:20220624T100000
DTEND;TZID=America/Chicago:20220624T120000
DTSTAMP:20260422T203644
CREATED:20220524T200550Z
LAST-MODIFIED:20220524T200550Z
UID:10000860-1656064800-1656072000@downtowncommons.org
SUMMARY:Summer Reading Performance
DESCRIPTION:
URL:https://downtowncommons.org/event/summer-reading-performance-3/
LOCATION:TN
END:VEVENT
BEGIN:VEVENT
DTSTART;TZID=America/Chicago:20220620T100000
DTEND;TZID=America/Chicago:20220620T120000
DTSTAMP:20260422T203644
CREATED:20220524T200351Z
LAST-MODIFIED:20220524T200351Z
UID:10000853-1655719200-1655726400@downtowncommons.org
SUMMARY:Summer Reading Program
DESCRIPTION:
URL:https://downtowncommons.org/event/summer-reading-program-16/
LOCATION:TN
END:VEVENT
BEGIN:VEVENT
DTSTART;TZID=America/Chicago:20220618T100000
DTEND;TZID=America/Chicago:20220618T210000
DTSTAMP:20260422T203644
CREATED:20220524T201046Z
LAST-MODIFIED:20220524T201046Z
UID:10000714-1655546400-1655586000@downtowncommons.org
SUMMARY:Clarksville Juneteenth Block Party
DESCRIPTION:For more information: Clarksville Juneteenth Block Party (visitclarksvilletn.com)
URL:https://downtowncommons.org/event/clarksville-juneteenth-block-party-2/
LOCATION:TN
END:VEVENT
BEGIN:VEVENT
DTSTART;TZID=America/Chicago:20220617T190000
DTEND;TZID=America/Chicago:20220617T220000
DTSTAMP:20260422T203644
CREATED:20220112T153856Z
LAST-MODIFIED:20220427T140255Z
UID:10000694-1655492400-1655503200@downtowncommons.org
SUMMARY:Downtown @ Sundown | Barracuda
DESCRIPTION:The Downtown @ Sundown Concert Series will be held on the first and third Fridays of each month from May through October. Each event will offer a night of free music and entertainment. Beer and other beverages will be for sale with proceeds benefiting our featured non-profit\, United Way of the Greater Clarksville Region. A variety of independent food trucks will line up on Main Street. Chairs and blankets are welcome; however\, pets\, coolers\, smoking/vaping or outside alcohol will not be allowed on site. \nDowntown @ Sundown is brought to you by TriStar Beverage and Shelby’s Trio and sponsored in part by Waste Connections of Clarksville.
URL:https://downtowncommons.org/event/downtown-sundown-4/
LOCATION:TN
END:VEVENT
BEGIN:VEVENT
DTSTART;TZID=America/Chicago:20220617T100000
DTEND;TZID=America/Chicago:20220617T120000
DTSTAMP:20260422T203644
CREATED:20220524T200531Z
LAST-MODIFIED:20220524T200531Z
UID:10000858-1655460000-1655467200@downtowncommons.org
SUMMARY:Summer Reading Performance
DESCRIPTION:
URL:https://downtowncommons.org/event/summer-reading-performance-2/
LOCATION:TN
END:VEVENT
BEGIN:VEVENT
DTSTART;TZID=America/Chicago:20220614T193000
DTEND;TZID=America/Chicago:20220614T203000
DTSTAMP:20260422T203644
CREATED:20220427T141727Z
LAST-MODIFIED:20220427T141727Z
UID:10000704-1655235000-1655238600@downtowncommons.org
SUMMARY:Sunset Yoga
DESCRIPTION:Join us for full moon sunset yoga at the Downtown Commons! Please bring a mat\, bottle of water\, and a friend. We look forward to ending our day with you in the heart of our city! Thank you to NBalance | Hot Yoga & Fitness for leading the class!
URL:https://downtowncommons.org/event/sunset-yoga-12/
LOCATION:TN
END:VEVENT
BEGIN:VEVENT
DTSTART;TZID=America/Chicago:20220613T100000
DTEND;TZID=America/Chicago:20220613T120000
DTSTAMP:20260422T203644
CREATED:20220524T200325Z
LAST-MODIFIED:20220524T200325Z
UID:10000712-1655114400-1655121600@downtowncommons.org
SUMMARY:Summer Reading Program
DESCRIPTION:
URL:https://downtowncommons.org/event/summer-reading-program-15/
LOCATION:TN
END:VEVENT
BEGIN:VEVENT
DTSTART;TZID=America/Chicago:20220610T100000
DTEND;TZID=America/Chicago:20220610T120000
DTSTAMP:20260422T203644
CREATED:20220524T200507Z
LAST-MODIFIED:20220524T200507Z
UID:10000857-1654855200-1654862400@downtowncommons.org
SUMMARY:Summer Reading Performance
DESCRIPTION:
URL:https://downtowncommons.org/event/summer-reading-performance/
LOCATION:TN
END:VEVENT
BEGIN:VEVENT
DTSTART;TZID=America/Chicago:20220606T100000
DTEND;TZID=America/Chicago:20220606T120000
DTSTAMP:20260422T203644
CREATED:20220524T200301Z
LAST-MODIFIED:20220524T200301Z
UID:10000711-1654509600-1654516800@downtowncommons.org
SUMMARY:Summer Reading Program
DESCRIPTION:
URL:https://downtowncommons.org/event/summer-reading-program-14/
LOCATION:TN
END:VEVENT
BEGIN:VEVENT
DTSTART;TZID=America/Chicago:20220603T190000
DTEND;TZID=America/Chicago:20220603T220000
DTSTAMP:20260422T203644
CREATED:20220112T153838Z
LAST-MODIFIED:20220427T140237Z
UID:10000693-1654282800-1654293600@downtowncommons.org
SUMMARY:Downtown @ Sundown | Purple Madness
DESCRIPTION:The Downtown @ Sundown Concert Series will be held on the first and third Fridays of each month from May through October. Each event will offer a night of free music and entertainment. Beer and other beverages will be for sale with proceeds benefiting our featured non-profit\, United Way of the Greater Clarksville Region. A variety of independent food trucks will line up on Main Street. Chairs and blankets are welcome; however\, pets\, coolers\, smoking/vaping or outside alcohol will not be allowed on site. \nDowntown @ Sundown is brought to you by TriStar Beverage and Shelby’s Trio and sponsored in part by Waste Connections of Clarksville.
URL:https://downtowncommons.org/event/downtown-sundown-3/
LOCATION:TN
END:VEVENT
BEGIN:VEVENT
DTSTART;TZID=America/Chicago:20220520T190000
DTEND;TZID=America/Chicago:20220520T220000
DTSTAMP:20260422T203644
CREATED:20220112T153817Z
LAST-MODIFIED:20220427T140209Z
UID:10000842-1653073200-1653084000@downtowncommons.org
SUMMARY:Downtown @ Sundown | Local Night
DESCRIPTION:TN Pluckers & Music for Mercy \nThe Downtown @ Sundown Concert Series will be held on the first and third Fridays of each month from May through October. Each event will offer a night of free music and entertainment. Beer and other beverages will be for sale with proceeds benefiting our featured non-profit\, United Way of the Greater Clarksville Region. A variety of independent food trucks will line up on Main Street. Chairs and blankets are welcome; however\, pets\, coolers\, smoking/vaping or outside alcohol will not be allowed on site. \nDowntown @ Sundown is brought to you by TriStar Beverage and Shelby’s Trio and sponsored in part by Waste Connections of Clarksville.
URL:https://downtowncommons.org/event/downtown-sundown-2/
LOCATION:TN
END:VEVENT
BEGIN:VEVENT
DTSTART;TZID=America/Chicago:20220517T193000
DTEND;TZID=America/Chicago:20220517T203000
DTSTAMP:20260422T203644
CREATED:20220427T141655Z
LAST-MODIFIED:20220427T141655Z
UID:10000703-1652815800-1652819400@downtowncommons.org
SUMMARY:Sunset Yoga
DESCRIPTION:Join us for full moon sunset yoga at the Downtown Commons! Please bring a mat\, bottle of water\, and a friend. We look forward to ending our day with you in the heart of our city! Thank you to NBalance | Hot Yoga & Fitness for leading the class!
URL:https://downtowncommons.org/event/sunset-yoga-11/
LOCATION:TN
END:VEVENT
BEGIN:VEVENT
DTSTART;TZID=America/Chicago:20220514T193000
DTEND;TZID=America/Chicago:20220514T210000
DTSTAMP:20260422T203644
CREATED:20220427T140739Z
LAST-MODIFIED:20220427T140739Z
UID:10000848-1652556600-1652562000@downtowncommons.org
SUMMARY:Onward Movie Night
DESCRIPTION:The Downtown Commons is excited to host our second annual Movie Nights for a family fun night in Downtown Clarksville! Come join us once a month through the month of September to watch your favorite family movies under the stars. Movie Nights are brought to you by Beth King Phillips\, your downtown Southwest Funding Mortgage Branch\, and Michell Lochner with Keller Williams Realty.
URL:https://downtowncommons.org/event/onward-movie-night/
LOCATION:TN
END:VEVENT
BEGIN:VEVENT
DTSTART;TZID=America/Chicago:20220507T110000
DTEND;TZID=America/Chicago:20220507T200000
DTSTAMP:20260422T203644
CREATED:20220509T211500Z
LAST-MODIFIED:20220509T211500Z
UID:10000709-1651921200-1651953600@downtowncommons.org
SUMMARY:Clarksville Scavenger Hunt
DESCRIPTION:
URL:https://downtowncommons.org/event/clarksville-scavenger-hunt/
LOCATION:TN
END:VEVENT
BEGIN:VEVENT
DTSTART;TZID=America/Chicago:20220506T190000
DTEND;TZID=America/Chicago:20220506T220000
DTSTAMP:20260422T203644
CREATED:20220112T153758Z
LAST-MODIFIED:20220427T140140Z
UID:10000841-1651863600-1651874400@downtowncommons.org
SUMMARY:Downtown @ Sundown | Priscilla Block
DESCRIPTION:The Downtown @ Sundown Concert Series will be held on the first and third Fridays of each month from May through October. Each event will offer a night of free music and entertainment. Beer and other beverages will be for sale with proceeds benefiting our featured non-profit\, United Way of the Greater Clarksville Region. A variety of independent food trucks will line up on Main Street. Chairs and blankets are welcome; however\, pets\, coolers\, smoking/vaping or outside alcohol will not be allowed on site. \nDowntown @ Sundown is brought to you by TriStar Beverage and Shelby’s Trio and sponsored in part by Waste Connections of Clarksville.
URL:https://downtowncommons.org/event/downtown-sundown/
LOCATION:TN
END:VEVENT
BEGIN:VEVENT
DTSTART;TZID=America/Chicago:20220425T170000
DTEND;TZID=America/Chicago:20220425T210000
DTSTAMP:20260422T203644
CREATED:20220113T210005Z
LAST-MODIFIED:20220113T210005Z
UID:10000846-1650906000-1650920400@downtowncommons.org
SUMMARY:Lawn Game Night
DESCRIPTION:Join us for Lawn Games from 5:00 PM – 8:00 PM
URL:https://downtowncommons.org/event/lawn-game-night-25/
LOCATION:TN
END:VEVENT
BEGIN:VEVENT
DTSTART;TZID=America/Chicago:20220418T170000
DTEND;TZID=America/Chicago:20220418T200000
DTSTAMP:20260422T203644
CREATED:20220113T194131Z
LAST-MODIFIED:20220113T194131Z
UID:10000845-1650301200-1650312000@downtowncommons.org
SUMMARY:Lawn Game Night
DESCRIPTION:Join us for lawn games from 5:00 – 8:00 PM!
URL:https://downtowncommons.org/event/lawn-game-night-24/
LOCATION:TN
END:VEVENT
BEGIN:VEVENT
DTSTART;TZID=America/Chicago:20220417T060000
DTEND;TZID=America/Chicago:20220417T073000
DTSTAMP:20260422T203644
CREATED:20220426T153257Z
LAST-MODIFIED:20220426T154435Z
UID:10000847-1650175200-1650180600@downtowncommons.org
SUMMARY:Easter Sunrise Service
DESCRIPTION:
URL:https://downtowncommons.org/event/easter-sunrise-service/
LOCATION:TN
END:VEVENT
BEGIN:VEVENT
DTSTART;TZID=America/Chicago:20220411T170000
DTEND;TZID=America/Chicago:20220411T200000
DTSTAMP:20260422T203644
CREATED:20220113T194050Z
LAST-MODIFIED:20220113T194050Z
UID:10000844-1649696400-1649707200@downtowncommons.org
SUMMARY:Lawn Game Night
DESCRIPTION:Join us for lawn games from 5:00 – 8:00 PM!
URL:https://downtowncommons.org/event/lawn-game-night-23/
LOCATION:TN
END:VEVENT
BEGIN:VEVENT
DTSTART;TZID=America/Chicago:20220404T170000
DTEND;TZID=America/Chicago:20220404T200000
DTSTAMP:20260422T203644
CREATED:20220113T194030Z
LAST-MODIFIED:20220113T194030Z
UID:10000843-1649091600-1649102400@downtowncommons.org
SUMMARY:Lawn Game Night
DESCRIPTION:Join us for lawn games from 5:00 – 8:00 PM!
URL:https://downtowncommons.org/event/lawn-game-night-22/
LOCATION:TN
END:VEVENT
BEGIN:VEVENT
DTSTART;TZID=America/Chicago:20220111T183000
DTEND;TZID=America/Chicago:20220111T210000
DTSTAMP:20260422T203644
CREATED:20220111T220640Z
LAST-MODIFIED:20220111T222041Z
UID:10000799-1641925800-1641934800@downtowncommons.org
SUMMARY:Pond Hockey
DESCRIPTION:$15/per player. Must bring your own skates\, helmet\, and sticks.
URL:https://downtowncommons.org/event/pond-hockey-7/
LOCATION:TN
END:VEVENT
BEGIN:VEVENT
DTSTART;TZID=America/Chicago:20220110T160000
DTEND;TZID=America/Chicago:20220110T210000
DTSTAMP:20260422T203644
CREATED:20220111T220704Z
LAST-MODIFIED:20220111T222058Z
UID:10000800-1641830400-1641848400@downtowncommons.org
SUMMARY:Public Skate
DESCRIPTION:Tickets are $12 for adults and $10 for children 12 years and younger.
URL:https://downtowncommons.org/event/public-skate/
LOCATION:TN
END:VEVENT
BEGIN:VEVENT
DTSTART;TZID=America/Chicago:20220109T140000
DTEND;TZID=America/Chicago:20220109T210000
DTSTAMP:20260422T203644
CREATED:20220111T220718Z
LAST-MODIFIED:20220111T222108Z
UID:10000801-1641736800-1641762000@downtowncommons.org
SUMMARY:Public Skate
DESCRIPTION:Tickets are $12 for adults and $10 for children 12 years and younger.
URL:https://downtowncommons.org/event/public-skate-2/
LOCATION:TN
END:VEVENT
BEGIN:VEVENT
DTSTART;TZID=America/Chicago:20220108T100000
DTEND;TZID=America/Chicago:20220108T210000
DTSTAMP:20260422T203644
CREATED:20220111T220734Z
LAST-MODIFIED:20220111T222118Z
UID:10000802-1641636000-1641675600@downtowncommons.org
SUMMARY:Public Skate
DESCRIPTION:Tickets are $12 for adults and $10 for children 12 years and younger.
URL:https://downtowncommons.org/event/public-skate-3/
LOCATION:TN
END:VEVENT
BEGIN:VEVENT
DTSTART;TZID=America/Chicago:20220107T160000
DTEND;TZID=America/Chicago:20220107T210000
DTSTAMP:20260422T203644
CREATED:20220111T220748Z
LAST-MODIFIED:20220111T222135Z
UID:10000803-1641571200-1641589200@downtowncommons.org
SUMMARY:Public Skate
DESCRIPTION:Tickets are $12 for adults and $10 for children 12 years and younger.
URL:https://downtowncommons.org/event/public-skate-4/
LOCATION:TN
END:VEVENT
BEGIN:VEVENT
DTSTART;TZID=America/Chicago:20220106T170000
DTEND;TZID=America/Chicago:20220106T210000
DTSTAMP:20260422T203644
CREATED:20220111T220808Z
LAST-MODIFIED:20220111T222541Z
UID:10000804-1641488400-1641502800@downtowncommons.org
SUMMARY:Broomball 2022
DESCRIPTION:Montgomery County\, TN — The public is invited to join the fun at next week’s fourth annual Mayor versus the General Broomball match. Montgomery County Mayor Jim Durrett has challenged Fort Campbell’s Major General Joseph McGee to a backyard broomball game on January 6 at 6 p.m.\, 2022 at the Downtown Commons outdoor ice skating rink. Fort Campbell was the last to take the trophy in 2020. \n“I have loved watching people come together to enjoy the ice this season. Thursday night’s match is an opportunity to experience something a bit different while cheering on the County team and our local heroes from Fort Campbell. It will be a good time for everyone as the County plays hard to reclaim the trophy\,” said Mayor Durrett. \n“I’m grateful for Mayor Durrett’s invitation to continue the tradition of the annual broomball game. There’s no better place to build lasting friendships and strengthen the bonds between Montgomery County and Fort Campbell than a friendly\, but tough competition on the ice.” said Maj. Gen. McGee 101st Airborne Division (Air Assault) commander. \nAdditional broomball games will take place between the County Highway Department and the City Street Department at 5 p.m. and City Gas & Water will play against the Clarksville Department of Electricity at 7 p.m.\, following the Mayor vs. the General game. \nLee Erwin with Clarksville Now will emcee this community event and food will be available from TaterHeadz onsite eatery as well as Driving You Donuts dessert truck.
URL:https://downtowncommons.org/event/broomball-2022/
LOCATION:TN
END:VEVENT
BEGIN:VEVENT
DTSTART;TZID=America/Chicago:20220105T100000
DTEND;TZID=America/Chicago:20220105T210000
DTSTAMP:20260422T203644
CREATED:20220111T220822Z
LAST-MODIFIED:20220111T222126Z
UID:10000805-1641376800-1641416400@downtowncommons.org
SUMMARY:Public Skate
DESCRIPTION:Tickets are $12 for adults and $10 for children 12 years and younger.
URL:https://downtowncommons.org/event/public-skate-5/
LOCATION:TN
END:VEVENT
BEGIN:VEVENT
DTSTART;TZID=America/Chicago:20220104T100000
DTEND;TZID=America/Chicago:20220104T210000
DTSTAMP:20260422T203644
CREATED:20220111T220845Z
LAST-MODIFIED:20220111T222247Z
UID:10000806-1641290400-1641330000@downtowncommons.org
SUMMARY:Public Skate
DESCRIPTION:Tickets are $12 for adults and $10 for children 12 years and younger.
URL:https://downtowncommons.org/event/public-skate-6/
LOCATION:TN
END:VEVENT
BEGIN:VEVENT
DTSTART;TZID=America/Chicago:20220103T100000
DTEND;TZID=America/Chicago:20220103T210000
DTSTAMP:20260422T203644
CREATED:20220111T220857Z
LAST-MODIFIED:20220111T222609Z
UID:10000807-1641204000-1641243600@downtowncommons.org
SUMMARY:Public Skate
DESCRIPTION:Tickets are $12 for adults and $10 for children 12 years and younger.
URL:https://downtowncommons.org/event/public-skate-7/
LOCATION:TN
END:VEVENT
BEGIN:VEVENT
DTSTART;TZID=America/Chicago:20220102T140000
DTEND;TZID=America/Chicago:20220102T210000
DTSTAMP:20260422T203644
CREATED:20220111T220924Z
LAST-MODIFIED:20220111T222700Z
UID:10000808-1641132000-1641157200@downtowncommons.org
SUMMARY:Public Skate
DESCRIPTION:Tickets are $12 for adults and $10 for children 12 years and younger.
URL:https://downtowncommons.org/event/public-skate-8/
LOCATION:TN
END:VEVENT
END:VCALENDAR