BEGIN:VCALENDAR
VERSION:2.0
PRODID:-//Downtown Commons - ECPv6.15.11//NONSGML v1.0//EN
CALSCALE:GREGORIAN
METHOD:PUBLISH
X-WR-CALNAME:Downtown Commons
X-ORIGINAL-URL:https://downtowncommons.org
X-WR-CALDESC:Events for Downtown Commons
REFRESH-INTERVAL;VALUE=DURATION:PT1H
X-Robots-Tag:noindex
X-PUBLISHED-TTL:PT1H
BEGIN:VTIMEZONE
TZID:America/Chicago
BEGIN:DAYLIGHT
TZOFFSETFROM:-0600
TZOFFSETTO:-0500
TZNAME:CDT
DTSTART:20250309T080000
END:DAYLIGHT
BEGIN:STANDARD
TZOFFSETFROM:-0500
TZOFFSETTO:-0600
TZNAME:CST
DTSTART:20251102T070000
END:STANDARD
BEGIN:DAYLIGHT
TZOFFSETFROM:-0600
TZOFFSETTO:-0500
TZNAME:CDT
DTSTART:20260308T080000
END:DAYLIGHT
BEGIN:STANDARD
TZOFFSETFROM:-0500
TZOFFSETTO:-0600
TZNAME:CST
DTSTART:20261101T070000
END:STANDARD
BEGIN:DAYLIGHT
TZOFFSETFROM:-0600
TZOFFSETTO:-0500
TZNAME:CDT
DTSTART:20270314T080000
END:DAYLIGHT
BEGIN:STANDARD
TZOFFSETFROM:-0500
TZOFFSETTO:-0600
TZNAME:CST
DTSTART:20271107T070000
END:STANDARD
END:VTIMEZONE
BEGIN:VEVENT
DTSTART;TZID=America/Chicago:20261205T163000
DTEND;TZID=America/Chicago:20261205T170000
DTSTAMP:20260422T174629
CREATED:20260206T152948Z
LAST-MODIFIED:20260206T154322Z
UID:10001113-1796488200-1796490000@downtowncommons.org
SUMMARY:Christmas Tree Lighting
DESCRIPTION:Join us on December 5 to watch the lighting of the Montgomery County Christmas Tree at 4:30 pm and stay for the Lighted Christmas Parade at 5:00 pm.  \nPrior to the Christmas Tree Lighting\, SpiritFest will be taking place from 2:00-4:00 pm on the lawn of Downtown Commons\, First Presbyterian\, and Trinity Episcopal Parish.
URL:https://downtowncommons.org/event/christmas-tree-lighting/
LOCATION:Downtown Commons\, 215 Legion Street\, Clarksville\, TN\, 37040\, United States
END:VEVENT
BEGIN:VEVENT
DTSTART;TZID=America/Chicago:20261205T170000
DTEND;TZID=America/Chicago:20261205T190000
DTSTAMP:20260422T174629
CREATED:20260206T155017Z
LAST-MODIFIED:20260206T155017Z
UID:10001116-1796490000-1796497200@downtowncommons.org
SUMMARY:Lighted Christmas Parade
DESCRIPTION:The annual Lighted Christmas Parade\, jointly presented by the City of Clarksville and Montgomery County\, will be held Saturday\, December 5th at 5 p.m.  \nBusinesses\, civic organizations\, government agencies\, and churches are invited to be a part of this tradition by preparing a float or driving a fun vehicle all decked out in holiday cheer!🎄🎅
URL:https://downtowncommons.org/event/lighted-christmas-parade-2/
LOCATION:Downtown Commons\, 215 Legion Street\, Clarksville\, TN\, 37040\, United States
END:VEVENT
BEGIN:VEVENT
DTSTART;TZID=America/Chicago:20261218T180000
DTEND;TZID=America/Chicago:20261218T210000
DTSTAMP:20260422T174629
CREATED:20260206T194602Z
LAST-MODIFIED:20260206T194632Z
UID:10001117-1797616800-1797627600@downtowncommons.org
SUMMARY:Ice Sculpting & MoCo Movie Night
DESCRIPTION:Join us on December 18 at the Downtown Commons for a special winter movie and live ice sculpting! Watch talented ice sculptor Joshua Perry from Burgasm create live ice art during the film AND visit with Santa.  \nDon’t forget to bring your lawn chairs & blankets!
URL:https://downtowncommons.org/event/ice-sculpting-moco-movie-night/
LOCATION:Downtown Commons\, 215 Legion Street\, Clarksville\, TN\, 37040\, United States
END:VEVENT
END:VCALENDAR