BEGIN:VCALENDAR
VERSION:2.0
PRODID:-//Downtown Commons - ECPv6.15.11//NONSGML v1.0//EN
CALSCALE:GREGORIAN
METHOD:PUBLISH
X-WR-CALNAME:Downtown Commons
X-ORIGINAL-URL:https://downtowncommons.org
X-WR-CALDESC:Events for Downtown Commons
REFRESH-INTERVAL;VALUE=DURATION:PT1H
X-Robots-Tag:noindex
X-PUBLISHED-TTL:PT1H
BEGIN:VTIMEZONE
TZID:America/Chicago
BEGIN:DAYLIGHT
TZOFFSETFROM:-0600
TZOFFSETTO:-0500
TZNAME:CDT
DTSTART:20250309T080000
END:DAYLIGHT
BEGIN:STANDARD
TZOFFSETFROM:-0500
TZOFFSETTO:-0600
TZNAME:CST
DTSTART:20251102T070000
END:STANDARD
BEGIN:DAYLIGHT
TZOFFSETFROM:-0600
TZOFFSETTO:-0500
TZNAME:CDT
DTSTART:20260308T080000
END:DAYLIGHT
BEGIN:STANDARD
TZOFFSETFROM:-0500
TZOFFSETTO:-0600
TZNAME:CST
DTSTART:20261101T070000
END:STANDARD
BEGIN:DAYLIGHT
TZOFFSETFROM:-0600
TZOFFSETTO:-0500
TZNAME:CDT
DTSTART:20270314T080000
END:DAYLIGHT
BEGIN:STANDARD
TZOFFSETFROM:-0500
TZOFFSETTO:-0600
TZNAME:CST
DTSTART:20271107T070000
END:STANDARD
END:VTIMEZONE
BEGIN:VEVENT
DTSTART;TZID=America/Chicago:20260519T190000
DTEND;TZID=America/Chicago:20260519T200000
DTSTAMP:20260421T132243
CREATED:20260204T210436Z
LAST-MODIFIED:20260310T140513Z
UID:10001066-1779217200-1779220800@downtowncommons.org
SUMMARY:Sunset Yoga
DESCRIPTION:Join us for sunset yoga at the Downtown Commons! Please bring a mat\, bottle of water\, and a friend. We look forward to ending our day with you in the heart of our city. \n\nThank you to NBalance Hot Yoga & Fitness for leading this class.\n\nFor the latest updates\, including weather-related announcements\, please visit the event page on Facebook!
URL:https://downtowncommons.org/event/sunset-yoga-26/
LOCATION:Downtown Commons\, 215 Legion Street\, Clarksville\, TN\, 37040\, United States
END:VEVENT
BEGIN:VEVENT
DTSTART;TZID=America/Chicago:20260522T190000
DTEND;TZID=America/Chicago:20260522T210000
DTSTAMP:20260421T132243
CREATED:20260204T210538Z
LAST-MODIFIED:20260206T215946Z
UID:10001067-1779476400-1779483600@downtowncommons.org
SUMMARY:Dueling Pianos
DESCRIPTION:Join us for an evening of Dueling Pianos at Downtown Commons on May 22\, starting at 7 PM. Enjoy the live music as talented pianists engage in friendly musical competition. This event is free and open to the public. \n\nFood will be available for purchase from food trucks located on Main Street.
URL:https://downtowncommons.org/event/dueling-pianos-6/
LOCATION:Downtown Commons\, 215 Legion Street\, Clarksville\, TN\, 37040\, United States
END:VEVENT
BEGIN:VEVENT
DTSTART;TZID=America/Chicago:20260530T193000
DTEND;TZID=America/Chicago:20260530T213000
DTSTAMP:20260421T132243
CREATED:20260204T211533Z
LAST-MODIFIED:20260204T214447Z
UID:10001068-1780169400-1780176600@downtowncommons.org
SUMMARY:MoCo Movie Night
DESCRIPTION:Montgomery County Parks and Recreation is excited to host another season of our MoCo Movie Nights for a family fun night at select Montgomery County parks! \n\nJoin us on May 30 at the Downtown Commons. Don’t forget to bring your lawn chairs & blankets!  \n\nFood will be available for purchase on-site.
URL:https://downtowncommons.org/event/moco-movie-night/
LOCATION:Downtown Commons\, 215 Legion Street\, Clarksville\, TN\, 37040\, United States
END:VEVENT
BEGIN:VEVENT
DTSTART;TZID=America/Chicago:20260604T193000
DTEND;TZID=America/Chicago:20260604T210000
DTSTAMP:20260421T132243
CREATED:20260204T211644Z
LAST-MODIFIED:20260205T142303Z
UID:10001069-1780601400-1780606800@downtowncommons.org
SUMMARY:Nashville Symphony
DESCRIPTION:The Downtown Commons will host the prestigious Nashville Symphony on the evening of June 4!  Beginning at 7:30 PM\, the community will have the opportunity to listen to some of the country’s most talented musicians live and in person.\n\nCome early– food will be available for purchase from local food trucks\, and beer and other beverages will be for sale. \n\nChairs and blankets are welcome; however\, pets\, coolers\, smoking/vaping or outside alcohol will not be allowed on site. This event is free and open to the public!
URL:https://downtowncommons.org/event/nashville-symphony-3/
LOCATION:Downtown Commons\, 215 Legion Street\, Clarksville\, TN\, 37040\, United States
END:VEVENT
BEGIN:VEVENT
DTSTART;TZID=America/Chicago:20260605T190000
DTEND;TZID=America/Chicago:20260605T210000
DTSTAMP:20260421T132243
CREATED:20260204T211801Z
LAST-MODIFIED:20260206T145125Z
UID:10001070-1780686000-1780693200@downtowncommons.org
SUMMARY:Downtown @ Sundown
DESCRIPTION:Join us on June 5th! \nThe Downtown @ Sundown Concert Series will be held on select Fridays May through October at 7:00 pm. Each event will offer a night of free music and entertainment. Beer and other beverages will be for sale accompanied by a variety of food trucks that line up on Main Street. \nChairs and blankets are welcome; however\, pets\, coolers\, smoking/vaping or outside alcohol will not be allowed on site. \nDowntown @ Sundown is brought to you by Tristar Beverage Clarksville and F&M Bank.
URL:https://downtowncommons.org/event/downtown-sundown-25/
LOCATION:Downtown Commons\, 215 Legion Street\, Clarksville\, TN\, 37040\, United States
END:VEVENT
BEGIN:VEVENT
DTSTART;TZID=America/Chicago:20260606T070000
DTEND;TZID=America/Chicago:20260606T080000
DTSTAMP:20260421T132243
CREATED:20260204T211909Z
LAST-MODIFIED:20260206T181724Z
UID:10001071-1780729200-1780732800@downtowncommons.org
SUMMARY:Sunrise Yoga
DESCRIPTION:Start your day with sunrise yoga at the Downtown Commons! Bring a mat\, bottle of water\, and a friend.  \nThank you to NBalance Hot Yoga & Fitness for leading this free class!
URL:https://downtowncommons.org/event/sunrise-yoga-6/
LOCATION:Downtown Commons\, 215 Legion Street\, Clarksville\, TN\, 37040\, United States
END:VEVENT
BEGIN:VEVENT
DTSTART;TZID=America/Chicago:20260608T100000
DTEND;TZID=America/Chicago:20260608T110000
DTSTAMP:20260421T132243
CREATED:20260204T212030Z
LAST-MODIFIED:20260204T212030Z
UID:10001072-1780912800-1780916400@downtowncommons.org
SUMMARY:Library Story Time
DESCRIPTION:The Clarksville Montgomery County Public Library presents Library Story Time! This free summer program gives attendees the opportunity to hear a live Story Time or Reading Performances.
URL:https://downtowncommons.org/event/library-story-time-7/
LOCATION:Downtown Commons\, 215 Legion Street\, Clarksville\, TN\, 37040\, United States
END:VEVENT
BEGIN:VEVENT
DTSTART;TZID=America/Chicago:20260608T110000
DTEND;TZID=America/Chicago:20260608T130000
DTSTAMP:20260421T132243
CREATED:20260204T215201Z
LAST-MODIFIED:20260204T215228Z
UID:10001073-1780916400-1780923600@downtowncommons.org
SUMMARY:Lunch on the Lawn: Holiday Edition
DESCRIPTION:Join us for Lunch on the Lawn to celebrate National Best Friends Day! \nCome to the Downtown Commons and grab lunch from a local restaurant or one of the food trucks and enjoy lunch outdoors.  \nDon’t forget-use the ParkMobile app to get 2 hours of free parking downtown. We can’t wait to see you there! 
URL:https://downtowncommons.org/event/lunch-on-the-lawn-holiday-edition/
LOCATION:Downtown Commons\, 215 Legion Street\, Clarksville\, TN\, 37040\, United States
END:VEVENT
BEGIN:VEVENT
DTSTART;TZID=America/Chicago:20260612T100000
DTEND;TZID=America/Chicago:20260612T110000
DTSTAMP:20260421T132243
CREATED:20260204T215528Z
LAST-MODIFIED:20260204T215613Z
UID:10001074-1781258400-1781262000@downtowncommons.org
SUMMARY:Bright Star Theatre Dino Academy
DESCRIPTION:This event is presented in partnership with Montgomery County Public Library at the Downtown Commons. \nDon’t forget-use the ParkMobile app to get 2 hours of free parking downtown. We can’t wait to see you there! 
URL:https://downtowncommons.org/event/bright-star-theatre-dino-academy/
LOCATION:Downtown Commons\, 215 Legion Street\, Clarksville\, TN\, 37040\, United States
END:VEVENT
BEGIN:VEVENT
DTSTART;TZID=America/Chicago:20260612T190000
DTEND;TZID=America/Chicago:20260612T210000
DTSTAMP:20260421T132243
CREATED:20260204T215730Z
LAST-MODIFIED:20260204T220003Z
UID:10001075-1781290800-1781298000@downtowncommons.org
SUMMARY:Downtown @ Sundown
DESCRIPTION:Join us on June 12th! \nThe Downtown @ Sundown Concert Series will be held on select Fridays May through October at 7:00 pm. Each event will offer a night of free music and entertainment. \n\nBeer and other beverages will be for sale accompanied by a variety of food trucks that line up on Main Street. \n\nChairs and blankets are welcome; however\, pets\, coolers\, smoking/vaping or outside alcohol will not be allowed on site. \n\nDowntown @ Sundown is brought to you by Tristar Beverage Clarksville and F&M Bank.
URL:https://downtowncommons.org/event/downtownsundown-26/
LOCATION:Downtown Commons\, 215 Legion Street\, Clarksville\, TN\, 37040\, United States
END:VEVENT
BEGIN:VEVENT
DTSTART;TZID=America/Chicago:20260615T100000
DTEND;TZID=America/Chicago:20260615T110000
DTSTAMP:20260421T132243
CREATED:20260205T143432Z
LAST-MODIFIED:20260205T143432Z
UID:10001076-1781517600-1781521200@downtowncommons.org
SUMMARY:Library Story Time
DESCRIPTION:Clarksville-Montgomery County Library hosts story time at the Downtown Commons \nThis event is free and open to the public.
URL:https://downtowncommons.org/event/library-story-time-8/2026-06-15/
LOCATION:Downtown Commons\, 215 Legion Street\, Clarksville\, TN\, 37040\, United States
END:VEVENT
BEGIN:VEVENT
DTSTART;TZID=America/Chicago:20260618T110000
DTEND;TZID=America/Chicago:20260618T130000
DTSTAMP:20260421T132243
CREATED:20260205T143750Z
LAST-MODIFIED:20260205T143750Z
UID:10001081-1781780400-1781787600@downtowncommons.org
SUMMARY:Lunch on the Lawn: Holiday Edition
DESCRIPTION:Come to the Downtown Commons in celebration of International Picnic Day! Grab lunch from a local restaurant or one of the food trucks and enjoy lunch outdoors.  \nDon’t forget-use the ParkMobile app to get 2 hours of free parking downtown. We can’t wait to see you there! 
URL:https://downtowncommons.org/event/lunch-on-the-lawn-holiday-edition-2/
LOCATION:Downtown Commons\, 215 Legion Street\, Clarksville\, TN\, 37040\, United States
END:VEVENT
BEGIN:VEVENT
DTSTART;TZID=America/Chicago:20260622T100000
DTEND;TZID=America/Chicago:20260622T110000
DTSTAMP:20260421T132243
CREATED:20260205T143432Z
LAST-MODIFIED:20260205T143432Z
UID:10001077-1782122400-1782126000@downtowncommons.org
SUMMARY:Library Story Time
DESCRIPTION:Clarksville-Montgomery County Library hosts story time at the Downtown Commons \nThis event is free and open to the public.
URL:https://downtowncommons.org/event/library-story-time-8/2026-06-22/
LOCATION:Downtown Commons\, 215 Legion Street\, Clarksville\, TN\, 37040\, United States
END:VEVENT
BEGIN:VEVENT
DTSTART;TZID=America/Chicago:20260627T193000
DTEND;TZID=America/Chicago:20260627T210000
DTSTAMP:20260421T132243
CREATED:20260205T143956Z
LAST-MODIFIED:20260205T143956Z
UID:10001082-1782588600-1782594000@downtowncommons.org
SUMMARY:MoCo Movie Night
DESCRIPTION:Montgomery County Parks and Recreation is excited to host another season of our MoCo Movie Nights for a family fun night at the Downtown Commons!  \nDon’t forget to bring your lawn chairs & blankets!  \nFood will be available for purchase on-site. 
URL:https://downtowncommons.org/event/moco-movie-night-2/
LOCATION:Downtown Commons\, 215 Legion Street\, Clarksville\, TN\, 37040\, United States
END:VEVENT
BEGIN:VEVENT
DTSTART;TZID=America/Chicago:20260629T100000
DTEND;TZID=America/Chicago:20260629T110000
DTSTAMP:20260421T132243
CREATED:20260205T143432Z
LAST-MODIFIED:20260205T143432Z
UID:10001078-1782727200-1782730800@downtowncommons.org
SUMMARY:Library Story Time
DESCRIPTION:Clarksville-Montgomery County Library hosts story time at the Downtown Commons \nThis event is free and open to the public.
URL:https://downtowncommons.org/event/library-story-time-8/2026-06-29/
LOCATION:Downtown Commons\, 215 Legion Street\, Clarksville\, TN\, 37040\, United States
END:VEVENT
BEGIN:VEVENT
DTSTART;TZID=America/Chicago:20260702T180000
DTEND;TZID=America/Chicago:20260702T200000
DTSTAMP:20260421T132243
CREATED:20260205T144138Z
LAST-MODIFIED:20260205T144307Z
UID:10001083-1783015200-1783022400@downtowncommons.org
SUMMARY:Roxy at the Downtown Commons
DESCRIPTION:We are kicking off America’s 250th Birthday Celebration with a performance by Roxy Regional Theater! Visit the Downtown Commons to watch a live\, outdoor performance! \nBring your chairs and blankets and help us kick off this memorable weekend of activities.
URL:https://downtowncommons.org/event/roxy-at-the-downtown-commons/
LOCATION:Downtown Commons\, 215 Legion Street\, Clarksville\, TN\, 37040\, United States
END:VEVENT
BEGIN:VEVENT
DTSTART;TZID=America/Chicago:20260703T190000
DTEND;TZID=America/Chicago:20260703T210000
DTSTAMP:20260421T132243
CREATED:20260205T144606Z
LAST-MODIFIED:20260206T145412Z
UID:10001084-1783105200-1783112400@downtowncommons.org
SUMMARY:Downtown @ Sundown
DESCRIPTION:Join us on July 3rd!  \nThe Downtown @ Sundown Concert Series will be held on select Fridays May through October. Each event will offer a night of free music and entertainment. Beer and other beverages will be for sale accompanied by a variety of food trucks that line up on Main Street.   \nChairs and blankets are welcome; however\, pets\, coolers\, smoking/vaping or outside alcohol will not be allowed on site.  \nDowntown @ Sundown is brought to you by Tristar Beverage Clarksville and F&M Bank.
URL:https://downtowncommons.org/event/downtown-sundown-24/
LOCATION:Downtown Commons\, 215 Legion Street\, Clarksville\, TN\, 37040\, United States
END:VEVENT
BEGIN:VEVENT
DTSTART;TZID=America/Chicago:20260704T100000
DTEND;TZID=America/Chicago:20260704T200000
DTSTAMP:20260421T132243
CREATED:20260205T150619Z
LAST-MODIFIED:20260205T150619Z
UID:10001085-1783159200-1783195200@downtowncommons.org
SUMMARY:America's 250th Festival
DESCRIPTION:Join us in celebration of America’s 250th birthday in the heart of Downtown Clarksville! Both the City of Clarksville and Montgomery County will be hosting live music\, food trucks\, activities and carnival rides for free!  \nStay tuned for more information and updates!
URL:https://downtowncommons.org/event/americas-250th-festival/
LOCATION:Downtown Commons\, 215 Legion Street\, Clarksville\, TN\, 37040\, United States
END:VEVENT
BEGIN:VEVENT
DTSTART;TZID=America/Chicago:20260706T100000
DTEND;TZID=America/Chicago:20260706T110000
DTSTAMP:20260421T132243
CREATED:20260205T143432Z
LAST-MODIFIED:20260205T143432Z
UID:10001079-1783332000-1783335600@downtowncommons.org
SUMMARY:Library Story Time
DESCRIPTION:Clarksville-Montgomery County Library hosts story time at the Downtown Commons \nThis event is free and open to the public.
URL:https://downtowncommons.org/event/library-story-time-8/2026-07-06/
LOCATION:Downtown Commons\, 215 Legion Street\, Clarksville\, TN\, 37040\, United States
END:VEVENT
BEGIN:VEVENT
DTSTART;TZID=America/Chicago:20260711T070000
DTEND;TZID=America/Chicago:20260711T080000
DTSTAMP:20260421T132243
CREATED:20260205T151350Z
LAST-MODIFIED:20260310T140933Z
UID:10001087-1783753200-1783756800@downtowncommons.org
SUMMARY:Sunrise Yoga
DESCRIPTION:Join us for sunrise yoga at the Downtown Commons! Please bring a mat\, bottle of water\, and a friend. We look forward to starting our day with you in the heart of our city! \nThank you to NBalance | Hot Yoga & Fitness for leading this class! \nFor the latest updates\, including weather-related announcements\, please visit the event page on Facebook!
URL:https://downtowncommons.org/event/sunrise-yoga-7/
LOCATION:Downtown Commons\, 215 Legion Street\, Clarksville\, TN\, 37040\, United States
END:VEVENT
BEGIN:VEVENT
DTSTART;TZID=America/Chicago:20260713T100000
DTEND;TZID=America/Chicago:20260713T110000
DTSTAMP:20260421T132243
CREATED:20260205T143432Z
LAST-MODIFIED:20260205T143432Z
UID:10001080-1783936800-1783940400@downtowncommons.org
SUMMARY:Library Story Time
DESCRIPTION:Clarksville-Montgomery County Library hosts story time at the Downtown Commons \nThis event is free and open to the public.
URL:https://downtowncommons.org/event/library-story-time-8/2026-07-13/
LOCATION:Downtown Commons\, 215 Legion Street\, Clarksville\, TN\, 37040\, United States
END:VEVENT
BEGIN:VEVENT
DTSTART;TZID=America/Chicago:20260713T110000
DTEND;TZID=America/Chicago:20260713T130000
DTSTAMP:20260421T132243
CREATED:20260205T152012Z
LAST-MODIFIED:20260205T152012Z
UID:10001088-1783940400-1783947600@downtowncommons.org
SUMMARY:Lunch on the Lawn: Holiday Edition
DESCRIPTION:Join us at the Downtown Commons as we celebrate National Frech Fry Day! Grab lunch from a local downtown restaurant or celebrate with Fryz Wit Dat\, our on-site food truck\, while enjoying the fresh air!   \nDon’t forget to use the ParkMobile app and get 2 hours of free parking downtown. We can’t wait to see you there!
URL:https://downtowncommons.org/event/lunch-on-the-lawn-holiday-edition-3/
LOCATION:Downtown Commons\, 215 Legion Street\, Clarksville\, TN\, 37040\, United States
END:VEVENT
BEGIN:VEVENT
DTSTART;TZID=America/Chicago:20260715T110000
DTEND;TZID=America/Chicago:20260715T130000
DTSTAMP:20260421T132243
CREATED:20260205T155327Z
LAST-MODIFIED:20260205T155505Z
UID:10001089-1784113200-1784120400@downtowncommons.org
SUMMARY:Lunch on the Lawn: Holiday Edition
DESCRIPTION:Join us at the Downtown Commons as we celebrate National Hot Dog Day! Grab lunch from a local downtown restaurant or celebrate with L.A. Street Dogs\, our on-site food truck\, while enjoying the fresh air! \nDon’t forget to use the ParkMobile app and get 2 hours of free parking downtown. We can’t wait to see you there!
URL:https://downtowncommons.org/event/lunch-on-the-lawn-holiday/
LOCATION:Downtown Commons\, 215 Legion Street\, Clarksville\, TN\, 37040\, United States
END:VEVENT
BEGIN:VEVENT
DTSTART;TZID=America/Chicago:20260717T190000
DTEND;TZID=America/Chicago:20260717T210000
DTSTAMP:20260421T132243
CREATED:20260205T155739Z
LAST-MODIFIED:20260205T155739Z
UID:10001090-1784314800-1784322000@downtowncommons.org
SUMMARY:Downtown @ Sundown
DESCRIPTION:Join us on July 17th!  \nThe Downtown @ Sundown Concert Series will be held on select Fridays May through October. Each event will offer a night of free music and entertainment. Beer and other beverages will be for sale accompanied by a variety of food trucks will line up on Main Street.   \nChairs and blankets are welcome; however\, pets\, coolers\, smoking/vaping or outside alcohol will not be allowed on site.  \nDowntown @ Sundown is brought to you by Tristar Beverage Clarksville and F&M Bank.
URL:https://downtowncommons.org/event/downtown-sundown-28/
LOCATION:Downtown Commons\, 215 Legion Street\, Clarksville\, TN\, 37040\, United States
END:VEVENT
BEGIN:VEVENT
DTSTART;TZID=America/Chicago:20260730T110000
DTEND;TZID=America/Chicago:20260730T130000
DTSTAMP:20260421T132243
CREATED:20260205T160618Z
LAST-MODIFIED:20260205T160618Z
UID:10001091-1785409200-1785416400@downtowncommons.org
SUMMARY:Lunch on the Lawn: Holiday Edition
DESCRIPTION:Treat your intern to a lunch outdoors as we celebrate National Intern Day at the Downtown Commons! Grab lunch from a local downtown restaurant or celebrate with Pop & Dogs and Kadis Tacos\, our on-site food trucks\, while enjoying the fresh air!  \nDon’t forget to use the ParkMobile app to receive 2 hours of free parking downtown. We can’t wait to see you!
URL:https://downtowncommons.org/event/lunch-on-the-lawn-holiday-edition-4/
LOCATION:Downtown Commons\, 215 Legion Street\, Clarksville\, TN\, 37040\, United States
END:VEVENT
BEGIN:VEVENT
DTSTART;TZID=America/Chicago:20260806T180000
DTEND;TZID=America/Chicago:20260806T200000
DTSTAMP:20260421T132243
CREATED:20260205T160920Z
LAST-MODIFIED:20260205T160920Z
UID:10001092-1786039200-1786046400@downtowncommons.org
SUMMARY:Downtown Local Sound
DESCRIPTION:Join us Thursday\, August 6!  \nOn select Thursdays from August to October\, catch free live music from 6-8pm by local artists at the Downtown Commons.  \nGrab a bite or drink from any of the downtown restaurants and enjoy a night full of art\, music\, and good vibes!
URL:https://downtowncommons.org/event/downtown-local-sound/
LOCATION:Downtown Commons\, 215 Legion Street\, Clarksville\, TN\, 37040\, United States
END:VEVENT
BEGIN:VEVENT
DTSTART;TZID=America/Chicago:20260807T190000
DTEND;TZID=America/Chicago:20260807T210000
DTSTAMP:20260421T132243
CREATED:20260205T161047Z
LAST-MODIFIED:20260206T145053Z
UID:10001093-1786129200-1786136400@downtowncommons.org
SUMMARY:Downtown @ Sundown
DESCRIPTION:Join us on August 7th! \nThe Downtown @ Sundown Concert Series will be held on select Fridays May through October. Each event will offer a night of free music and entertainment.  \nBeer and other beverages will be for sale accompanied by a variety of food trucks will line up on Main Street.   \nChairs and blankets are welcome; however\, pets\, coolers\, smoking/vaping or outside alcohol will not be allowed on site.  \nDowntown @ Sundown is brought to you by Tristar Beverage Clarksville and F&M Bank.
URL:https://downtowncommons.org/event/downtown-sundown-29/
LOCATION:Downtown Commons\, 215 Legion Street\, Clarksville\, TN\, 37040\, United States
END:VEVENT
BEGIN:VEVENT
DTSTART;TZID=America/Chicago:20260821T190000
DTEND;TZID=America/Chicago:20260821T210000
DTSTAMP:20260421T132243
CREATED:20260205T161653Z
LAST-MODIFIED:20260205T161727Z
UID:10001094-1787338800-1787346000@downtowncommons.org
SUMMARY:Downtown @ Sundown
DESCRIPTION:Join us on August 21st!  \nThe Downtown @ Sundown Concert Series will be held on select Fridays May through October. Each event will offer a night of free music and entertainment.  \nBeer and other beverages will be for sale accompanied by a variety of food trucks will line up on Main Street.   \nChairs and blankets are welcome; however\, pets\, coolers\, smoking/vaping or outside alcohol will not be allowed on site.  \nDowntown @ Sundown is brought to you by Tristar Beverage Clarksville and F&M Bank.
URL:https://downtowncommons.org/event/downtown-sundown-30/
LOCATION:Downtown Commons\, 215 Legion Street\, Clarksville\, TN\, 37040\, United States
END:VEVENT
BEGIN:VEVENT
DTSTART;TZID=America/Chicago:20260822T193000
DTEND;TZID=America/Chicago:20260822T210000
DTSTAMP:20260421T132243
CREATED:20260205T162023Z
LAST-MODIFIED:20260206T150245Z
UID:10001095-1787427000-1787432400@downtowncommons.org
SUMMARY:MoCo Movie Night
DESCRIPTION:Montgomery County Parks and Recreation is excited to host another season of our MoCo Movie Nights for a family fun night at the Downtown Commons!  \nCome join us on August 22!  \nDon’t forget to bring your lawn chairs & blankets!  \nFood will be available for purchase on-site.
URL:https://downtowncommons.org/event/moco-movie-night-3/
LOCATION:Downtown Commons\, 215 Legion Street\, Clarksville\, TN\, 37040\, United States
END:VEVENT
BEGIN:VEVENT
DTSTART;TZID=America/Chicago:20260829T193000
DTEND;TZID=America/Chicago:20260829T210000
DTSTAMP:20260421T132243
CREATED:20260205T162450Z
LAST-MODIFIED:20260205T162527Z
UID:10001096-1788031800-1788037200@downtowncommons.org
SUMMARY:MoCo Movie Night
DESCRIPTION:Montgomery County Parks and Recreation is excited to host another season of our MoCo Movie Nights for a family fun night at the Downtown Commons!  \nCome join us on August 29th!  \nDon’t forget to bring your lawn chairs & blankets!  \nFood will be available for purchase on-site.
URL:https://downtowncommons.org/event/moco-movie-night-4/
LOCATION:Downtown Commons\, 215 Legion Street\, Clarksville\, TN\, 37040\, United States
END:VEVENT
END:VCALENDAR