BEGIN:VCALENDAR
VERSION:2.0
PRODID:-//Downtown Commons - ECPv6.15.11//NONSGML v1.0//EN
CALSCALE:GREGORIAN
METHOD:PUBLISH
X-WR-CALNAME:Downtown Commons
X-ORIGINAL-URL:https://downtowncommons.org
X-WR-CALDESC:Events for Downtown Commons
REFRESH-INTERVAL;VALUE=DURATION:PT1H
X-Robots-Tag:noindex
X-PUBLISHED-TTL:PT1H
BEGIN:VTIMEZONE
TZID:America/Chicago
BEGIN:DAYLIGHT
TZOFFSETFROM:-0600
TZOFFSETTO:-0500
TZNAME:CDT
DTSTART:20250309T080000
END:DAYLIGHT
BEGIN:STANDARD
TZOFFSETFROM:-0500
TZOFFSETTO:-0600
TZNAME:CST
DTSTART:20251102T070000
END:STANDARD
BEGIN:DAYLIGHT
TZOFFSETFROM:-0600
TZOFFSETTO:-0500
TZNAME:CDT
DTSTART:20260308T080000
END:DAYLIGHT
BEGIN:STANDARD
TZOFFSETFROM:-0500
TZOFFSETTO:-0600
TZNAME:CST
DTSTART:20261101T070000
END:STANDARD
BEGIN:DAYLIGHT
TZOFFSETFROM:-0600
TZOFFSETTO:-0500
TZNAME:CDT
DTSTART:20270314T080000
END:DAYLIGHT
BEGIN:STANDARD
TZOFFSETFROM:-0500
TZOFFSETTO:-0600
TZNAME:CST
DTSTART:20271107T070000
END:STANDARD
END:VTIMEZONE
BEGIN:VEVENT
DTSTART;TZID=America/Chicago:20260713T100000
DTEND;TZID=America/Chicago:20260713T110000
DTSTAMP:20260421T113603
CREATED:20260205T143432Z
LAST-MODIFIED:20260205T143432Z
UID:10001080-1783936800-1783940400@downtowncommons.org
SUMMARY:Library Story Time
DESCRIPTION:Clarksville-Montgomery County Library hosts story time at the Downtown Commons \nThis event is free and open to the public.
URL:https://downtowncommons.org/event/library-story-time-8/2026-07-13/
LOCATION:Downtown Commons\, 215 Legion Street\, Clarksville\, TN\, 37040\, United States
END:VEVENT
BEGIN:VEVENT
DTSTART;TZID=America/Chicago:20260713T110000
DTEND;TZID=America/Chicago:20260713T130000
DTSTAMP:20260421T113603
CREATED:20260205T152012Z
LAST-MODIFIED:20260205T152012Z
UID:10001088-1783940400-1783947600@downtowncommons.org
SUMMARY:Lunch on the Lawn: Holiday Edition
DESCRIPTION:Join us at the Downtown Commons as we celebrate National Frech Fry Day! Grab lunch from a local downtown restaurant or celebrate with Fryz Wit Dat\, our on-site food truck\, while enjoying the fresh air!   \nDon’t forget to use the ParkMobile app and get 2 hours of free parking downtown. We can’t wait to see you there!
URL:https://downtowncommons.org/event/lunch-on-the-lawn-holiday-edition-3/
LOCATION:Downtown Commons\, 215 Legion Street\, Clarksville\, TN\, 37040\, United States
END:VEVENT
END:VCALENDAR