BEGIN:VCALENDAR
VERSION:2.0
PRODID:-//Downtown Commons - ECPv6.15.11//NONSGML v1.0//EN
CALSCALE:GREGORIAN
METHOD:PUBLISH
X-ORIGINAL-URL:https://downtowncommons.org
X-WR-CALDESC:Events for Downtown Commons
REFRESH-INTERVAL;VALUE=DURATION:PT1H
X-Robots-Tag:noindex
X-PUBLISHED-TTL:PT1H
BEGIN:VTIMEZONE
TZID:America/Chicago
BEGIN:DAYLIGHT
TZOFFSETFROM:-0600
TZOFFSETTO:-0500
TZNAME:CDT
DTSTART:20250309T080000
END:DAYLIGHT
BEGIN:STANDARD
TZOFFSETFROM:-0500
TZOFFSETTO:-0600
TZNAME:CST
DTSTART:20251102T070000
END:STANDARD
BEGIN:DAYLIGHT
TZOFFSETFROM:-0600
TZOFFSETTO:-0500
TZNAME:CDT
DTSTART:20260308T080000
END:DAYLIGHT
BEGIN:STANDARD
TZOFFSETFROM:-0500
TZOFFSETTO:-0600
TZNAME:CST
DTSTART:20261101T070000
END:STANDARD
BEGIN:DAYLIGHT
TZOFFSETFROM:-0600
TZOFFSETTO:-0500
TZNAME:CDT
DTSTART:20270314T080000
END:DAYLIGHT
BEGIN:STANDARD
TZOFFSETFROM:-0500
TZOFFSETTO:-0600
TZNAME:CST
DTSTART:20271107T070000
END:STANDARD
END:VTIMEZONE
BEGIN:VEVENT
DTSTART;TZID=America/Chicago:20260507T173000
DTEND;TZID=America/Chicago:20260507T190000
DTSTAMP:20260421T082706
CREATED:20260203T195437Z
LAST-MODIFIED:20260302T165236Z
UID:10001064-1778175000-1778180400@downtowncommons.org
SUMMARY:County Connections
DESCRIPTION:Enjoy live music\, engaging activities\, like touch-a-truck\, and explore informational booths staffed by Montgomery County Government team members\, offering a great opportunity for the public to network and learn more about local services\, initiatives and job opportunities. 
URL:https://downtowncommons.org/event/county-connections-2/
LOCATION:Downtown Commons\, 215 Legion Street\, Clarksville\, TN\, 37040\, United States
END:VEVENT
END:VCALENDAR