BEGIN:VCALENDAR
VERSION:2.0
PRODID:-//Downtown Commons - ECPv6.15.11//NONSGML v1.0//EN
CALSCALE:GREGORIAN
METHOD:PUBLISH
X-ORIGINAL-URL:https://downtowncommons.org
X-WR-CALDESC:Events for Downtown Commons
REFRESH-INTERVAL;VALUE=DURATION:PT1H
X-Robots-Tag:noindex
X-PUBLISHED-TTL:PT1H
BEGIN:VTIMEZONE
TZID:America/Chicago
BEGIN:DAYLIGHT
TZOFFSETFROM:-0600
TZOFFSETTO:-0500
TZNAME:CDT
DTSTART:20240310T080000
END:DAYLIGHT
BEGIN:STANDARD
TZOFFSETFROM:-0500
TZOFFSETTO:-0600
TZNAME:CST
DTSTART:20241103T070000
END:STANDARD
BEGIN:DAYLIGHT
TZOFFSETFROM:-0600
TZOFFSETTO:-0500
TZNAME:CDT
DTSTART:20250309T080000
END:DAYLIGHT
BEGIN:STANDARD
TZOFFSETFROM:-0500
TZOFFSETTO:-0600
TZNAME:CST
DTSTART:20251102T070000
END:STANDARD
BEGIN:DAYLIGHT
TZOFFSETFROM:-0600
TZOFFSETTO:-0500
TZNAME:CDT
DTSTART:20260308T080000
END:DAYLIGHT
BEGIN:STANDARD
TZOFFSETFROM:-0500
TZOFFSETTO:-0600
TZNAME:CST
DTSTART:20261101T070000
END:STANDARD
END:VTIMEZONE
BEGIN:VEVENT
DTSTART;TZID=America/Chicago:20251018T160000
DTEND;TZID=America/Chicago:20251018T183000
DTSTAMP:20260421T173342
CREATED:20250904T185309Z
LAST-MODIFIED:20250911T145053Z
UID:10001056-1760803200-1760812200@downtowncommons.org
SUMMARY:MoCo Movie Night: Harry Potter and the Deathly Hallows Pt.1 (Double Feature)
DESCRIPTION:Wizards and witches\, come join us at the Sorcery Square of Downtown Clarksville!    \nJoin us on October 18th for part one of the Harry Potter and the Deathly Hallows double feature. Don’t forget to bring your lawn chairs & blankets! Come early to set up\, browse activities\, and visit our local businesses for dinner before the movie.  \nFor more information and weather updates\, visit us on Facebook
URL:https://downtowncommons.org/event/moco-movie-night-harry-potter-and-the-deathly-hallows-pt-1-double-feature/
LOCATION:Downtown Commons\, 215 Legion Street\, Clarksville\, TN\, 37040\, United States
END:VEVENT
BEGIN:VEVENT
DTSTART;TZID=America/Chicago:20251018T190000
DTEND;TZID=America/Chicago:20251018T210000
DTSTAMP:20260421T173342
CREATED:20250904T185424Z
LAST-MODIFIED:20250911T145203Z
UID:10001057-1760814000-1760821200@downtowncommons.org
SUMMARY:MoCo Movie Night: Harry Potter and the Deathly Hallows Pt. 2 (Double Feature)
DESCRIPTION:Wizards and witches\, come join us at the Sorcery Square of Downtown Clarksville!    \nJoin us on October 18th for part two of the Harry Potter and the Deathly Hallows double feature. Don’t forget to bring your lawn chairs & blankets! Come early to set up\, browse activities\, and visit our local businesses for dinner before the movie.  \nFor more information and weather updates\, visit us on Facebook
URL:https://downtowncommons.org/event/moco-movie-night-harry-potter-and-the-deathly-hallows-pt-2-double-feature/
LOCATION:TN
END:VEVENT
END:VCALENDAR