BEGIN:VCALENDAR
VERSION:2.0
PRODID:-//Downtown Commons - ECPv6.15.11//NONSGML v1.0//EN
CALSCALE:GREGORIAN
METHOD:PUBLISH
X-WR-CALNAME:Downtown Commons
X-ORIGINAL-URL:https://downtowncommons.org
X-WR-CALDESC:Events for Downtown Commons
REFRESH-INTERVAL;VALUE=DURATION:PT1H
X-Robots-Tag:noindex
X-PUBLISHED-TTL:PT1H
BEGIN:VTIMEZONE
TZID:America/Chicago
BEGIN:DAYLIGHT
TZOFFSETFROM:-0600
TZOFFSETTO:-0500
TZNAME:CDT
DTSTART:20240310T080000
END:DAYLIGHT
BEGIN:STANDARD
TZOFFSETFROM:-0500
TZOFFSETTO:-0600
TZNAME:CST
DTSTART:20241103T070000
END:STANDARD
BEGIN:DAYLIGHT
TZOFFSETFROM:-0600
TZOFFSETTO:-0500
TZNAME:CDT
DTSTART:20250309T080000
END:DAYLIGHT
BEGIN:STANDARD
TZOFFSETFROM:-0500
TZOFFSETTO:-0600
TZNAME:CST
DTSTART:20251102T070000
END:STANDARD
BEGIN:DAYLIGHT
TZOFFSETFROM:-0600
TZOFFSETTO:-0500
TZNAME:CDT
DTSTART:20260308T080000
END:DAYLIGHT
BEGIN:STANDARD
TZOFFSETFROM:-0500
TZOFFSETTO:-0600
TZNAME:CST
DTSTART:20261101T070000
END:STANDARD
END:VTIMEZONE
BEGIN:VEVENT
DTSTART;TZID=America/Chicago:20250718T100000
DTEND;TZID=America/Chicago:20250718T110000
DTSTAMP:20260421T221929
CREATED:20250214T213830Z
LAST-MODIFIED:20250701T134406Z
UID:10001020-1752832800-1752836400@downtowncommons.org
SUMMARY:Country Music Hall of Fame: Performance and Instrument Petting Zoo
DESCRIPTION:Get up close and personal with a variety of musical instruments in this hands-on program! Try out different strings\, percussion\, and wind instruments\, and discover which one makes your heart sing. Perfect for curious kids and adults alike — come explore\, play\, and have fun making some noise!
URL:https://downtowncommons.org/event/library-friday-performance-6/
LOCATION:Downtown Commons\, 215 Legion Street\, Clarksville\, TN\, 37040\, United States
END:VEVENT
BEGIN:VEVENT
DTSTART;TZID=America/Chicago:20250718T190000
DTEND;TZID=America/Chicago:20250718T210000
DTSTAMP:20260421T221929
CREATED:20250214T214216Z
LAST-MODIFIED:20250416T213147Z
UID:10001021-1752865200-1752872400@downtowncommons.org
SUMMARY:Downtown @ Sundown: The Eagles Project
DESCRIPTION:Join us on July 18th to hear The Eagles Project!  \nThe Downtown @ Sundown Concert Series will be held on select Fridays May through October. Each event will offer a night of free music and entertainment. Beer and other beverages will be for sale accompanied by a variety of food trucks will line up on Main Street.   \nChairs and blankets are welcome; however\, pets\, coolers\, smoking/vaping or outside alcohol will not be allowed on site.  \nFor more information and weather updates\, please visit us on Facebook! \nVisit downtowncommons.org for the full lineup!
URL:https://downtowncommons.org/event/downtown-sundown-the-eagles-project/
LOCATION:Downtown Commons\, 215 Legion Street\, Clarksville\, TN\, 37040\, United States
END:VEVENT
END:VCALENDAR