BEGIN:VCALENDAR
VERSION:2.0
PRODID:-//Downtown Commons - ECPv6.15.11//NONSGML v1.0//EN
CALSCALE:GREGORIAN
METHOD:PUBLISH
X-ORIGINAL-URL:https://downtowncommons.org
X-WR-CALDESC:Events for Downtown Commons
REFRESH-INTERVAL;VALUE=DURATION:PT1H
X-Robots-Tag:noindex
X-PUBLISHED-TTL:PT1H
BEGIN:VTIMEZONE
TZID:America/Chicago
BEGIN:DAYLIGHT
TZOFFSETFROM:-0600
TZOFFSETTO:-0500
TZNAME:CDT
DTSTART:20240310T080000
END:DAYLIGHT
BEGIN:STANDARD
TZOFFSETFROM:-0500
TZOFFSETTO:-0600
TZNAME:CST
DTSTART:20241103T070000
END:STANDARD
BEGIN:DAYLIGHT
TZOFFSETFROM:-0600
TZOFFSETTO:-0500
TZNAME:CDT
DTSTART:20250309T080000
END:DAYLIGHT
BEGIN:STANDARD
TZOFFSETFROM:-0500
TZOFFSETTO:-0600
TZNAME:CST
DTSTART:20251102T070000
END:STANDARD
BEGIN:DAYLIGHT
TZOFFSETFROM:-0600
TZOFFSETTO:-0500
TZNAME:CDT
DTSTART:20260308T080000
END:DAYLIGHT
BEGIN:STANDARD
TZOFFSETFROM:-0500
TZOFFSETTO:-0600
TZNAME:CST
DTSTART:20261101T070000
END:STANDARD
END:VTIMEZONE
BEGIN:VEVENT
DTSTART;TZID=America/Chicago:20250531T193000
DTEND;TZID=America/Chicago:20250531T213000
DTSTAMP:20260422T012427
CREATED:20250214T205626Z
LAST-MODIFIED:20250417T124735Z
UID:10001005-1748719800-1748727000@downtowncommons.org
SUMMARY:MoCo Movie Night: Harold and the Purple Crayon
DESCRIPTION:Montgomery County Parks and Recreation is excited to host another season of our MoCo Movie Nights for a family fun night at the Downtown Commons! \nCome join us on May 31 for Harold and the Purple Crayon. Don’t forget to bring your lawn chairs & blankets! Food will be available for purchase on-site. \nMovie Nights are brought to you by Altra Federal Credit Union and Kyrstin Frate\, Keller Williams Realty. \nFor more information or weather updates\, please visit us on Facebook!
URL:https://downtowncommons.org/event/moco-movie-night-harold-and-the-purple-crayon/
LOCATION:Downtown Commons\, 215 Legion Street\, Clarksville\, TN\, 37040\, United States
END:VEVENT
END:VCALENDAR