BEGIN:VCALENDAR
VERSION:2.0
PRODID:-//Downtown Commons - ECPv6.15.11//NONSGML v1.0//EN
CALSCALE:GREGORIAN
METHOD:PUBLISH
X-WR-CALNAME:Downtown Commons
X-ORIGINAL-URL:https://downtowncommons.org
X-WR-CALDESC:Events for Downtown Commons
REFRESH-INTERVAL;VALUE=DURATION:PT1H
X-Robots-Tag:noindex
X-PUBLISHED-TTL:PT1H
BEGIN:VTIMEZONE
TZID:America/Chicago
BEGIN:DAYLIGHT
TZOFFSETFROM:-0600
TZOFFSETTO:-0500
TZNAME:CDT
DTSTART:20240310T080000
END:DAYLIGHT
BEGIN:STANDARD
TZOFFSETFROM:-0500
TZOFFSETTO:-0600
TZNAME:CST
DTSTART:20241103T070000
END:STANDARD
BEGIN:DAYLIGHT
TZOFFSETFROM:-0600
TZOFFSETTO:-0500
TZNAME:CDT
DTSTART:20250309T080000
END:DAYLIGHT
BEGIN:STANDARD
TZOFFSETFROM:-0500
TZOFFSETTO:-0600
TZNAME:CST
DTSTART:20251102T070000
END:STANDARD
BEGIN:DAYLIGHT
TZOFFSETFROM:-0600
TZOFFSETTO:-0500
TZNAME:CDT
DTSTART:20260308T080000
END:DAYLIGHT
BEGIN:STANDARD
TZOFFSETFROM:-0500
TZOFFSETTO:-0600
TZNAME:CST
DTSTART:20261101T070000
END:STANDARD
END:VTIMEZONE
BEGIN:VEVENT
DTSTART;TZID=America/Chicago:20250516T190000
DTEND;TZID=America/Chicago:20250516T210000
DTSTAMP:20260422T020805
CREATED:20250214T204908Z
LAST-MODIFIED:20250516T191724Z
UID:10001002-1747422000-1747429200@downtowncommons.org
SUMMARY:CANCELLED - Downtown @ Sundown: Michael Jackson Tribute Band
DESCRIPTION:After discussing the weather forecast with the National Weather Service for this evening\, May 16\, the risk for unpredictable weather exceeds our public safety threshold. The safety of our attendees and staff is our first priority.  \nThe Downtown @ Sundown Who’s Bad Music: The Ultimate Michael Jackson Tribute Experience concert is cancelled.  \nWe apologize for the inconvenience. Join us at the Downtown Commons next Friday\, May 23 for Dueling Pianos at 7 pm! 🎶   \nVisit downtowncommons.org for the full lineup!
URL:https://downtowncommons.org/event/downtown-sundown-michael-jackson-tribute-band/
LOCATION:Downtown Commons\, 215 Legion Street\, Clarksville\, TN\, 37040\, United States
END:VEVENT
END:VCALENDAR