BEGIN:VCALENDAR
VERSION:2.0
PRODID:-//Downtown Commons - ECPv6.15.11//NONSGML v1.0//EN
CALSCALE:GREGORIAN
METHOD:PUBLISH
X-ORIGINAL-URL:https://downtowncommons.org
X-WR-CALDESC:Events for Downtown Commons
REFRESH-INTERVAL;VALUE=DURATION:PT1H
X-Robots-Tag:noindex
X-PUBLISHED-TTL:PT1H
BEGIN:VTIMEZONE
TZID:America/Chicago
BEGIN:DAYLIGHT
TZOFFSETFROM:-0600
TZOFFSETTO:-0500
TZNAME:CDT
DTSTART:20240310T080000
END:DAYLIGHT
BEGIN:STANDARD
TZOFFSETFROM:-0500
TZOFFSETTO:-0600
TZNAME:CST
DTSTART:20241103T070000
END:STANDARD
BEGIN:DAYLIGHT
TZOFFSETFROM:-0600
TZOFFSETTO:-0500
TZNAME:CDT
DTSTART:20250309T080000
END:DAYLIGHT
BEGIN:STANDARD
TZOFFSETFROM:-0500
TZOFFSETTO:-0600
TZNAME:CST
DTSTART:20251102T070000
END:STANDARD
BEGIN:DAYLIGHT
TZOFFSETFROM:-0600
TZOFFSETTO:-0500
TZNAME:CDT
DTSTART:20260308T080000
END:DAYLIGHT
BEGIN:STANDARD
TZOFFSETFROM:-0500
TZOFFSETTO:-0600
TZNAME:CST
DTSTART:20261101T070000
END:STANDARD
END:VTIMEZONE
BEGIN:VEVENT
DTSTART;TZID=America/Chicago:20250310T100000
DTEND;TZID=America/Chicago:20250310T140000
DTSTAMP:20260422T061123
CREATED:20250214T203039Z
LAST-MODIFIED:20250214T210611Z
UID:10000996-1741600800-1741615200@downtowncommons.org
SUMMARY:Spring Break Stay-Cation: Lunch on the Lawn
DESCRIPTION:Come to the Downtown Commons and grab lunch from a local restaurant or one of the food trucks and enjoy lunch outdoors. \nDon’t forget! The City of Clarksville has extended its free parking hours to include Mondays at any of its 207 streetside meters. We can’t wait to see you there!
URL:https://downtowncommons.org/event/lunch-on-the-lawn/
LOCATION:Downtown Commons\, 215 Legion Street\, Clarksville\, TN\, 37040\, United States
END:VEVENT
END:VCALENDAR